BEGIN:VCALENDAR
VERSION:2.0
PRODID:-//Common Street Spiritual Center - ECPv6.15.20//NONSGML v1.0//EN
CALSCALE:GREGORIAN
METHOD:PUBLISH
X-WR-CALNAME:Common Street Spiritual Center
X-ORIGINAL-URL:https://commonstreet.org
X-WR-CALDESC:Events for Common Street Spiritual Center
REFRESH-INTERVAL;VALUE=DURATION:PT1H
X-Robots-Tag:noindex
X-PUBLISHED-TTL:PT1H
BEGIN:VTIMEZONE
TZID:America/New_York
BEGIN:DAYLIGHT
TZOFFSETFROM:-0500
TZOFFSETTO:-0400
TZNAME:EDT
DTSTART:20230312T070000
END:DAYLIGHT
BEGIN:STANDARD
TZOFFSETFROM:-0400
TZOFFSETTO:-0500
TZNAME:EST
DTSTART:20231105T060000
END:STANDARD
BEGIN:DAYLIGHT
TZOFFSETFROM:-0500
TZOFFSETTO:-0400
TZNAME:EDT
DTSTART:20240310T070000
END:DAYLIGHT
BEGIN:STANDARD
TZOFFSETFROM:-0400
TZOFFSETTO:-0500
TZNAME:EST
DTSTART:20241103T060000
END:STANDARD
BEGIN:DAYLIGHT
TZOFFSETFROM:-0500
TZOFFSETTO:-0400
TZNAME:EDT
DTSTART:20250309T070000
END:DAYLIGHT
BEGIN:STANDARD
TZOFFSETFROM:-0400
TZOFFSETTO:-0500
TZNAME:EST
DTSTART:20251102T060000
END:STANDARD
END:VTIMEZONE
BEGIN:VEVENT
DTSTART;TZID=America/New_York:20240427T193000
DTEND;TZID=America/New_York:20240427T220000
DTSTAMP:20260423T122020
CREATED:20240129T192910Z
LAST-MODIFIED:20240129T192910Z
UID:10013343-1714246200-1714255200@commonstreet.org
SUMMARY:Cajun/Zydeco Dance Party
DESCRIPTION:The Squeezebox Stompers perform upbeat Americana music that’s great for listening and dancing.  Their spicy gumbo of Cajun\, Zydeco\, Blues\, New Orleans Classics and Originals uplift audiences out of their seats . Also\, there will be a 1/2 hour of Cajun dance instruction for beginners who are interested in learning the Two-Step and the Cajun Waltz. \nFor the past 20 years\, the band has performed throughout New England. Just recently Metronome Magazine has selected the band\, with its latest release\, as one of the top twenty bands for 2023.  “…one of New England’s finest acts.” -Brian Owens of Metronome Magazine
URL:https://commonstreet.org/event/cajun-zydeco-dance-party/
LOCATION:Common Street Spiritual Center\, 13 Common Street\, Natick\, 01760\, United States
ATTACH;FMTTYPE=image/png:https://commonstreet.org/wp-content/uploads/2024/01/7D8DB305-69C8-40BE-B7EF-04029B30966E.png
ORGANIZER;CN="Ralph Tufo":MAILTO:ralphtufo@gmail.com
END:VEVENT
END:VCALENDAR