BEGIN:VCALENDAR
VERSION:2.0
PRODID:-//Common Street Spiritual Center - ECPv6.15.20//NONSGML v1.0//EN
CALSCALE:GREGORIAN
METHOD:PUBLISH
X-WR-CALNAME:Common Street Spiritual Center
X-ORIGINAL-URL:https://commonstreet.org
X-WR-CALDESC:Events for Common Street Spiritual Center
REFRESH-INTERVAL;VALUE=DURATION:PT1H
X-Robots-Tag:noindex
X-PUBLISHED-TTL:PT1H
BEGIN:VTIMEZONE
TZID:America/New_York
BEGIN:DAYLIGHT
TZOFFSETFROM:-0500
TZOFFSETTO:-0400
TZNAME:EDT
DTSTART:20220313T070000
END:DAYLIGHT
BEGIN:STANDARD
TZOFFSETFROM:-0400
TZOFFSETTO:-0500
TZNAME:EST
DTSTART:20221106T060000
END:STANDARD
BEGIN:DAYLIGHT
TZOFFSETFROM:-0500
TZOFFSETTO:-0400
TZNAME:EDT
DTSTART:20230312T070000
END:DAYLIGHT
BEGIN:STANDARD
TZOFFSETFROM:-0400
TZOFFSETTO:-0500
TZNAME:EST
DTSTART:20231105T060000
END:STANDARD
BEGIN:DAYLIGHT
TZOFFSETFROM:-0500
TZOFFSETTO:-0400
TZNAME:EDT
DTSTART:20240310T070000
END:DAYLIGHT
BEGIN:STANDARD
TZOFFSETFROM:-0400
TZOFFSETTO:-0500
TZNAME:EST
DTSTART:20241103T060000
END:STANDARD
BEGIN:DAYLIGHT
TZOFFSETFROM:-0500
TZOFFSETTO:-0400
TZNAME:EDT
DTSTART:20250309T070000
END:DAYLIGHT
BEGIN:STANDARD
TZOFFSETFROM:-0400
TZOFFSETTO:-0500
TZNAME:EST
DTSTART:20251102T060000
END:STANDARD
END:VTIMEZONE
BEGIN:VEVENT
DTSTART;TZID=America/New_York:20240216T183000
DTEND;TZID=America/New_York:20240216T220000
DTSTAMP:20260420T233210
CREATED:20231205T000401Z
LAST-MODIFIED:20231205T000401Z
UID:10012815-1708108200-1708120800@commonstreet.org
SUMMARY:Divine Design - Ecstatic Dance & Sound Bath
DESCRIPTION:The third ‘Divine Design – Ecstatic Dance & Sound Bath’ will be held on Friday\, February 16th at the Common Street Spiritual Center in Natick\, MA! Here are the details… \n-Doors open at 6:30 for stretching\, snacking\, and socializing while music in the background sets the mood.\n-There will be an intention-setting meditation at 7:00 with a theme regarding self\, love\, relationships\, matters of the heart… you know\, all things Valentine’s Day.\n-We will then transition into dancing to delicious exotic jams\, with both DJ set/performance and live (often improv) accompaniment on a variety of instruments. This will be the ecstatic dance portion of the event.\n-Then\, cool down and ground with a sound bath featuring singing bowls\, shamanic drumming\, and more to close out the event.\n-Stick around\, have snacks\, and socialize for a bit after the sound bath if you wish! \nThere is a suggested donation of $25-35 for this event\, but if funds are a barrier to entry for you\, don’t let that stop you from enjoying this releasing\, healing\, and uplifting community event… just donate whatever you can. Every contribution will help us to keep putting on these events\, as we would like for this event to keep happening on a regular basis! \nBring anything you might want… hoops/poi/etc. for flow arts\, a yoga mat/blanket/pillow for the sound bath\, water for hydration. The center will have some yoga mats\, meditation cushions\, and blankets available for borrowing as well. \nI hope to see you there to jive\, shake\, wiggle\, jump\, twirl\, and other words that describe movement… \nPeace & Respect\,\nJason A. Karol \nP.S. – To go along with the Valentine’s Day theme\, an attendee at the December ‘Divine Design’ gave me an idea. The idea? To create a setlist for this Valentine’s Day ‘Divine Design’ that tells a relationship story through music… a movie for the ears/mind\, if you will. Challenge accepted! ? I won’t give away the plot of the story before the event though. If you want to know what happens to our soul-crossed symbolic lovers\, you’ll just have to come\, dance\, and find out on February 16th! ??✨
URL:https://commonstreet.org/event/divine-design-ecstatic-dance-sound-bath-3/
LOCATION:Common Street Spiritual Center\, 13 Common Street\, Natick\, 01760\, United States
CATEGORIES:Dance,Music and Arts
ATTACH;FMTTYPE=image/jpeg:https://commonstreet.org/wp-content/uploads/2023/12/Header.jpg
ORGANIZER;CN="Jason Karol":MAILTO:MetalionMusicOfficial@gmail.com
END:VEVENT
BEGIN:VEVENT
DTSTART;TZID=America/New_York:20240112T183000
DTEND;TZID=America/New_York:20240112T213000
DTSTAMP:20260420T233210
CREATED:20231205T000355Z
LAST-MODIFIED:20231205T000355Z
UID:10012816-1705084200-1705095000@commonstreet.org
SUMMARY:Ecstatic Dance & Sound Bath - With the Electric Nomads
DESCRIPTION:The Electric Nomads return to the Common Street Spiritual Center for another ecstatic dance + sound bath gathering. \nJoin us for an evening of freeform movement and dance to the live grooves of the Electric Nomads as they take you on an musical journey that begins slowly and gradually builds up and up until everyone is soaring\, then gently returning you to Mother Earth to rest on the waves of a lush sound bath meditation. \nThe Electric Nomads are musical alchemists\, fusing acoustic and electronic elements to form a funky melange of world instruments and chanted vocalizations woven around a core of monster bass grooves and driving beats. But the Nomads also know the ways of sublime sound that can be flowing\, soothing and delicate. \nDoors open at 6:30pm and the opening ceremony starts at 7:00pm. Please arrive before 7:00 so you can settle in before things get rolling. We prefer that people not arrive late\, in order to avoid disrupting the flow. \nThe Electric Nomads are:\nDave Santospago (guitar/bass/vocals)\nDave Curry (electronic percussion/vocals)\nJason Karol (drums/synth/flute/3-tar/vocals) \nBring along a water bottle and a blanket or yoga mat if you choose to lie down for the sound bath meditation. \nSuggested donation of $20+ per person (cash\, Paypal or Venmo).
URL:https://commonstreet.org/event/ecstatic-dance-sound-bath-with-the-electric-nomads/
LOCATION:Common Street Spiritual Center\, 13 Common Street\, Natick\, 01760\, United States
CATEGORIES:Dance
ATTACH;FMTTYPE=image/jpeg:https://commonstreet.org/wp-content/uploads/2023/12/Ecstatic.jpg
ORGANIZER;CN="Dave Curry":MAILTO:drumhead@drumsforoneandall.com
END:VEVENT
BEGIN:VEVENT
DTSTART;TZID=America/New_York:20231201T180000
DTEND;TZID=America/New_York:20231201T220000
DTSTAMP:20260420T233210
CREATED:20230928T111945Z
LAST-MODIFIED:20230928T111945Z
UID:10011271-1701453600-1701468000@commonstreet.org
SUMMARY:Divine Design - Ecstatic Dance & Sound Bath
DESCRIPTION:The second ‘Divine Design – Ecstatic Dance & Sound Bath’ will be held on Friday\, December 1st at the Common Street Spiritual Center in Natick\, MA! Here are the details…\n-Doors open at 6:00 for stretching\, snacking\, and socializing while music in the background sets the mood. \n-There will be an intention-setting meditation at 7:00\, with a theme coinciding with the winter solstice. We will then transition into dancing to delicious exotic jams\, with both DJ set/performance and live (often improv) accompaniment on a variety of instruments. This will be the ecstatic dance portion of the event.\n-Then\, cool down and ground with a sound bath featuring singing bowls\, shamanic drumming\, and more to close out the event.\n-Stick around\, have snacks\, and socialize for a bit after the sound bath if you wish! \nThere is a suggested donation of $25-35 for this event\, but if funds are a barrier to entry for you\, don’t let that stop you from enjoying this releasing\, healing\, and uplifting community event… just donate whatever you can. Every contribution will help us to keep putting on these events\, as we would like for this event to keep happening on a regular basis! \nBring anything you might want… hoops/poi/etc. for flow arts\, a yoga mat/blanket/pillow for the sound bath\, water for hydration. The center will have some meditation cushions and blankets available for borrowing as well.\nI hope to see you there to jive\, shake\, wiggle\, jump\, twirl\, and other words that describe movement… \nPeace & Respect\,\nJason A. Karol
URL:https://commonstreet.org/event/divine-design-ecstatic-dance-sound-bath-2/
LOCATION:Common Street Spiritual Center\, 13 Common Street\, Natick\, 01760\, United States
ATTACH;FMTTYPE=image/jpeg:https://commonstreet.org/wp-content/uploads/2023/09/Divine-Design-Header.jpg
ORGANIZER;CN="Jason Karol":MAILTO:MetalionMusicOfficial@gmail.com
END:VEVENT
BEGIN:VEVENT
DTSTART;TZID=America/New_York:20231110T190000
DTEND;TZID=America/New_York:20231110T213000
DTSTAMP:20260420T233210
CREATED:20230927T193220Z
LAST-MODIFIED:20230927T193220Z
UID:10011273-1699642800-1699651800@commonstreet.org
SUMMARY:Ecstatic Dance Event - Featuring Electric Nomads
DESCRIPTION:The Electric Nomads return to the Common Street Spiritual Center for another ecstatic dance gathering. \nCome join us for an evening of freeform movement and dance to the live grooves of the Electric Nomads as they take you on an musical journey that begins slowly and gradually builds up and up until everyone is soaring\, and then gently returning you to Mother Earth to rest on the waves of a lush sound bath meditation. \nThe Electric Nomads are musical alchemists\, fusing acoustic and electronic elements to form a funky melange of world instruments and chanted vocalizations woven around a core of monster bass grooves and percussive beats. But E.N. also knows the way of sublime sounds that are flowing\, soothing and delicate. \nPlease arrive no later than 7pm so you can settle in before the opening ceremony. We prefer that people not arrive late\, in order to avoid disrupting the flow once the wheels get turning. \nThe members of the Electric Nomads include Dave Santospago\, Dave Curry\, Jason Karol and Bruno Giles. \nBring along a water bottle\, any kind of flow props that are appropriate for a group dance environment and a blanket or yoga mat to lie down for the final meditation at the end of the night. \nSuggested donation of $20+ per person (cash\, Paypal or Venmo).
URL:https://commonstreet.org/event/ecstatic-dance-event-featuring-electric-nomads/
LOCATION:Common Street Spiritual Center\, 13 Common Street\, Natick\, 01760\, United States
CATEGORIES:Dance,Music and Arts
ATTACH;FMTTYPE=image/jpeg:https://commonstreet.org/wp-content/uploads/2023/09/Nomads-Ecstatic.jpg
ORGANIZER;CN="Jason Karol":MAILTO:MetalionMusicOfficial@gmail.com
END:VEVENT
BEGIN:VEVENT
DTSTART;TZID=America/New_York:20231103T183000
DTEND;TZID=America/New_York:20231103T220000
DTSTAMP:20260420T233210
CREATED:20230927T193152Z
LAST-MODIFIED:20230927T193152Z
UID:10011272-1699036200-1699048800@commonstreet.org
SUMMARY:52:db - Moving Musical Meditations (Halloween Edition)!
DESCRIPTION:Join 52:db (Jason A. Karol and Trevor McCabe… sometimes with various musical and flow arts guest collaborators)! This will be an evening of composed and improvised music in a variety of styles. Sit and listen\, lie down and meditate\, get up and dance… there will be space to accommodate all of those options! This event is part concert\, part sound journey\, part flow arts dance space! We want to take you on a musical\, spiritual\, and emotional journey! \nSince this will fall on the week that includes Halloween\, costumes are encouraged! The performers will be rockin’ some cool threads for sure! ? \n-Doors open at 6:30\n-Music from 7:30-9:30 (with 10 minute intermission at 8:30)\n-Socialize and snack after from 9:30-10:00 \nIf you would like to support the team bringing this event to life\, the Common Street Spiritual Center\, and future 52:db events\, you can give a donation of your choosing (suggested donation $25-35) at the venue the day of show. I don’t want cost to be a barrier to folks. If you can’t afford the suggested donation and want to come on down\, donate whatever you feel is within your bandwidth… every dollar helps bring these events to life!\n————————-\nSome examples of 52:db’s music:\nhttps://www.youtube.com/watch?v=uYGph7KXTq0\nhttps://www.youtube.com/watch?v=JMGmd2zGV9E\n————————-\nFeel free to bring snacks for the ‘Snack Share’ table. Any artists who are interested in setting up space to vend\, contact Jason to discuss. \nContact Jason at MetalionMusicOfficial@gmail.com with any questions.\nCome out and help make this event a great community-building experience! \n…Peace & Respect…
URL:https://commonstreet.org/event/52db-moving-musical-meditations-halloween-edition/
LOCATION:Common Street Spiritual Center\, 13 Common Street\, Natick\, 01760\, United States
CATEGORIES:Dance,Music and Arts
ATTACH;FMTTYPE=image/jpeg:https://commonstreet.org/wp-content/uploads/2023/09/52-MMM.jpg
ORGANIZER;CN="Jason Karol":MAILTO:MetalionMusicOfficial@gmail.com
END:VEVENT
BEGIN:VEVENT
DTSTART;TZID=America/New_York:20230922T180000
DTEND;TZID=America/New_York:20230922T210000
DTSTAMP:20260420T233210
CREATED:20230829T204422Z
LAST-MODIFIED:20230905T001002Z
UID:10008802-1695405600-1695416400@commonstreet.org
SUMMARY:Divine Design - Ecstatic Dance & Sound Bath
DESCRIPTION:The innaugural ‘Divine Design – Ecstatic Dance & Sound Bath’ will be held on Friday\, September 22nd at the Common Street Spiritual Center in Natick\, MA! Here are the details…\n-Doors open at 6:00 for stretching\, snacking\, and socializing while gentle music sets the mood.\n-There will be an open intention-setting meditation at 7:00\, with a theme coinciding with the autumn equinox. We will then transition into dancing to delicious exotic jams\, with both DJ set/performance and live (often improv) accompaniment on a variety of instruments. This will be the ecstatic dance portion of the event and will run until approx. 8:30.\n-Then\, Lara Woolfson will help us all cool down and ground with a sound bath featuring singing bowls\, shamanic drumming\, and more to close out the event.\nThere is a suggested donation of $25-35 for this event\, but if funds are a barrier to entry for you\, don’t let that stop you from enjoying this releasing\, healing\, and uplifting community event… just donate whatever you can. Every contribution will help us to keep putting on these events\, as we would like for this to become a recurring shindig!\nBring anything you might want… hoops/poi/etc. for flow arts\, a yoga mat/blanket/pillow for the sound bath\, water for hydration. The center will have some meditation cushions and blankets available for borrowing as well.\nI hope to see you there to jive\, shake\, wiggle\, jump\, twirl\, and other words that describe movement…\nPeace & Respect\,\nJason A. Karol
URL:https://commonstreet.org/event/divine-design-ecstatic-dance-sound-bath/
LOCATION:Sanctuary at Common Street Spiritual Center\, 13 Common Street\, Natick\, MA\, 01760\, United States
CATEGORIES:Community,Dance,Healing,Spiritual
ATTACH;FMTTYPE=image/jpeg:https://commonstreet.org/wp-content/uploads/2023/08/divine-design.jpg
ORGANIZER;CN="Jason Karol":MAILTO:MetalionMusicOfficial@gmail.com
END:VEVENT
BEGIN:VEVENT
DTSTART;TZID=America/New_York:20230818T200000
DTEND;TZID=America/New_York:20230818T220000
DTSTAMP:20260420T233210
CREATED:20230808T220653Z
LAST-MODIFIED:20230810T134133Z
UID:10008514-1692388800-1692396000@commonstreet.org
SUMMARY:Freestyle Dance - Featuring Electric Nomads
DESCRIPTION:Do you want to turn off your mind\, turn up your connection to your body for a bit at the end of a week\, and sink into whatever movements feel good to you? Do you like ecstatic dance\, flow arts\, yoga\, and having the space to improvise movements freestyle along with improvised groovy music? Then come to the Common Street Spiritual Center in Natick\, MA on the evening of August 18th! There will be an opening ceremony promptly at 8:00 p.m.\, so please arrive before that to settle in and be present to the arc of the experience. Music and dancing will continue until 10:00 p.m. \nThe music will consist of completely live improvisation that traverses a lot of terrain: from meditative and flowy to groovy\, funky\, and intense. The Electric Nomads blend drumming with bass guitar\, synthesizer\, electronic and acoustic elements\, and world instruments to create a sonic fusion in a variety of styles. The Electric Nomads features Dave Curry\, Bruno Giles\, Jason Karol\, and Dave Santospago. \nThere is a suggested donation of $20 for this event. Cash\, PayPal\, and venmo all accepted at the doors day of event.
URL:https://commonstreet.org/event/freestyle-dance-featuring-electric-nomads/
LOCATION:Sanctuary at Common Street Spiritual Center\, 13 Common Street\, Natick\, MA\, 01760\, United States
ORGANIZER;CN="Dave Curry":MAILTO:drumhead@drumsforoneandall.com
END:VEVENT
BEGIN:VEVENT
DTSTART;TZID=America/New_York:20230729T080000
DTEND;TZID=America/New_York:20230729T170000
DTSTAMP:20260420T233210
CREATED:20230614T170156Z
LAST-MODIFIED:20230627T170455Z
UID:10007837-1690617600-1690650000@commonstreet.org
SUMMARY:Summer Day Hike -- Mount Monadnock
DESCRIPTION:Jason Karol invites you to take part in a group hike! Enjoy a summer day outdoors getting exercise and having conversations with like-minded individuals. \nStrongly recommended: a backpack with water\, food\, an over-shirt… anything you might need going up and down the mountain. \nSaturday\, July 15th: Meet at Common Street Spiritual Center at 8:00a.m. for carpooling to the mountain\, or meet us at the mountain around 10:00a.m. Expect to be hiking from around 10:00a.m. through the afternoon. \nIf enough people want to carpool from Natick to the mountain\, a rental van can be organized. \nWe will be hiking up the ‘White Dot Trail\,’ so for those who choose to meet at the mountain\, please park in the lot at the start of that trail. \nTo coordinate carpooling and to reach out with any questions\, please email Jason at Metalionmusicofficial@gmail.com \nPlease RSVP to let Jason know if you are going and if you would like to meet at the center or meet at the mountain. \nHope to see you for a fun day of mountaineering! \nPeace & Respect\,\nJason
URL:https://commonstreet.org/event/summer-day-hike-mount-monadnock/
ATTACH;FMTTYPE=image/jpeg:https://commonstreet.org/wp-content/uploads/2023/06/csm_monadnock-2010-10-18_5382431a74.jpg
ORGANIZER;CN="Jason Karol":MAILTO:MetalionMusicOfficial@gmail.com
END:VEVENT
BEGIN:VEVENT
DTSTART;TZID=America/New_York:20230520T150000
DTEND;TZID=America/New_York:20230520T170000
DTSTAMP:20260420T233210
CREATED:20230427T004309Z
LAST-MODIFIED:20230428T130906Z
UID:10006245-1684594800-1684602000@commonstreet.org
SUMMARY:Show & Share
DESCRIPTION:Held in a community circle format\, this event is free of charge (donations accepted) and will provide space for folks to gather face-to-face. It will be a place where people can connect in a vibe of safety\, spiritual communion\, openness\, honesty\, and non-judgement to share whatever they wish. My hope is for this to be something of a compassionate and open-hearted ‘show and tell’ for adults\, a place where the inner child can have space to play freely\, experience emotional release\, and heal through the joy of supportive human connection! \nIf you want to share feelings: fears\, joys\, and get into deep places that are often difficult in surface-level conversations\, you are welcome. If you choose to share stories\, poems\, songs\, life experiences\, you are welcome. Want to share creative emotional expression\, dance\, photo albums\, or something else that is important to you? YOU ARE WELCOME!\n—————\n-At the open and close of each meeting I will facilitate a short sound healing and guided meditation. Also\, if a few people bring instruments\, we could do a peaceful jam session at the end of the event… I’m always up for those!\n-While I don’t wish to make any topics explicitly off limits\, we will practice compassionate and respectful communication. There will be a ‘talking stick’ of some sort\, so the only ground rules will be: don’t interrupt while someone is sharing\, don’t respond directly to a share without asking permission first\, and please do not use derogatory/demeaning language or point aggressive communication/anger at anyone.\n-There is no commitment required. Come to one circle or come on a regular basis. This is not a closed or ‘regular members only’ event. \n-I will bring a limited amount of snacks. Anyone who wants to bring food and/or non-alcoholic beverages to share\, you welcome to do so.\n-This group will meet in the Meditation Room on the 3rd floor.\n—————\nI hope to build a supportive and connected community around this gathering\, which will be held on a bi-weekly basis (regular recurring time open to group discussion and potentially subject to change). If you have any questions\, please reach out to Jason at MetalionMusicOfficial@gmail.com or (508)254-0263. \n*Please note that the end time of the gathering will be organic and will flow with being in the moment on that day. 5:00pm is a loose target. Anyone who wants to come but needs to come after 3:00pm or leave before 5:00pm can feel free to do so knowing that it will be received with acceptance and grace.* \nPeace & Respect\,\nJason Karol
URL:https://commonstreet.org/event/show-share/
LOCATION:Meditation Room @ Common Street\, 13 Common Street\, Natick\, 01760\, United States
CATEGORIES:Community,Dialogue,Healing,Meditation,Meeting,Music and Arts
ATTACH;FMTTYPE=image/jpeg:https://commonstreet.org/wp-content/uploads/2023/04/sharing-circle.jpg
ORGANIZER;CN="Jason Karol":MAILTO:MetalionMusicOfficial@gmail.com
END:VEVENT
END:VCALENDAR