BEGIN:VCALENDAR
VERSION:2.0
PRODID:-//Common Street Spiritual Center - ECPv6.15.20//NONSGML v1.0//EN
CALSCALE:GREGORIAN
METHOD:PUBLISH
X-ORIGINAL-URL:https://commonstreet.org
X-WR-CALDESC:Events for Common Street Spiritual Center
REFRESH-INTERVAL;VALUE=DURATION:PT1H
X-Robots-Tag:noindex
X-PUBLISHED-TTL:PT1H
BEGIN:VTIMEZONE
TZID:America/New_York
BEGIN:DAYLIGHT
TZOFFSETFROM:-0500
TZOFFSETTO:-0400
TZNAME:EDT
DTSTART:20220313T070000
END:DAYLIGHT
BEGIN:STANDARD
TZOFFSETFROM:-0400
TZOFFSETTO:-0500
TZNAME:EST
DTSTART:20221106T060000
END:STANDARD
BEGIN:DAYLIGHT
TZOFFSETFROM:-0500
TZOFFSETTO:-0400
TZNAME:EDT
DTSTART:20230312T070000
END:DAYLIGHT
BEGIN:STANDARD
TZOFFSETFROM:-0400
TZOFFSETTO:-0500
TZNAME:EST
DTSTART:20231105T060000
END:STANDARD
BEGIN:DAYLIGHT
TZOFFSETFROM:-0500
TZOFFSETTO:-0400
TZNAME:EDT
DTSTART:20240310T070000
END:DAYLIGHT
BEGIN:STANDARD
TZOFFSETFROM:-0400
TZOFFSETTO:-0500
TZNAME:EST
DTSTART:20241103T060000
END:STANDARD
END:VTIMEZONE
BEGIN:VEVENT
DTSTART;TZID=America/New_York:20231230T160000
DTEND;TZID=America/New_York:20231230T180000
DTSTAMP:20260421T074652
CREATED:20231221T150522Z
LAST-MODIFIED:20231221T150700Z
UID:10012961-1703952000-1703959200@commonstreet.org
SUMMARY:Group Healing Circle- Welcoming in the New 2024 Energies
DESCRIPTION:Release what’s ready to be released. Led by Diana Phillips \nWe gather together to align ourselves to the new\, powerful energies of 2024.\nWhat is a Group Healing Circle? \nGroup healings are a powerful opportunity for participants to clear and release issues shared collectively. The nature of the collective group energy field amplifies the healing that is imparted. Each group healing is different\, since Spirit determines what we will address. Sometimes\, we work deeply to release a concern like fear held in the body. At other times\, Spirit upgrades our energy system\, giving us tools to help others. The healings are transformative and support our awakening. Usually\, group healings last 45-60 minutes. Participants are welcome to ask for support with a specific matter beforehand. During the group healing\, we meditate and Diana brings through what Spirit offers us. After the healing\, we meditate in the stillness. Finally\, those who are moved to are invited to share their experiences. \nHow are the healings transmitted? Diana leads group healings with help from Spirit\, the Arenal Volcano\, Jaguar energy\, and the Archangels. \nDiana Phillips- is a gifted practitioner who has worked in the healing arts since 2004. In the last few years\, Spirit has given her a very strong set of healing energies that she uses to release issues of our physical\, mental\, and emotional bodies\, our souls\, past lives\, and ancestral lineage. \nWhat participants say about past group healings: \n“Diana has created a beautiful space for people to come together and connect with one another. Through guided meditation\, imagery\, and Spirit\, we are magically transformed by the intertwining tapestry of physical and spiritual communion. Diana freely shares her gifts of connection with Spirit and beautifully facilitates a safe\, non-judgmental space for people. I am always in awe of the peace and renewal I feel at the end of each session. This is a MUST for those committed to healing and growth.”- Sara S \nhttps://buytickets.at/dianaphillips/1094508
URL:https://commonstreet.org/event/group-healing-circle-welcoming-in-the-new-2024-energies/
LOCATION:Common Street Spiritual Center\, 13 Common Street\, Natick\, 01760\, United States
CATEGORIES:Healing,Meditation
ORGANIZER;CN="Diana Phillips":MAILTO:info@soul13.net
END:VEVENT
END:VCALENDAR