BEGIN:VCALENDAR
VERSION:2.0
PRODID:-//Common Street Spiritual Center - ECPv6.15.20//NONSGML v1.0//EN
CALSCALE:GREGORIAN
METHOD:PUBLISH
X-WR-CALNAME:Common Street Spiritual Center
X-ORIGINAL-URL:https://commonstreet.org
X-WR-CALDESC:Events for Common Street Spiritual Center
REFRESH-INTERVAL;VALUE=DURATION:PT1H
X-Robots-Tag:noindex
X-PUBLISHED-TTL:PT1H
BEGIN:VTIMEZONE
TZID:America/New_York
BEGIN:DAYLIGHT
TZOFFSETFROM:-0500
TZOFFSETTO:-0400
TZNAME:EDT
DTSTART:20270314T070000
END:DAYLIGHT
BEGIN:STANDARD
TZOFFSETFROM:-0400
TZOFFSETTO:-0500
TZNAME:EST
DTSTART:20271107T060000
END:STANDARD
BEGIN:DAYLIGHT
TZOFFSETFROM:-0500
TZOFFSETTO:-0400
TZNAME:EDT
DTSTART:20280312T070000
END:DAYLIGHT
BEGIN:STANDARD
TZOFFSETFROM:-0400
TZOFFSETTO:-0500
TZNAME:EST
DTSTART:20281105T060000
END:STANDARD
BEGIN:DAYLIGHT
TZOFFSETFROM:-0500
TZOFFSETTO:-0400
TZNAME:EDT
DTSTART:20290311T070000
END:DAYLIGHT
BEGIN:STANDARD
TZOFFSETFROM:-0400
TZOFFSETTO:-0500
TZNAME:EST
DTSTART:20291104T060000
END:STANDARD
END:VTIMEZONE
BEGIN:VEVENT
DTSTART;TZID=America/New_York:20281101T190000
DTEND;TZID=America/New_York:20281101T201500
DTSTAMP:20260422T100958
CREATED:20231219T160043Z
LAST-MODIFIED:20231219T160045Z
UID:10012953-1856718000-1856722500@commonstreet.org
SUMMARY:Beginner Ballet
DESCRIPTION:
URL:https://commonstreet.org/event/adult-ballet-4/2028-11-01/
END:VEVENT
BEGIN:VEVENT
DTSTART;TZID=America/New_York:20281108T190000
DTEND;TZID=America/New_York:20281108T201500
DTSTAMP:20260422T100958
CREATED:20231219T160043Z
LAST-MODIFIED:20231219T160045Z
UID:10012954-1857322800-1857327300@commonstreet.org
SUMMARY:Beginner Ballet
DESCRIPTION:
URL:https://commonstreet.org/event/adult-ballet-4/2028-11-08/
END:VEVENT
BEGIN:VEVENT
DTSTART;TZID=America/New_York:20281115T190000
DTEND;TZID=America/New_York:20281115T201500
DTSTAMP:20260422T100958
CREATED:20231219T160043Z
LAST-MODIFIED:20231219T160045Z
UID:10012955-1857927600-1857932100@commonstreet.org
SUMMARY:Beginner Ballet
DESCRIPTION:
URL:https://commonstreet.org/event/adult-ballet-4/2028-11-15/
END:VEVENT
BEGIN:VEVENT
DTSTART;TZID=America/New_York:20281122T190000
DTEND;TZID=America/New_York:20281122T201500
DTSTAMP:20260422T100958
CREATED:20231219T160043Z
LAST-MODIFIED:20231219T160045Z
UID:10012956-1858532400-1858536900@commonstreet.org
SUMMARY:Beginner Ballet
DESCRIPTION:
URL:https://commonstreet.org/event/adult-ballet-4/2028-11-22/
END:VEVENT
BEGIN:VEVENT
DTSTART;TZID=America/New_York:20281129T190000
DTEND;TZID=America/New_York:20281129T201500
DTSTAMP:20260422T100958
CREATED:20231219T160043Z
LAST-MODIFIED:20231219T160045Z
UID:10012957-1859137200-1859141700@commonstreet.org
SUMMARY:Beginner Ballet
DESCRIPTION:
URL:https://commonstreet.org/event/adult-ballet-4/2028-11-29/
END:VEVENT
BEGIN:VEVENT
DTSTART;TZID=America/New_York:20281206T190000
DTEND;TZID=America/New_York:20281206T201500
DTSTAMP:20260422T100958
CREATED:20231219T160043Z
LAST-MODIFIED:20231219T160045Z
UID:10012958-1859742000-1859746500@commonstreet.org
SUMMARY:Beginner Ballet
DESCRIPTION:
URL:https://commonstreet.org/event/adult-ballet-4/2028-12-06/
END:VEVENT
BEGIN:VEVENT
DTSTART;TZID=America/New_York:20281213T190000
DTEND;TZID=America/New_York:20281213T201500
DTSTAMP:20260422T100958
CREATED:20231219T160043Z
LAST-MODIFIED:20231219T160045Z
UID:10012959-1860346800-1860351300@commonstreet.org
SUMMARY:Beginner Ballet
DESCRIPTION:
URL:https://commonstreet.org/event/adult-ballet-4/2028-12-13/
END:VEVENT
END:VCALENDAR