BEGIN:VCALENDAR
VERSION:2.0
PRODID:-//Common Street Spiritual Center - ECPv6.15.20//NONSGML v1.0//EN
CALSCALE:GREGORIAN
METHOD:PUBLISH
X-WR-CALNAME:Common Street Spiritual Center
X-ORIGINAL-URL:https://commonstreet.org
X-WR-CALDESC:Events for Common Street Spiritual Center
REFRESH-INTERVAL;VALUE=DURATION:PT1H
X-Robots-Tag:noindex
X-PUBLISHED-TTL:PT1H
BEGIN:VTIMEZONE
TZID:America/New_York
BEGIN:DAYLIGHT
TZOFFSETFROM:-0500
TZOFFSETTO:-0400
TZNAME:EDT
DTSTART:20240310T070000
END:DAYLIGHT
BEGIN:STANDARD
TZOFFSETFROM:-0400
TZOFFSETTO:-0500
TZNAME:EST
DTSTART:20241103T060000
END:STANDARD
BEGIN:DAYLIGHT
TZOFFSETFROM:-0500
TZOFFSETTO:-0400
TZNAME:EDT
DTSTART:20250309T070000
END:DAYLIGHT
BEGIN:STANDARD
TZOFFSETFROM:-0400
TZOFFSETTO:-0500
TZNAME:EST
DTSTART:20251102T060000
END:STANDARD
BEGIN:DAYLIGHT
TZOFFSETFROM:-0500
TZOFFSETTO:-0400
TZNAME:EDT
DTSTART:20260308T070000
END:DAYLIGHT
BEGIN:STANDARD
TZOFFSETFROM:-0400
TZOFFSETTO:-0500
TZNAME:EST
DTSTART:20261101T060000
END:STANDARD
END:VTIMEZONE
BEGIN:VEVENT
DTSTART;TZID=America/New_York:20251227T114500
DTEND;TZID=America/New_York:20251227T124500
DTSTAMP:20260421T191406
CREATED:20250625T131938Z
LAST-MODIFIED:20250625T131940Z
UID:10019299-1766835900-1766839500@commonstreet.org
SUMMARY:Bollywood Dance Workout
DESCRIPTION:Whoever said no pain no gain\, obviously has never worked out to Bollywood music. Join me for BollyX – Bollywood Dance Workout. Let’s dance and workout together to remain healthy\, physically and mentally while having lots of fun! \nGet ready to groove to the beats of the vibrant Bollywood tunes while burning 400 – 800 calories. No prior dance experience is required; I will guide you through the steps\, show modifications and ensure a fun-filled session. So\, grab your friends or make new friends at the class\, put on your dancing shoes\, and get ready to unleash your inner Bollywood star! \nRegister here: https://www.thebollywooddance.com/booking-calendar/bollyx-in-natick?referral=service_list_widget
URL:https://commonstreet.org/event/bollywood-dance-workout-3-3-2-2-3-2-2-3/2025-12-27/
LOCATION:Moon Room @ Common Street Spiritual Center\, 13 Common Street\, Natick\, 01760\, United States
CATEGORIES:Cultural,Dance,Music and Arts
ATTACH;FMTTYPE=image/png:https://commonstreet.org/wp-content/uploads/2025/01/BollyX-2025-Poster-1.png
ORGANIZER;CN="Purnima Thakre":MAILTO:purnimabollyx@gmail.com
END:VEVENT
BEGIN:VEVENT
DTSTART;TZID=America/New_York:20251227T170000
DTEND;TZID=America/New_York:20251227T210000
DTSTAMP:20260421T191406
CREATED:20251031T154847Z
LAST-MODIFIED:20251211T163623Z
UID:10024357-1766854800-1766869200@commonstreet.org
SUMMARY:Rite of the Womb
DESCRIPTION:Join us for The Rite of the Womb\, a monthly women’s circle\, typically held every third Saturday at Common Street Spiritual Center in Natick. \n\nThis sacred gathering offers a space to connect\, heal\, and celebrate your feminine essence through empowering workshops and sacred sisterhood. The evening culminates in the Rite of the Womb\, a shamanic ceremony for releasing fear and ancestral pain to reclaim your inner power. Throughout the evening\, you’ll be embraced by a supportive women’s community\, fostering connections that uplift and inspire. \nAs the year winds down and the emotions stirred by holiday gatherings rise to the surface\, we’re offered a powerful moment to pause\, reflect\, and reset. This threshold between one year ending and a new one beginning is an ideal time to release what no longer serves and consciously invite in what you wish to cultivate. For this month’s Rite of the Womb\, we will be working with the elements through powerful water and fire ceremonies for cleansing and transformation. Through the soothing\, nourishing flow of water and the igniting\, transmutative energy of fire\, you’ll be guided to let go of the old while awakening clarity and intention for the year ahead. Honoring the complementary forces of the elements\, we create a sacred ceremonial space with ritual practices to dissolve the past\, open the heart\, and manifest new possibilities with purpose and renewal. \nSuggested items to bring if you feel called: \n\na waterbottle or personal beverage\na snack to share with the group\njournal and/or writing utensil\ndivination tools you work with\nList of what you would like to release and/or what you would like to manifest\nOfferings for the fire and water\nitems to be honored on the communal altar\ninstruments\, rattles or drums\nanything else that you feel can support you or the space\n\nContact Sherry at owls.rising@gmail.com or via text or WhatsApp at 617-980-6022 with any questions or concerns. \nAlthough preregistration is not required\, it is helpful for event preparations. Suggested donation to support the center\, workshop supplies and the group is $22 to $44\, although no one will be turned away for financial hardship.   \nPreregister using the following form link: https://forms.gle/SiZUYrMemju433yK8
URL:https://commonstreet.org/event/rite-of-the-womb-mothers-blessing-3/
LOCATION:Sanctuary at Common Street Spiritual Center\, 13 Common Street\, Natick\, MA\, 01760\, United States
CATEGORIES:Community,Cultural,Healing,Meeting,Other,Spiritual,Talk,Women,Workshop
ATTACH;FMTTYPE=image/png:https://commonstreet.org/wp-content/uploads/2025/10/riteofthewombcircle.png
ORGANIZER;CN="Sherry Solchenberger":MAILTO:sherrysolchnp@gmail.com
END:VEVENT
END:VCALENDAR