BEGIN:VCALENDAR
VERSION:2.0
PRODID:-//Common Street Spiritual Center - ECPv6.15.20//NONSGML v1.0//EN
CALSCALE:GREGORIAN
METHOD:PUBLISH
X-ORIGINAL-URL:https://commonstreet.org
X-WR-CALDESC:Events for Common Street Spiritual Center
REFRESH-INTERVAL;VALUE=DURATION:PT1H
X-Robots-Tag:noindex
X-PUBLISHED-TTL:PT1H
BEGIN:VTIMEZONE
TZID:America/New_York
BEGIN:DAYLIGHT
TZOFFSETFROM:-0500
TZOFFSETTO:-0400
TZNAME:EDT
DTSTART:20240310T070000
END:DAYLIGHT
BEGIN:STANDARD
TZOFFSETFROM:-0400
TZOFFSETTO:-0500
TZNAME:EST
DTSTART:20241103T060000
END:STANDARD
BEGIN:DAYLIGHT
TZOFFSETFROM:-0500
TZOFFSETTO:-0400
TZNAME:EDT
DTSTART:20250309T070000
END:DAYLIGHT
BEGIN:STANDARD
TZOFFSETFROM:-0400
TZOFFSETTO:-0500
TZNAME:EST
DTSTART:20251102T060000
END:STANDARD
BEGIN:DAYLIGHT
TZOFFSETFROM:-0500
TZOFFSETTO:-0400
TZNAME:EDT
DTSTART:20260308T070000
END:DAYLIGHT
BEGIN:STANDARD
TZOFFSETFROM:-0400
TZOFFSETTO:-0500
TZNAME:EST
DTSTART:20261101T060000
END:STANDARD
END:VTIMEZONE
BEGIN:VEVENT
DTSTART;TZID=America/New_York:20250912T093000
DTEND;TZID=America/New_York:20250912T104500
DTSTAMP:20260422T041709
CREATED:20250809T185533Z
LAST-MODIFIED:20250809T185533Z
UID:10023338-1757669400-1757673900@commonstreet.org
SUMMARY:Yoga with Live Drumming + Diaper Drive
DESCRIPTION:Bruno and Maggie have collaborated on various movement and drumming exploratory programs both in Natick and Provincetown. This time\, they come together to offer deep-dive embodied movement with percussion rhythm and beat. Natick Drum Circle core member\, Bruno Giles and embodied movement\, yoga\, and relaxation guide\, Maggie Sky invite you to completely drop in–completely–Breathe. Move. Let Go. Unplug. And explore how rhythm and beats affects you on a profound level\, so that you can feel nourished\, resourced\, and invigorated. \nSuggested donation: $25 or a 1 or 2 boxes of diapers\, which will go to the Natick Service Council to provide diapers for families who need them.
URL:https://commonstreet.org/event/yoga-with-live-drumming-diaper-drive/
LOCATION:Sanctuary at Common Street Spiritual Center\, 13 Common Street\, Natick\, MA\, 01760\, United States
CATEGORIES:Benefit,Community,Yoga
ATTACH;FMTTYPE=image/png:https://commonstreet.org/wp-content/uploads/2025/08/yoga-drumming-diaper-drive.png
ORGANIZER;CN="Maggie Sky":MAILTO:learn2relax@yahoo.com
END:VEVENT
BEGIN:VEVENT
DTSTART;TZID=America/New_York:20250913T114500
DTEND;TZID=America/New_York:20250913T124500
DTSTAMP:20260422T041709
CREATED:20250625T131938Z
LAST-MODIFIED:20250625T131940Z
UID:10019284-1757763900-1757767500@commonstreet.org
SUMMARY:Bollywood Dance Workout
DESCRIPTION:Whoever said no pain no gain\, obviously has never worked out to Bollywood music. Join me for BollyX – Bollywood Dance Workout. Let’s dance and workout together to remain healthy\, physically and mentally while having lots of fun! \nGet ready to groove to the beats of the vibrant Bollywood tunes while burning 400 – 800 calories. No prior dance experience is required; I will guide you through the steps\, show modifications and ensure a fun-filled session. So\, grab your friends or make new friends at the class\, put on your dancing shoes\, and get ready to unleash your inner Bollywood star! \nRegister here: https://www.thebollywooddance.com/booking-calendar/bollyx-in-natick?referral=service_list_widget
URL:https://commonstreet.org/event/bollywood-dance-workout-3-3-2-2-3-2-2-3/2025-09-13/
LOCATION:Moon Room @ Common Street Spiritual Center\, 13 Common Street\, Natick\, 01760\, United States
CATEGORIES:Cultural,Dance,Music and Arts
ATTACH;FMTTYPE=image/png:https://commonstreet.org/wp-content/uploads/2025/01/BollyX-2025-Poster-1.png
ORGANIZER;CN="Purnima Thakre":MAILTO:purnimabollyx@gmail.com
END:VEVENT
END:VCALENDAR