BEGIN:VCALENDAR
VERSION:2.0
PRODID:-//Common Street Spiritual Center - ECPv6.15.20//NONSGML v1.0//EN
CALSCALE:GREGORIAN
METHOD:PUBLISH
X-WR-CALNAME:Common Street Spiritual Center
X-ORIGINAL-URL:https://commonstreet.org
X-WR-CALDESC:Events for Common Street Spiritual Center
REFRESH-INTERVAL;VALUE=DURATION:PT1H
X-Robots-Tag:noindex
X-PUBLISHED-TTL:PT1H
BEGIN:VTIMEZONE
TZID:America/New_York
BEGIN:DAYLIGHT
TZOFFSETFROM:-0500
TZOFFSETTO:-0400
TZNAME:EDT
DTSTART:20240310T070000
END:DAYLIGHT
BEGIN:STANDARD
TZOFFSETFROM:-0400
TZOFFSETTO:-0500
TZNAME:EST
DTSTART:20241103T060000
END:STANDARD
BEGIN:DAYLIGHT
TZOFFSETFROM:-0500
TZOFFSETTO:-0400
TZNAME:EDT
DTSTART:20250309T070000
END:DAYLIGHT
BEGIN:STANDARD
TZOFFSETFROM:-0400
TZOFFSETTO:-0500
TZNAME:EST
DTSTART:20251102T060000
END:STANDARD
BEGIN:DAYLIGHT
TZOFFSETFROM:-0500
TZOFFSETTO:-0400
TZNAME:EDT
DTSTART:20260308T070000
END:DAYLIGHT
BEGIN:STANDARD
TZOFFSETFROM:-0400
TZOFFSETTO:-0500
TZNAME:EST
DTSTART:20261101T060000
END:STANDARD
END:VTIMEZONE
BEGIN:VEVENT
DTSTART;TZID=America/New_York:20250311T190000
DTEND;TZID=America/New_York:20250311T203000
DTSTAMP:20260423T035700
CREATED:20250226T202911Z
LAST-MODIFIED:20250226T202911Z
UID:10020236-1741719600-1741725000@commonstreet.org
SUMMARY:Empowered Wellbeing: Inspiration Ignited
DESCRIPTION:A Holistic Creation of Nourishment\, Movement\, Rest\, and Play\nCourse Description:\nWelcome to Empowered Wellbeing: Inspiration Ignited\, a transformative journey designed to empower you to elevate your wellbeing in 2025 and beyond! This course invites you to explore the four pillars of wellbeing—Nourishment\, Movement\, Rest\, and Play—while crafting a balanced personalized Wellness Plan that sparks joy and aligns with your deepest desires.\nThroughout this engaging program\, you will:\nEnvision Your Wellbeing: Reflect on your current state and articulate your vision for a balanced and fulfilling life.\nDiscover Possibilities: Identify what’s already working for you and what may be holding you back in your wellness journey.\nCreate Your Wellness Plan: Develop actionable steps in each of the four pillars\, ensuring that your plan is not only practical but also infused with joy and excitement.\nCultivate Mindfulness: Engage in thought-provoking exercises that encourage gratitude\, self-reflection\, and commitment to your wellbeing.\nIgnite Your Passion: Learn to focus on what truly matters to you\, harnessing the power of positive desires to manifest your best life.\nJoin us as we embark on this inspiring journey together! With ongoing support\, resources\, and community engagement throughout the year\, you’ll be empowered to live intuitively and make 2025 your best year yet.\nWhat You’ll Gain:\nA clear vision of your wellbeing goals\nA personalized Wellness Plan filled with actionable steps\nTools for mindfulness and self-discovery\nAccess to a supportive community that inspires growth and accountability\nAre you ready to ignite the inspiration you have to create your best self? Let’s get started! \nLink to register \nhttps://liveintuitive.com/ola/services/empowered-wellbeing-inspiration-ignited-a-holistic-creation-of-nourishment-movement-rest-and-play \n~ We understand that cost can be a factor. Contact us at LiveIntuitiveTeam@gmail.com\nto request a sliding scale price.
URL:https://commonstreet.org/event/empowered-wellbeing-inspiration-ignited/
LOCATION:Virtual Meeting
CATEGORIES:Community,Food,Healing,Workshop
ATTACH;FMTTYPE=image/png:https://commonstreet.org/wp-content/uploads/2025/02/Wellbeing-Workshop-1.png
ORGANIZER;CN="Jenica Radack":MAILTO:j.c.radack@gmail.com
END:VEVENT
END:VCALENDAR