BEGIN:VCALENDAR
VERSION:2.0
PRODID:-//Common Street Spiritual Center - ECPv6.15.20//NONSGML v1.0//EN
CALSCALE:GREGORIAN
METHOD:PUBLISH
X-ORIGINAL-URL:https://commonstreet.org
X-WR-CALDESC:Events for Common Street Spiritual Center
REFRESH-INTERVAL;VALUE=DURATION:PT1H
X-Robots-Tag:noindex
X-PUBLISHED-TTL:PT1H
BEGIN:VTIMEZONE
TZID:America/New_York
BEGIN:DAYLIGHT
TZOFFSETFROM:-0500
TZOFFSETTO:-0400
TZNAME:EDT
DTSTART:20230312T070000
END:DAYLIGHT
BEGIN:STANDARD
TZOFFSETFROM:-0400
TZOFFSETTO:-0500
TZNAME:EST
DTSTART:20231105T060000
END:STANDARD
BEGIN:DAYLIGHT
TZOFFSETFROM:-0500
TZOFFSETTO:-0400
TZNAME:EDT
DTSTART:20240310T070000
END:DAYLIGHT
BEGIN:STANDARD
TZOFFSETFROM:-0400
TZOFFSETTO:-0500
TZNAME:EST
DTSTART:20241103T060000
END:STANDARD
BEGIN:DAYLIGHT
TZOFFSETFROM:-0500
TZOFFSETTO:-0400
TZNAME:EDT
DTSTART:20250309T070000
END:DAYLIGHT
BEGIN:STANDARD
TZOFFSETFROM:-0400
TZOFFSETTO:-0500
TZNAME:EST
DTSTART:20251102T060000
END:STANDARD
END:VTIMEZONE
BEGIN:VEVENT
DTSTART;TZID=America/New_York:20241005T114500
DTEND;TZID=America/New_York:20241005T124500
DTSTAMP:20260423T190257
CREATED:20240513T152823Z
LAST-MODIFIED:20240513T152825Z
UID:10014027-1728128700-1728132300@commonstreet.org
SUMMARY:Bollywood Dance Workout
DESCRIPTION:Whoever said no pain no gain\, obviously has never worked out to Bollywood music. Join me for BollyX – Bollywood Dance Workout. Let’s dance and workout together to remain healthy\, physically and mentally while having lots of fun! \nGet ready to groove to the beats of the vibrant Bollywood tunes while burning 400 – 800 calories. No prior dance experience is required; I will guide you through the steps\, show modifications and ensure a fun-filled session. So\, grab your friends or make new friends at the class\, put on your dancing shoes\, and get ready to unleash your inner Bollywood star! \nRegister here: https://www.bollywoodstepbystep.com/booking-calendar/in-person-in-natick-center-1?referral=service_list_widget
URL:https://commonstreet.org/event/bollywood-dance-workout-3-3-2-2/2024-10-05/
LOCATION:Fellowship Hall @ Common Street\, 13 Common Street\, Natick\, MA\, 01760\, United States
CATEGORIES:Cultural,Dance,Music and Arts
ATTACH;FMTTYPE=image/png:https://commonstreet.org/wp-content/uploads/2024/04/Copy-of-Bold-and-Edgy-Stone-Texture-Fashion-Follow-Year-Your-Story-Instagram-Post-Flyer-Portrait.png
ORGANIZER;CN="Purnima Thakre":MAILTO:purnimabollyx@gmail.com
END:VEVENT
BEGIN:VEVENT
DTSTART;TZID=America/New_York:20241012T114500
DTEND;TZID=America/New_York:20241012T124500
DTSTAMP:20260423T190257
CREATED:20240513T152823Z
LAST-MODIFIED:20240513T152825Z
UID:10014028-1728733500-1728737100@commonstreet.org
SUMMARY:Bollywood Dance Workout
DESCRIPTION:Whoever said no pain no gain\, obviously has never worked out to Bollywood music. Join me for BollyX – Bollywood Dance Workout. Let’s dance and workout together to remain healthy\, physically and mentally while having lots of fun! \nGet ready to groove to the beats of the vibrant Bollywood tunes while burning 400 – 800 calories. No prior dance experience is required; I will guide you through the steps\, show modifications and ensure a fun-filled session. So\, grab your friends or make new friends at the class\, put on your dancing shoes\, and get ready to unleash your inner Bollywood star! \nRegister here: https://www.bollywoodstepbystep.com/booking-calendar/in-person-in-natick-center-1?referral=service_list_widget
URL:https://commonstreet.org/event/bollywood-dance-workout-3-3-2-2/2024-10-12/
LOCATION:Fellowship Hall @ Common Street\, 13 Common Street\, Natick\, MA\, 01760\, United States
CATEGORIES:Cultural,Dance,Music and Arts
ATTACH;FMTTYPE=image/png:https://commonstreet.org/wp-content/uploads/2024/04/Copy-of-Bold-and-Edgy-Stone-Texture-Fashion-Follow-Year-Your-Story-Instagram-Post-Flyer-Portrait.png
ORGANIZER;CN="Purnima Thakre":MAILTO:purnimabollyx@gmail.com
END:VEVENT
BEGIN:VEVENT
DTSTART;TZID=America/New_York:20241019T114500
DTEND;TZID=America/New_York:20241019T124500
DTSTAMP:20260423T190257
CREATED:20240513T152823Z
LAST-MODIFIED:20240513T152825Z
UID:10014029-1729338300-1729341900@commonstreet.org
SUMMARY:Bollywood Dance Workout
DESCRIPTION:Whoever said no pain no gain\, obviously has never worked out to Bollywood music. Join me for BollyX – Bollywood Dance Workout. Let’s dance and workout together to remain healthy\, physically and mentally while having lots of fun! \nGet ready to groove to the beats of the vibrant Bollywood tunes while burning 400 – 800 calories. No prior dance experience is required; I will guide you through the steps\, show modifications and ensure a fun-filled session. So\, grab your friends or make new friends at the class\, put on your dancing shoes\, and get ready to unleash your inner Bollywood star! \nRegister here: https://www.bollywoodstepbystep.com/booking-calendar/in-person-in-natick-center-1?referral=service_list_widget
URL:https://commonstreet.org/event/bollywood-dance-workout-3-3-2-2/2024-10-19/
LOCATION:Fellowship Hall @ Common Street\, 13 Common Street\, Natick\, MA\, 01760\, United States
CATEGORIES:Cultural,Dance,Music and Arts
ATTACH;FMTTYPE=image/png:https://commonstreet.org/wp-content/uploads/2024/04/Copy-of-Bold-and-Edgy-Stone-Texture-Fashion-Follow-Year-Your-Story-Instagram-Post-Flyer-Portrait.png
ORGANIZER;CN="Purnima Thakre":MAILTO:purnimabollyx@gmail.com
END:VEVENT
BEGIN:VEVENT
DTSTART;TZID=America/New_York:20241026T114500
DTEND;TZID=America/New_York:20241026T124500
DTSTAMP:20260423T190257
CREATED:20240513T152823Z
LAST-MODIFIED:20240513T152825Z
UID:10014030-1729943100-1729946700@commonstreet.org
SUMMARY:Bollywood Dance Workout
DESCRIPTION:Whoever said no pain no gain\, obviously has never worked out to Bollywood music. Join me for BollyX – Bollywood Dance Workout. Let’s dance and workout together to remain healthy\, physically and mentally while having lots of fun! \nGet ready to groove to the beats of the vibrant Bollywood tunes while burning 400 – 800 calories. No prior dance experience is required; I will guide you through the steps\, show modifications and ensure a fun-filled session. So\, grab your friends or make new friends at the class\, put on your dancing shoes\, and get ready to unleash your inner Bollywood star! \nRegister here: https://www.bollywoodstepbystep.com/booking-calendar/in-person-in-natick-center-1?referral=service_list_widget
URL:https://commonstreet.org/event/bollywood-dance-workout-3-3-2-2/2024-10-26/
LOCATION:Fellowship Hall @ Common Street\, 13 Common Street\, Natick\, MA\, 01760\, United States
CATEGORIES:Cultural,Dance,Music and Arts
ATTACH;FMTTYPE=image/png:https://commonstreet.org/wp-content/uploads/2024/04/Copy-of-Bold-and-Edgy-Stone-Texture-Fashion-Follow-Year-Your-Story-Instagram-Post-Flyer-Portrait.png
ORGANIZER;CN="Purnima Thakre":MAILTO:purnimabollyx@gmail.com
END:VEVENT
BEGIN:VEVENT
DTSTART;TZID=America/New_York:20241027T190000
DTEND;TZID=America/New_York:20241027T203000
DTSTAMP:20260423T190257
CREATED:20241004T170801Z
LAST-MODIFIED:20241004T170801Z
UID:10017871-1730055600-1730061000@commonstreet.org
SUMMARY:Groove Lab - Dancing Through the Chaos
DESCRIPTION:These times call for dance. Dancing through the chaos. \nThere has been a call in our community to come together and dance. This is for us\, all together\, to create what we want. To gather in community as we envision. \nSend in your song requests to add to our playlist. Plus we will have some live drumming too! Kat will share just a few prompts to help us all to drop in and dance it out. And before we leave\, there will be time to rest–on the ground if you’d like–while gentle percussion sounds fill the air. Maybe\, just maybe\, you will feel this all land in your body like a nourishment. \nOnly together can we create the kind of gatherings that bring strength\, healing and connection to our communities. Let’s do this! \nRegister through Maggie at learn2relax@yahoo.com or Kat at kathleensuwalski@gmail.com so that we know you are attending and know how many people to expect (or so that we can let you know if anything changes).\nInvestment: $25 if pre-registered and $35 at the door. If cost is prohibitive\, please reach out. \nBring your friends\, neighbors and family too. Spread the word!
URL:https://commonstreet.org/event/groove-lab-dancing-through-the-chaos/
LOCATION:Common Street Spiritual Center\, 13 Common Street\, Natick\, 01760\, United States
CATEGORIES:Community,Dance,Music and Arts
ATTACH;FMTTYPE=image/png:https://commonstreet.org/wp-content/uploads/2024/10/Groove-Lab-Dance-the-Chaos-3.png
ORGANIZER;CN="Maggie Sky":MAILTO:learn2relax@yahoo.com
END:VEVENT
END:VCALENDAR