BEGIN:VCALENDAR
VERSION:2.0
PRODID:-//Common Street Spiritual Center - ECPv6.15.20//NONSGML v1.0//EN
CALSCALE:GREGORIAN
METHOD:PUBLISH
X-ORIGINAL-URL:https://commonstreet.org
X-WR-CALDESC:Events for Common Street Spiritual Center
REFRESH-INTERVAL;VALUE=DURATION:PT1H
X-Robots-Tag:noindex
X-PUBLISHED-TTL:PT1H
BEGIN:VTIMEZONE
TZID:America/New_York
BEGIN:DAYLIGHT
TZOFFSETFROM:-0500
TZOFFSETTO:-0400
TZNAME:EDT
DTSTART:20240310T070000
END:DAYLIGHT
BEGIN:STANDARD
TZOFFSETFROM:-0400
TZOFFSETTO:-0500
TZNAME:EST
DTSTART:20241103T060000
END:STANDARD
BEGIN:DAYLIGHT
TZOFFSETFROM:-0500
TZOFFSETTO:-0400
TZNAME:EDT
DTSTART:20250309T070000
END:DAYLIGHT
BEGIN:STANDARD
TZOFFSETFROM:-0400
TZOFFSETTO:-0500
TZNAME:EST
DTSTART:20251102T060000
END:STANDARD
BEGIN:DAYLIGHT
TZOFFSETFROM:-0500
TZOFFSETTO:-0400
TZNAME:EDT
DTSTART:20260308T070000
END:DAYLIGHT
BEGIN:STANDARD
TZOFFSETFROM:-0400
TZOFFSETTO:-0500
TZNAME:EST
DTSTART:20261101T060000
END:STANDARD
END:VTIMEZONE
BEGIN:VEVENT
DTSTART;TZID=America/New_York:20250319T090000
DTEND;TZID=America/New_York:20250319T100000
DTSTAMP:20260422T231128
CREATED:20250207T155424Z
LAST-MODIFIED:20250604T151237Z
UID:10019941-1742374800-1742378400@commonstreet.org
SUMMARY:Sacred Stillness - A Midweek Mindfulness Meditation
DESCRIPTION:Join Pooja for a 60-minute guided meditation. In this sacred space\, you’ll be guided to pause\, reconnect\, and center yourself amidst the busy rhythms of life. \nWhether you’re feeling the weight of a hectic schedule\, seeking a moment of grounding\, or simply in need of a peaceful reset\, this session will help you realign and nourish your soul. With gentle guidance\, you’ll release stress\, calm racing thoughts\, and anchor yourself in the present moment—creating a foundation of peace that supports you throughout the week. \nThis offering is by donation\, allowing you to contribute what feels most aligned for you. Your donation helps maintain the accessibility of this space\, but please know that it is not required. We warmly invite everyone to join us—this sacred space is for everyone. \nDonations can be made via Venmo (@Pmahtani) or PayPal (https://tinyurl.com/donate-Pooja). Thank you for your support! \nhttps://calendly.com/akashacodes/sacred-stillness\nOnce registered\, you’ll receive a confirmation email with Zoom details for each session. ?\nWe look forward to sharing this sacred time with you! ✨ \nWe look forward to sharing this sacred pause with you! ✨
URL:https://commonstreet.org/event/sacred-stillness-a-midweek-mindfulness-meditation/2025-03-19/
LOCATION:Online
CATEGORIES:Community,Healing,Meditation,Spiritual
ATTACH;FMTTYPE=image/jpeg:https://commonstreet.org/wp-content/uploads/2025/02/Sacred-Stillness.jpg
ORGANIZER;CN="Pooja Mahtani":MAILTO:info@akashacodes.com
END:VEVENT
BEGIN:VEVENT
DTSTART;TZID=America/New_York:20250322T170000
DTEND;TZID=America/New_York:20250322T183000
DTSTAMP:20260422T231128
CREATED:20250207T155448Z
LAST-MODIFIED:20250207T155448Z
UID:10019806-1742662800-1742668200@commonstreet.org
SUMMARY:Intro to Akasha Codes Healing
DESCRIPTION:Intro to Akasha Codes Healing with Pooja Mahtani \nEmbark on a Transformative 90-Minute Journey with Akasha Codes Healing \nStep into a sacred space where ancient wisdom and intuitive energy work unite to realign you with your highest truth. \nIn this powerful session\, we will access the Akashic Records of your Soul\, unveiling profound insights from your past\, present\, and future—bringing clarity\, guidance\, and deep healing. You’ll also receive an energy healing session designed to clear emotional blocks\, balance your chakras\, and restore harmony to your mind\, body\, and spirit. \nWhether you are curious about Akashic Records\, seek answers\, healing\, or inspiration\, this journey invites you to connect with your inner wisdom and emerge feeling lighter\, peaceful\, and deeply aligned with your soul’s essence. \n✨ Energy Exchange: $15–$35 (pay what feels aligned for you). Your support helps keep this offering accessible to all as we build a welcoming community. If cost is a barrier\, please reach out—we’re happy to explore other options. \n? Payment Options: We kindly ask for pre-payment via Venmo (@akashacodes) or PayPal (https://paypal.me/akashacodes)\, but if you prefer\, you’re welcome to pay in person with cash. Thank you for your support! \n? Register: RSVPs are appreciated to help us prepare the space: https://lp.constantcontactpages.com/cu/qbNiVXZ/akashacodes \n? Location: This session will be held in the Moon Room. \n? What to Bring: A mat\, water bottle\, and anything else for your comfort while sitting or lying down during the journey. We have some available at the center if needed. \nThis class will be led by Pooja Mahtani. Learn more about Pooja at www.akashacodes.com/about \nWe look forward to holding this sacred space with you! ?✨
URL:https://commonstreet.org/event/intro-to-akasha-codes-healing-2/
LOCATION:Moon Room @ Common Street Spiritual Center\, 13 Common Street\, Natick\, 01760\, United States
CATEGORIES:Healing,Meditation,Spiritual,Workshop
ATTACH;FMTTYPE=image/jpeg:https://commonstreet.org/wp-content/uploads/2025/02/AkashaCodesHealingMAR22.jpg
ORGANIZER;CN="Pooja Mahtani":MAILTO:info@akashacodes.com
END:VEVENT
END:VCALENDAR