BEGIN:VCALENDAR
VERSION:2.0
PRODID:-//Common Street Spiritual Center - ECPv6.15.20//NONSGML v1.0//EN
CALSCALE:GREGORIAN
METHOD:PUBLISH
X-ORIGINAL-URL:https://commonstreet.org
X-WR-CALDESC:Events for Common Street Spiritual Center
REFRESH-INTERVAL;VALUE=DURATION:PT1H
X-Robots-Tag:noindex
X-PUBLISHED-TTL:PT1H
BEGIN:VTIMEZONE
TZID:America/New_York
BEGIN:DAYLIGHT
TZOFFSETFROM:-0500
TZOFFSETTO:-0400
TZNAME:EDT
DTSTART:20230312T070000
END:DAYLIGHT
BEGIN:STANDARD
TZOFFSETFROM:-0400
TZOFFSETTO:-0500
TZNAME:EST
DTSTART:20231105T060000
END:STANDARD
BEGIN:DAYLIGHT
TZOFFSETFROM:-0500
TZOFFSETTO:-0400
TZNAME:EDT
DTSTART:20240310T070000
END:DAYLIGHT
BEGIN:STANDARD
TZOFFSETFROM:-0400
TZOFFSETTO:-0500
TZNAME:EST
DTSTART:20241103T060000
END:STANDARD
BEGIN:DAYLIGHT
TZOFFSETFROM:-0500
TZOFFSETTO:-0400
TZNAME:EDT
DTSTART:20250309T070000
END:DAYLIGHT
BEGIN:STANDARD
TZOFFSETFROM:-0400
TZOFFSETTO:-0500
TZNAME:EST
DTSTART:20251102T060000
END:STANDARD
END:VTIMEZONE
BEGIN:VEVENT
DTSTART;TZID=America/New_York:20240404T190000
DTEND;TZID=America/New_York:20240404T203000
DTSTAMP:20260423T070218
CREATED:20240110T173212Z
LAST-MODIFIED:20240116T002259Z
UID:10013031-1712257200-1712262600@commonstreet.org
SUMMARY:Introduction to Family Constellations
DESCRIPTION:Join us for an introduction to Family Constellations — a practice for healing intergenerational patterns and connecting with the strength and wisdom from our lineage. \nIn every family there are heroes\, heroines\, villains\, and outcasts; people who are easy to love\, and people who feel impossible to love. There have most definitely been great triumphs and death-defying difficulties. \nWe will be exploring how these people and events influence our lives today. We’ll learn how it is possible to come into relationship with the treasures in our family lineage that have been hiding in plain sight. And we will activate a closer relationship with those ancestors who can can most empower us. \nFor more details and to register: alissafleet.com \nOffered by Alissa Fleet\nAlissa is a Facilitator of Family and Systemic Constellations. Her personal passion is finding ways to bring healing and transformation for ourselves and society.
URL:https://commonstreet.org/event/introduction-to-family-constellations/2024-04-04/
LOCATION:Common Street Spiritual Center\, 13 Common Street\, Natick\, 01760\, United States
CATEGORIES:Healing,Small Group,Workshop
ATTACH;FMTTYPE=image/jpeg:https://commonstreet.org/wp-content/uploads/2024/01/Family-Constellations-Alissa-Fleet.001.jpeg
ORGANIZER;CN="Alissa Fleet":MAILTO:hello@alissafleet.com
END:VEVENT
BEGIN:VEVENT
DTSTART;TZID=America/New_York:20240406T120000
DTEND;TZID=America/New_York:20240406T140000
DTSTAMP:20260423T070218
CREATED:20240320T204408Z
LAST-MODIFIED:20240320T204408Z
UID:10013768-1712404800-1712412000@commonstreet.org
SUMMARY:Reiki Healing Arts Class
DESCRIPTION:Come learn Reiki  \nThis is an easeful healing arts method\, where we can learn to work with our energy and emotions in new ways.  \nThis is a certification\, an attunement\, and an experience.  \nWe will create a bridge between you and these divine healing energies\, to support you and your loved ones in feeling lighter and more harmonious as you navigate your lives in this wild world of ours.  \nYou can expect to be met in loving support as we explore the subtle fields\, and feel the very real impact they can have on our day to day.   \nThis class is open to beginners of all backgrounds and identities\, and I encourage you to keep an open heart and come as you are.  \nReiki Levels 1 + 2 will be taught \, and a connection with the first 3 symbols will be offered.  \nThe Live Class includes  \n-a digital copy of the official Reiki manual \n-Time together in person\, where we will meet the first 3 Reiki symbols for increased clarity & vitality\, mental/emotional peace\, and the eternal present here and now. Together we will journey through guided meditation to the Ocean of Heavenly Love. \n-Access to a bonus online lesson where we will cover the Reiki Energy Healing system in detail & some suggestions for holding kind\, harmonious\, and effective healing space \n-a Certificate of Lineage and Completion of your Usui Reiki 1 + 2 training \n-Certification and ability to offer Reiki Healing Energies to yourself\, your loved ones\, plants\, animals\, food\, water\, & all physical spaces.  \nHosted at the Common Street Spiritual Center in Natick\, MA.\n$45 for members\n$60 for non-members \n(sliding scale available as needed)  \n(no one turned away for lack of funds\, healing is our birthright) \nWith Love for the Journey & the Journeyer\,  \nEve\, of Earth.  \nFacebook Event Page\nhttps://facebook.com/events/s/reiki-healing-arts-class/355305994169107/ \nVenmo to Enroll\n@EveofEarth \nEmail for Questions\ntrueloveisallaround@gmail.com
URL:https://commonstreet.org/event/reiki-healing-arts-class/
LOCATION:Moon Room @ Common Street Spiritual Center\, 13 Common Street\, Natick\, 01760\, United States
CATEGORIES:Community
ATTACH;FMTTYPE=image/jpeg:https://commonstreet.org/wp-content/uploads/2024/03/inbound4846902625370878315.jpg
ORGANIZER;CN="Eve of Earth":MAILTO:trueloveisallaround@gmail.com
END:VEVENT
END:VCALENDAR