BEGIN:VCALENDAR
VERSION:2.0
PRODID:-//Common Street Spiritual Center - ECPv6.15.20//NONSGML v1.0//EN
CALSCALE:GREGORIAN
METHOD:PUBLISH
X-WR-CALNAME:Common Street Spiritual Center
X-ORIGINAL-URL:https://commonstreet.org
X-WR-CALDESC:Events for Common Street Spiritual Center
REFRESH-INTERVAL;VALUE=DURATION:PT1H
X-Robots-Tag:noindex
X-PUBLISHED-TTL:PT1H
BEGIN:VTIMEZONE
TZID:America/New_York
BEGIN:DAYLIGHT
TZOFFSETFROM:-0500
TZOFFSETTO:-0400
TZNAME:EDT
DTSTART:20240310T070000
END:DAYLIGHT
BEGIN:STANDARD
TZOFFSETFROM:-0400
TZOFFSETTO:-0500
TZNAME:EST
DTSTART:20241103T060000
END:STANDARD
BEGIN:DAYLIGHT
TZOFFSETFROM:-0500
TZOFFSETTO:-0400
TZNAME:EDT
DTSTART:20250309T070000
END:DAYLIGHT
BEGIN:STANDARD
TZOFFSETFROM:-0400
TZOFFSETTO:-0500
TZNAME:EST
DTSTART:20251102T060000
END:STANDARD
BEGIN:DAYLIGHT
TZOFFSETFROM:-0500
TZOFFSETTO:-0400
TZNAME:EDT
DTSTART:20260308T070000
END:DAYLIGHT
BEGIN:STANDARD
TZOFFSETFROM:-0400
TZOFFSETTO:-0500
TZNAME:EST
DTSTART:20261101T060000
END:STANDARD
END:VTIMEZONE
BEGIN:VEVENT
DTSTART;TZID=America/New_York:20250105T180000
DTEND;TZID=America/New_York:20250105T210000
DTSTAMP:20260421T141833
CREATED:20241214T151617Z
LAST-MODIFIED:20241214T151617Z
UID:10018864-1736100000-1736110800@commonstreet.org
SUMMARY:Common Street Movie Night!
DESCRIPTION:Why go to the movie theater when you can gathering with friends and spiritual family to watch a movie on the big screen at the Common Street Spiritual Center? ??? \nWe will gather at 6:00pm to socialize and settle in. Movie will start at 6:30. If you’d like\, bring snacks\, non-alcoholic beverages\, and other goodies for a pot luck style snack bar… but most importantly\, bring your selves! There will be cushions\, mats\, and blankets available for borrowing\, but feel free to bring cozy chairs\, pillows\, yoga mats… anything you want to bring to settle in and relax much more luxuriously than you could in a theater (even though modern movie theater seats are getting pretty dang good)! \nThere will be a poll in the discussion in the Facebook Event Page (link included in this post) with a few movie options to choose from. Whatever gets the most votes\, that’s what we’ll see! Let the people decide! All options will be PG-13 or lower rating. No R movies for this one… kids welcomed. Perhaps in the future we will have a separate movie nights for kid-friendly and non-kid-friendly\, but for this first one of 2025\, all ages are welcomed. Of course\, use your own discretion to decide if the movie that is selected is right for you and/or any kids you wish to bring. \nThis is a free event and open to the whole community. There will be an option to give a donation that will go directly to the center and the folks running this event so that they can invest into future ones too! \nLights! ? Camera! ? Action! ?? \nHope to see you there\, film fans! ☮️??
URL:https://commonstreet.org/event/common-street-movie-night/
LOCATION:Common Street Spiritual Center\, 13 Common Street\, Natick\, 01760\, United States
CATEGORIES:Music and Arts
ATTACH;FMTTYPE=image/jpeg:https://commonstreet.org/wp-content/uploads/2024/12/Movie-Night-1.jpg
ORGANIZER;CN="Jason Karol":MAILTO:MetalionMusicOfficial@gmail.com
END:VEVENT
END:VCALENDAR