BEGIN:VCALENDAR
VERSION:2.0
PRODID:-//Common Street Spiritual Center - ECPv6.15.20//NONSGML v1.0//EN
CALSCALE:GREGORIAN
METHOD:PUBLISH
X-WR-CALNAME:Common Street Spiritual Center
X-ORIGINAL-URL:https://commonstreet.org
X-WR-CALDESC:Events for Common Street Spiritual Center
REFRESH-INTERVAL;VALUE=DURATION:PT1H
X-Robots-Tag:noindex
X-PUBLISHED-TTL:PT1H
BEGIN:VTIMEZONE
TZID:America/New_York
BEGIN:DAYLIGHT
TZOFFSETFROM:-0500
TZOFFSETTO:-0400
TZNAME:EDT
DTSTART:20230312T070000
END:DAYLIGHT
BEGIN:STANDARD
TZOFFSETFROM:-0400
TZOFFSETTO:-0500
TZNAME:EST
DTSTART:20231105T060000
END:STANDARD
BEGIN:DAYLIGHT
TZOFFSETFROM:-0500
TZOFFSETTO:-0400
TZNAME:EDT
DTSTART:20240310T070000
END:DAYLIGHT
BEGIN:STANDARD
TZOFFSETFROM:-0400
TZOFFSETTO:-0500
TZNAME:EST
DTSTART:20241103T060000
END:STANDARD
BEGIN:DAYLIGHT
TZOFFSETFROM:-0500
TZOFFSETTO:-0400
TZNAME:EDT
DTSTART:20250309T070000
END:DAYLIGHT
BEGIN:STANDARD
TZOFFSETFROM:-0400
TZOFFSETTO:-0500
TZNAME:EST
DTSTART:20251102T060000
END:STANDARD
END:VTIMEZONE
BEGIN:VEVENT
DTSTART;TZID=America/New_York:20240406T131500
DTEND;TZID=America/New_York:20240406T141500
DTSTAMP:20260425T160203
CREATED:20231121T133248Z
LAST-MODIFIED:20231227T202630Z
UID:10012547-1712409300-1712412900@commonstreet.org
SUMMARY:Bollywood Dance Workout
DESCRIPTION:Whoever said no pain no gain\, obviously has never worked out to Bollywood music. Join me for BollyX – Bollywood Dance Workout. Let’s dance and workout together to remain healthy\, physically and mentally while having lots of fun! \nGet ready to groove to the beats of the vibrant Bollywood tunes while burning 400 – 800 calories. No prior dance experience is required; I will guide you through the steps\, show modifications and ensure a fun-filled session. So\, grab your friends or make new friends at the class\, put on your dancing shoes\, and get ready to unleash your inner Bollywood star! \nRegister here: https://www.bollywoodstepbystep.com/booking-calendar/in-person-in-natick-center-1?referral=service_list_widget
URL:https://commonstreet.org/event/bollywood-dance-workout-3/2024-04-06/
LOCATION:Moon Room @ Common Street Spiritual Center\, 13 Common Street\, Natick\, 01760\, United States
CATEGORIES:Cultural,Dance,Music and Arts
ATTACH;FMTTYPE=image/png:https://commonstreet.org/wp-content/uploads/2023/11/Bold-and-Edgy-Stone-Texture-Fashion-Follow-Year-Your-Story-Instagram-Post-Flyer-Portrait-10.png
ORGANIZER;CN="Purnima Thakre":MAILTO:purnimabollyx@gmail.com
END:VEVENT
BEGIN:VEVENT
DTSTART;TZID=America/New_York:20240407T160000
DTEND;TZID=America/New_York:20240407T190000
DTSTAMP:20260425T160203
CREATED:20240320T180523Z
LAST-MODIFIED:20240404T195225Z
UID:10013764-1712505600-1712516400@commonstreet.org
SUMMARY:Dating with Clarity & Confidence ~ A 3 Step Guide to Master Dating Profiles
DESCRIPTION:In this workshop\, we will cover the first module of our dynamic course\, followed by a mixer opportunity at the end!\nThis is a course that facilitates self-reflection and self-awareness as a means to craft a genuine and engaging online dating profile\, bio to pictures. It includes exercises and guides to uncover the fundamental reasons for seeking a partnership\, an inquiry used to create a personal bio including interests\, achievements\, & values\, as well as a framework to identify partner attributes and differentiate between essential and negotiable qualities in partners.\nIt encourages deep introspection to lead to more meaningful connections. \nTo register\, please email Jenica at j.c.radack@gmail.com \nWe offer a comprehensive yet simple program covering a wide array of aspects from creating the bio to creating the first messages and dates!
URL:https://commonstreet.org/event/dating-with-clarity-confidence-a-3-step-guide-to-master-dating-profiles/
LOCATION:Common Street Spiritual Center\, 13 Common Street\, Natick\, 01760\, United States
CATEGORIES:Community,Dialogue,Small Group,Women,Workshop
ATTACH;FMTTYPE=image/png:https://commonstreet.org/wp-content/uploads/2024/03/Live-Intuitive-Dating-Clarity-and-Confidence.png
ORGANIZER;CN="Jenica Radack":MAILTO:j.c.radack@gmail.com
END:VEVENT
END:VCALENDAR