BEGIN:VCALENDAR
VERSION:2.0
PRODID:-//Common Street Spiritual Center - ECPv6.15.20//NONSGML v1.0//EN
CALSCALE:GREGORIAN
METHOD:PUBLISH
X-WR-CALNAME:Common Street Spiritual Center
X-ORIGINAL-URL:https://commonstreet.org
X-WR-CALDESC:Events for Common Street Spiritual Center
REFRESH-INTERVAL;VALUE=DURATION:PT1H
X-Robots-Tag:noindex
X-PUBLISHED-TTL:PT1H
BEGIN:VTIMEZONE
TZID:America/New_York
BEGIN:DAYLIGHT
TZOFFSETFROM:-0500
TZOFFSETTO:-0400
TZNAME:EDT
DTSTART:20220313T070000
END:DAYLIGHT
BEGIN:STANDARD
TZOFFSETFROM:-0400
TZOFFSETTO:-0500
TZNAME:EST
DTSTART:20221106T060000
END:STANDARD
BEGIN:DAYLIGHT
TZOFFSETFROM:-0500
TZOFFSETTO:-0400
TZNAME:EDT
DTSTART:20230312T070000
END:DAYLIGHT
BEGIN:STANDARD
TZOFFSETFROM:-0400
TZOFFSETTO:-0500
TZNAME:EST
DTSTART:20231105T060000
END:STANDARD
BEGIN:DAYLIGHT
TZOFFSETFROM:-0500
TZOFFSETTO:-0400
TZNAME:EDT
DTSTART:20240310T070000
END:DAYLIGHT
BEGIN:STANDARD
TZOFFSETFROM:-0400
TZOFFSETTO:-0500
TZNAME:EST
DTSTART:20241103T060000
END:STANDARD
END:VTIMEZONE
BEGIN:VEVENT
DTSTART;TZID=America/New_York:20231221T200000
DTEND;TZID=America/New_York:20231221T220000
DTSTAMP:20260425T180438
CREATED:20231205T000407Z
LAST-MODIFIED:20231205T000420Z
UID:10012814-1703188800-1703196000@commonstreet.org
SUMMARY:NatickImprov “Holiday Special” Workshop!
DESCRIPTION:We’re closing out 2023 with some festive\, fun-filled\, madcap made-up merriment at our “holiday special” workshop! This workshop is designed to be a fun\, supportive environment for improvisers of all levels – whether you’re trying out improv for the first time or if you’ve been doing it for years\, we’d love to see you there. Join us!\nWHEN: Thursday\, December 21 from 8-10 PM\nWHERE: The Common Street Spiritual Center\n13 Common Street\, Natick\, MA 01760\nDownstairs Room\n(Enter through the School Street entrance\, go down the stairs and through the kitchen.)
URL:https://commonstreet.org/event/natickimprov-holiday-special-workshop/
LOCATION:Common Street Spiritual Center\, 13 Common Street\, Natick\, 01760\, United States
CATEGORIES:Music and Arts,Workshop
ATTACH;FMTTYPE=image/jpeg:https://commonstreet.org/wp-content/uploads/2023/12/Holiday-Logo.jpg
END:VEVENT
END:VCALENDAR