BEGIN:VCALENDAR
VERSION:2.0
PRODID:-//Common Street Spiritual Center - ECPv6.15.20//NONSGML v1.0//EN
CALSCALE:GREGORIAN
METHOD:PUBLISH
X-WR-CALNAME:Common Street Spiritual Center
X-ORIGINAL-URL:https://commonstreet.org
X-WR-CALDESC:Events for Common Street Spiritual Center
REFRESH-INTERVAL;VALUE=DURATION:PT1H
X-Robots-Tag:noindex
X-PUBLISHED-TTL:PT1H
BEGIN:VTIMEZONE
TZID:America/New_York
BEGIN:DAYLIGHT
TZOFFSETFROM:-0500
TZOFFSETTO:-0400
TZNAME:EDT
DTSTART:20230312T070000
END:DAYLIGHT
BEGIN:STANDARD
TZOFFSETFROM:-0400
TZOFFSETTO:-0500
TZNAME:EST
DTSTART:20231105T060000
END:STANDARD
BEGIN:DAYLIGHT
TZOFFSETFROM:-0500
TZOFFSETTO:-0400
TZNAME:EDT
DTSTART:20240310T070000
END:DAYLIGHT
BEGIN:STANDARD
TZOFFSETFROM:-0400
TZOFFSETTO:-0500
TZNAME:EST
DTSTART:20241103T060000
END:STANDARD
BEGIN:DAYLIGHT
TZOFFSETFROM:-0500
TZOFFSETTO:-0400
TZNAME:EDT
DTSTART:20250309T070000
END:DAYLIGHT
BEGIN:STANDARD
TZOFFSETFROM:-0400
TZOFFSETTO:-0500
TZNAME:EST
DTSTART:20251102T060000
END:STANDARD
END:VTIMEZONE
BEGIN:VEVENT
DTSTART;TZID=America/New_York:20241121T184500
DTEND;TZID=America/New_York:20241121T210000
DTSTAMP:20260422T192919
CREATED:20241114T212945Z
LAST-MODIFIED:20241114T212945Z
UID:10018192-1732214700-1732222800@commonstreet.org
SUMMARY:We Are the Great Turning
DESCRIPTION:Are you concerned and overwhelmed about the dire threat to our biosphere from the climate crisis?\nDo you long to serve the healing of our world in a more powerful and effective way?\nIf so\, please join us for\nCreating the Great Turning\nA 2-hour gathering to reinforce our interdependence\, honor our grief for this world\, explore new perspectives on these complex problems and manifest a life-sustaining society.\nOur interactive approach uses “The Work That Reconnects.”\, developed by Joanna Macy and others\, which integrates systems thinking\, deep ecology and deep time\, spiritual traditions and undoing oppression.\nWe highly recommend listening to the first episode of the podcast “We Are the Great Turning” before the meeting\, as it provides an excellent introduction to The Work That Reconnects process.\nJoin us on Thursday\, November 21st\, from 7-9 PM in the CSSC Moon Room.\nWe will begin promptly at 7:00PM and ask that you arrive at 6:45PM\, so that you can settle in and prepare for the deep work we will be doing.
URL:https://commonstreet.org/event/we-are-the-great-turning-2/
LOCATION:Moon Room @ Common Street Spiritual Center\, 13 Common Street\, Natick\, 01760\, United States
CATEGORIES:Small Group
ATTACH;FMTTYPE=image/png:https://commonstreet.org/wp-content/uploads/2024/11/Picture1.png
ORGANIZER;CN="Michael Corthell":MAILTO:michaelacorthell@gmail.com
END:VEVENT
END:VCALENDAR