BEGIN:VCALENDAR
VERSION:2.0
PRODID:-//Common Street Spiritual Center - ECPv6.15.20//NONSGML v1.0//EN
CALSCALE:GREGORIAN
METHOD:PUBLISH
X-WR-CALNAME:Common Street Spiritual Center
X-ORIGINAL-URL:https://commonstreet.org
X-WR-CALDESC:Events for Common Street Spiritual Center
REFRESH-INTERVAL;VALUE=DURATION:PT1H
X-Robots-Tag:noindex
X-PUBLISHED-TTL:PT1H
BEGIN:VTIMEZONE
TZID:America/New_York
BEGIN:DAYLIGHT
TZOFFSETFROM:-0500
TZOFFSETTO:-0400
TZNAME:EDT
DTSTART:20230312T070000
END:DAYLIGHT
BEGIN:STANDARD
TZOFFSETFROM:-0400
TZOFFSETTO:-0500
TZNAME:EST
DTSTART:20231105T060000
END:STANDARD
BEGIN:DAYLIGHT
TZOFFSETFROM:-0500
TZOFFSETTO:-0400
TZNAME:EDT
DTSTART:20240310T070000
END:DAYLIGHT
BEGIN:STANDARD
TZOFFSETFROM:-0400
TZOFFSETTO:-0500
TZNAME:EST
DTSTART:20241103T060000
END:STANDARD
BEGIN:DAYLIGHT
TZOFFSETFROM:-0500
TZOFFSETTO:-0400
TZNAME:EDT
DTSTART:20250309T070000
END:DAYLIGHT
BEGIN:STANDARD
TZOFFSETFROM:-0400
TZOFFSETTO:-0500
TZNAME:EST
DTSTART:20251102T060000
END:STANDARD
END:VTIMEZONE
BEGIN:VEVENT
DTSTART;TZID=America/New_York:20240303T080000
DTEND;TZID=America/New_York:20240303T170000
DTSTAMP:20260423T142703
CREATED:20240303T121707Z
LAST-MODIFIED:20240303T121707Z
UID:10013670-1709452800-1709485200@commonstreet.org
SUMMARY:Listening Circle: The Transition from Somebody to Nobody with Ram Dass
DESCRIPTION:Join us for a transformative 2-hour experience delving into the profound wisdom of Ram Dass’s lecture on “The Transition from Somebody to Nobody.” This event invites you to explore the essence of self-discovery\, mindfulness\, and the journey from ego to interconnectedness. \nWhat to Expect: \n•	Listening & Contemplation:  Immerse yourself in the captivating words of Ram Dass as we play his insightful lecture in a cozy circle setting. Allow his teachings to guide you through the transition from the self-focused “somebody” to the liberated state of “nobody.” \n•	Meditation Interlude:   Following the lecture\, we’ll create a space for quiet introspection. Embrace the stillness and let the teachings resonate within\, fostering a deeper connection with your inner self. \n•	Open Dialogue:  Share your reflections and insights with fellow participants in an open and supportive discussion. Engage in a collective exploration of the lecture’s themes and discover how these timeless teachings can enrich your personal journey. \nWhy Attend: \n•	Inspiration for Growth: Ram Dass’s wisdom has inspired countless individuals on their spiritual journeys. This event provides a unique opportunity to absorb his teachings in a communal setting\, fostering personal and collective growth. \n•	Community Connection: Join like-minded individuals in a warm and inclusive environment. Connect with others who share a passion for self-discovery and mindfulness. \n•	Guidance for Daily Life: Explore practical applications of Ram Dass’s teachings in your everyday experiences. Gain insights that can positively impact your relationships\, mindset\, and overall well-being. \n•	Date & Time: March 3RD\, 2024 – 5pm to 7pm\n•	Location: Natick CSSC – 3rd Floor Moon Room\n•	Admission: Members Free*/ Non-Members $5 Donation to Natick CSSC \nDon’t miss this chance to embrace the transformative power of Ram Dass’s teachings in a supportive community. Reserve your spot for an evening of inspiration\, introspection\, and connection. \nRSVP via email to Marky (markynmili@gmail.com) and embark on the journey from “somebody” to “nobody” with us! \n* Members encouraged to set-up their monthly contributions to Natick CSSC if able or one time annual for 2024 if they haven’t already
URL:https://commonstreet.org/event/listening-circle-the-transition-from-somebody-to-nobody-with-ram-dass/2024-03-03/1/
LOCATION:Common Street Spiritual Center\, 13 Common Street\, Natick\, 01760\, United States
CATEGORIES:Spiritual
ORGANIZER;CN="Marky":MAILTO:markynmili@gmail.com
END:VEVENT
BEGIN:VEVENT
DTSTART;TZID=America/New_York:20240303T170000
DTEND;TZID=America/New_York:20240303T190000
DTSTAMP:20260423T142703
CREATED:20240303T121707Z
LAST-MODIFIED:20240303T121707Z
UID:10013671-1709485200-1709492400@commonstreet.org
SUMMARY:Listening Circle: The Transition from Somebody to Nobody with Ram Dass
DESCRIPTION:Join us for a transformative 2-hour experience delving into the profound wisdom of Ram Dass’s lecture on “The Transition from Somebody to Nobody.” This event invites you to explore the essence of self-discovery\, mindfulness\, and the journey from ego to interconnectedness. \nWhat to Expect: \n•	Listening & Contemplation:  Immerse yourself in the captivating words of Ram Dass as we play his insightful lecture in a cozy circle setting. Allow his teachings to guide you through the transition from the self-focused “somebody” to the liberated state of “nobody.” \n•	Meditation Interlude:   Following the lecture\, we’ll create a space for quiet introspection. Embrace the stillness and let the teachings resonate within\, fostering a deeper connection with your inner self. \n•	Open Dialogue:  Share your reflections and insights with fellow participants in an open and supportive discussion. Engage in a collective exploration of the lecture’s themes and discover how these timeless teachings can enrich your personal journey. \nWhy Attend: \n•	Inspiration for Growth: Ram Dass’s wisdom has inspired countless individuals on their spiritual journeys. This event provides a unique opportunity to absorb his teachings in a communal setting\, fostering personal and collective growth. \n•	Community Connection: Join like-minded individuals in a warm and inclusive environment. Connect with others who share a passion for self-discovery and mindfulness. \n•	Guidance for Daily Life: Explore practical applications of Ram Dass’s teachings in your everyday experiences. Gain insights that can positively impact your relationships\, mindset\, and overall well-being. \n•	Date & Time: March 3RD\, 2024 – 5pm to 7pm\n•	Location: Natick CSSC – 3rd Floor Moon Room\n•	Admission: Members Free*/ Non-Members $5 Donation to Natick CSSC \nDon’t miss this chance to embrace the transformative power of Ram Dass’s teachings in a supportive community. Reserve your spot for an evening of inspiration\, introspection\, and connection. \nRSVP via email to Marky (markynmili@gmail.com) and embark on the journey from “somebody” to “nobody” with us! \n* Members encouraged to set-up their monthly contributions to Natick CSSC if able or one time annual for 2024 if they haven’t already
URL:https://commonstreet.org/event/listening-circle-the-transition-from-somebody-to-nobody-with-ram-dass/2024-03-03/2/
LOCATION:Common Street Spiritual Center\, 13 Common Street\, Natick\, 01760\, United States
CATEGORIES:Spiritual
ORGANIZER;CN="Marky":MAILTO:markynmili@gmail.com
END:VEVENT
END:VCALENDAR