BEGIN:VCALENDAR
VERSION:2.0
PRODID:-//Common Street Spiritual Center - ECPv6.15.20//NONSGML v1.0//EN
CALSCALE:GREGORIAN
METHOD:PUBLISH
X-ORIGINAL-URL:https://commonstreet.org
X-WR-CALDESC:Events for Common Street Spiritual Center
REFRESH-INTERVAL;VALUE=DURATION:PT1H
X-Robots-Tag:noindex
X-PUBLISHED-TTL:PT1H
BEGIN:VTIMEZONE
TZID:America/New_York
BEGIN:DAYLIGHT
TZOFFSETFROM:-0500
TZOFFSETTO:-0400
TZNAME:EDT
DTSTART:20230312T070000
END:DAYLIGHT
BEGIN:STANDARD
TZOFFSETFROM:-0400
TZOFFSETTO:-0500
TZNAME:EST
DTSTART:20231105T060000
END:STANDARD
BEGIN:DAYLIGHT
TZOFFSETFROM:-0500
TZOFFSETTO:-0400
TZNAME:EDT
DTSTART:20240310T070000
END:DAYLIGHT
BEGIN:STANDARD
TZOFFSETFROM:-0400
TZOFFSETTO:-0500
TZNAME:EST
DTSTART:20241103T060000
END:STANDARD
BEGIN:DAYLIGHT
TZOFFSETFROM:-0500
TZOFFSETTO:-0400
TZNAME:EDT
DTSTART:20250309T070000
END:DAYLIGHT
BEGIN:STANDARD
TZOFFSETFROM:-0400
TZOFFSETTO:-0500
TZNAME:EST
DTSTART:20251102T060000
END:STANDARD
END:VTIMEZONE
BEGIN:VEVENT
DTSTART;TZID=America/New_York:20241025T190000
DTEND;TZID=America/New_York:20241025T210000
DTSTAMP:20260422T023443
CREATED:20241001T193021Z
LAST-MODIFIED:20241001T193021Z
UID:10017870-1729882800-1729890000@commonstreet.org
SUMMARY:Bwiti Fire Talk: An Introduction to African Spirituality
DESCRIPTION:The Bwiti tradition is a spiritual practice that originated in southern Gabon but has now spread in different branches throughout Gabon\, Cameroon\, Congo\, and beyond. Bwiti is not a religion\, but a traditional spiritual path known to initiates as the “art of knowing” and the “study of life itself.” \nThe fire talk is an essential element of Bwiti healing practices. Every ceremony begins with a fire talk where Bwiti teachings are shared. In order to promote wisdom and groundedness in the village\, elders and medicine carriers (Ngangas and Maboundis) provide counseling rooted in the Bwiti teachings before the community partakes in ingesting medicine. \nThis fire talk session will be co-facilitated by Pamela “Ngondet Na Di Puma” Rosario Pérez and\nWill “Etsika Mbudi” Dickerson II. Ngondet and Etsika are traditional medicine and culture carriers of the Missoko Bwiti lineage\, initiated by the 10th-generation nima Papa Moughenda Mikala.
URL:https://commonstreet.org/event/bwiti-fire-talk-an-introduction-to-african-spirituality/
LOCATION:Common Street Spiritual Center\, 13 Common Street\, Natick\, 01760\, United States
CATEGORIES:Cultural,Healing,Spiritual,Talk
ATTACH;FMTTYPE=image/png:https://commonstreet.org/wp-content/uploads/2024/10/Screenshot-2024-10-01-at-1.50.41-PM-1.png
ORGANIZER;CN="Pamela Rosario Perez":MAILTO:yaouyaouwellness@gmail.com
END:VEVENT
END:VCALENDAR