BEGIN:VCALENDAR
VERSION:2.0
PRODID:-//Common Street Spiritual Center - ECPv6.15.20//NONSGML v1.0//EN
CALSCALE:GREGORIAN
METHOD:PUBLISH
X-WR-CALNAME:Common Street Spiritual Center
X-ORIGINAL-URL:https://commonstreet.org
X-WR-CALDESC:Events for Common Street Spiritual Center
REFRESH-INTERVAL;VALUE=DURATION:PT1H
X-Robots-Tag:noindex
X-PUBLISHED-TTL:PT1H
BEGIN:VTIMEZONE
TZID:America/New_York
BEGIN:DAYLIGHT
TZOFFSETFROM:-0500
TZOFFSETTO:-0400
TZNAME:EDT
DTSTART:20220313T070000
END:DAYLIGHT
BEGIN:STANDARD
TZOFFSETFROM:-0400
TZOFFSETTO:-0500
TZNAME:EST
DTSTART:20221106T060000
END:STANDARD
BEGIN:DAYLIGHT
TZOFFSETFROM:-0500
TZOFFSETTO:-0400
TZNAME:EDT
DTSTART:20230312T070000
END:DAYLIGHT
BEGIN:STANDARD
TZOFFSETFROM:-0400
TZOFFSETTO:-0500
TZNAME:EST
DTSTART:20231105T060000
END:STANDARD
BEGIN:DAYLIGHT
TZOFFSETFROM:-0500
TZOFFSETTO:-0400
TZNAME:EDT
DTSTART:20240310T070000
END:DAYLIGHT
BEGIN:STANDARD
TZOFFSETFROM:-0400
TZOFFSETTO:-0500
TZNAME:EST
DTSTART:20241103T060000
END:STANDARD
END:VTIMEZONE
BEGIN:VEVENT
DTSTART;TZID=America/New_York:20231104T140000
DTEND;TZID=America/New_York:20231104T170000
DTSTAMP:20260424T123142
CREATED:20231024T020548Z
LAST-MODIFIED:20231024T162538Z
UID:10011581-1699106400-1699117200@commonstreet.org
SUMMARY:Depolarizing Within\, a Braver Angels Workshop
DESCRIPTION:Polarization can be driven by how we talk with like-minded people about those on the other side. Too often\, we stereotype\, dismiss\, or ridicule our fellow citizens who support the other political party\, its leaders\, and its policies. \nThis free 3 hour workshop teaches participants:\n• How to be more aware of their own “inner polarizer”\n• How to be critical without demonizing\, dismissing or stereotyping large swaths of the population\n• How to constructively intervene in polarizing social conversations with like-minded people. \nAnyone interested in examining their own inner polarization and learning strategies to disagree without condemning or ridiculing others is encouraged to come. \nThe follow-up workshop\, Skills for Bridging the Divide will be offered on Nov 11.
URL:https://commonstreet.org/event/depolarizing-within-a-braver-angels-workshop/
LOCATION:France
CATEGORIES:Dialogue,Healing,Peace and Justice
ATTACH;FMTTYPE=image/jpeg:https://commonstreet.org/wp-content/uploads/2023/10/Braver-Angels-Logo.jpg
ORGANIZER;CN="JulienLafleur":MAILTO:lafleur.julien@gmail.com
END:VEVENT
END:VCALENDAR