BEGIN:VCALENDAR
VERSION:2.0
PRODID:-//Common Street Spiritual Center - ECPv6.15.20//NONSGML v1.0//EN
CALSCALE:GREGORIAN
METHOD:PUBLISH
X-ORIGINAL-URL:https://commonstreet.org
X-WR-CALDESC:Events for Common Street Spiritual Center
REFRESH-INTERVAL;VALUE=DURATION:PT1H
X-Robots-Tag:noindex
X-PUBLISHED-TTL:PT1H
BEGIN:VTIMEZONE
TZID:America/New_York
BEGIN:DAYLIGHT
TZOFFSETFROM:-0500
TZOFFSETTO:-0400
TZNAME:EDT
DTSTART:20220313T070000
END:DAYLIGHT
BEGIN:STANDARD
TZOFFSETFROM:-0400
TZOFFSETTO:-0500
TZNAME:EST
DTSTART:20221106T060000
END:STANDARD
BEGIN:DAYLIGHT
TZOFFSETFROM:-0500
TZOFFSETTO:-0400
TZNAME:EDT
DTSTART:20230312T070000
END:DAYLIGHT
BEGIN:STANDARD
TZOFFSETFROM:-0400
TZOFFSETTO:-0500
TZNAME:EST
DTSTART:20231105T060000
END:STANDARD
BEGIN:DAYLIGHT
TZOFFSETFROM:-0500
TZOFFSETTO:-0400
TZNAME:EDT
DTSTART:20240310T070000
END:DAYLIGHT
BEGIN:STANDARD
TZOFFSETFROM:-0400
TZOFFSETTO:-0500
TZNAME:EST
DTSTART:20241103T060000
END:STANDARD
END:VTIMEZONE
BEGIN:VEVENT
DTSTART;TZID=America/New_York:20231004T120000
DTEND;TZID=America/New_York:20231004T124000
DTSTAMP:20260423T142200
CREATED:20230919T012942Z
LAST-MODIFIED:20230919T020249Z
UID:10011257-1696420800-1696423200@commonstreet.org
SUMMARY:Book Discussion: Decolonizing Wealth
DESCRIPTION:CSSC member and Outreach Coordinator for Family Promise Metrowest Paula Brown will facilitate a  series of discussions related to Decolonizing Wealth by Edgar Villaneuva\, a renowned activist\, author\, and philanthropy expert who offers a crucial perspective on wealth and philanthropy. As a member of the Lumbee Tribe of North Carolina\, Villanueva advises a diverse range of organizations on social impact strategies\, working with philanthropic entities\, Fortune 500 corporations\, and entertainment enterprises. His work empowers communities\, giving them control over their own narratives and representations while striving for increased visibility across all sectors of society. In “Decolonizing Wealth\,” he examines the role of colonialism in philanthropy\, the wealth gap\, and the prevailing power dynamics in modern philanthropic structures.
URL:https://commonstreet.org/event/book-discussion-decolonizing-wealth/2023-10-04/
LOCATION:Online
CATEGORIES:Community,Cultural,Dialogue,Peace and Justice
ATTACH;FMTTYPE=image/png:https://commonstreet.org/wp-content/uploads/2023/09/Book-Club-Postcard.png
ORGANIZER;CN="Paula Brown":MAILTO:Paulabrown222@gmail.com
END:VEVENT
BEGIN:VEVENT
DTSTART;TZID=America/New_York:20231011T120000
DTEND;TZID=America/New_York:20231011T124000
DTSTAMP:20260423T142200
CREATED:20230919T012942Z
LAST-MODIFIED:20230919T020249Z
UID:10011258-1697025600-1697028000@commonstreet.org
SUMMARY:Book Discussion: Decolonizing Wealth
DESCRIPTION:CSSC member and Outreach Coordinator for Family Promise Metrowest Paula Brown will facilitate a  series of discussions related to Decolonizing Wealth by Edgar Villaneuva\, a renowned activist\, author\, and philanthropy expert who offers a crucial perspective on wealth and philanthropy. As a member of the Lumbee Tribe of North Carolina\, Villanueva advises a diverse range of organizations on social impact strategies\, working with philanthropic entities\, Fortune 500 corporations\, and entertainment enterprises. His work empowers communities\, giving them control over their own narratives and representations while striving for increased visibility across all sectors of society. In “Decolonizing Wealth\,” he examines the role of colonialism in philanthropy\, the wealth gap\, and the prevailing power dynamics in modern philanthropic structures.
URL:https://commonstreet.org/event/book-discussion-decolonizing-wealth/2023-10-11/
LOCATION:Online
CATEGORIES:Community,Cultural,Dialogue,Peace and Justice
ATTACH;FMTTYPE=image/png:https://commonstreet.org/wp-content/uploads/2023/09/Book-Club-Postcard.png
ORGANIZER;CN="Paula Brown":MAILTO:Paulabrown222@gmail.com
END:VEVENT
BEGIN:VEVENT
DTSTART;TZID=America/New_York:20231017T190000
DTEND;TZID=America/New_York:20231017T203000
DTSTAMP:20260423T142200
CREATED:20231004T162847Z
LAST-MODIFIED:20231004T162847Z
UID:10011279-1697569200-1697574600@commonstreet.org
SUMMARY:Autumn Sound Healing
DESCRIPTION:?Nicole and Lara are back at Common Street Spiritual Center to bring a special elemental sound healing journey that is not to be missed! \n?We will be weaving autumn intentions and bursting into color as we release the exuberance of summer and settle deeper into the inner stillness of center. \n?️Bring blankets\, pillows\, mats for your comfort! Think: sound healing sleepover (!) \n♾️$22-44 sliding scale\nVenmo\, PayPal @prismlighthealing \n?We’re excited to adventure through the mystery of sound with you!
URL:https://commonstreet.org/event/autumn-sound-healing/
LOCATION:Common Street Spiritual Center\, 13 Common Street\, Natick\, 01760\, United States
CATEGORIES:Community,Healing,Meditation,Music and Arts,Spiritual
ATTACH;FMTTYPE=image/jpeg:https://commonstreet.org/wp-content/uploads/2023/10/SH-1017-1.jpg
ORGANIZER;CN="Nicole Ward":MAILTO:info@prismlighthealing.com
END:VEVENT
BEGIN:VEVENT
DTSTART;TZID=America/New_York:20231018T120000
DTEND;TZID=America/New_York:20231018T124000
DTSTAMP:20260423T142200
CREATED:20230919T012942Z
LAST-MODIFIED:20230919T020249Z
UID:10011259-1697630400-1697632800@commonstreet.org
SUMMARY:Book Discussion: Decolonizing Wealth
DESCRIPTION:CSSC member and Outreach Coordinator for Family Promise Metrowest Paula Brown will facilitate a  series of discussions related to Decolonizing Wealth by Edgar Villaneuva\, a renowned activist\, author\, and philanthropy expert who offers a crucial perspective on wealth and philanthropy. As a member of the Lumbee Tribe of North Carolina\, Villanueva advises a diverse range of organizations on social impact strategies\, working with philanthropic entities\, Fortune 500 corporations\, and entertainment enterprises. His work empowers communities\, giving them control over their own narratives and representations while striving for increased visibility across all sectors of society. In “Decolonizing Wealth\,” he examines the role of colonialism in philanthropy\, the wealth gap\, and the prevailing power dynamics in modern philanthropic structures.
URL:https://commonstreet.org/event/book-discussion-decolonizing-wealth/2023-10-18/
LOCATION:Online
CATEGORIES:Community,Cultural,Dialogue,Peace and Justice
ATTACH;FMTTYPE=image/png:https://commonstreet.org/wp-content/uploads/2023/09/Book-Club-Postcard.png
ORGANIZER;CN="Paula Brown":MAILTO:Paulabrown222@gmail.com
END:VEVENT
BEGIN:VEVENT
DTSTART;TZID=America/New_York:20231025T120000
DTEND;TZID=America/New_York:20231025T124000
DTSTAMP:20260423T142200
CREATED:20230919T012942Z
LAST-MODIFIED:20230919T020249Z
UID:10011260-1698235200-1698237600@commonstreet.org
SUMMARY:Book Discussion: Decolonizing Wealth
DESCRIPTION:CSSC member and Outreach Coordinator for Family Promise Metrowest Paula Brown will facilitate a  series of discussions related to Decolonizing Wealth by Edgar Villaneuva\, a renowned activist\, author\, and philanthropy expert who offers a crucial perspective on wealth and philanthropy. As a member of the Lumbee Tribe of North Carolina\, Villanueva advises a diverse range of organizations on social impact strategies\, working with philanthropic entities\, Fortune 500 corporations\, and entertainment enterprises. His work empowers communities\, giving them control over their own narratives and representations while striving for increased visibility across all sectors of society. In “Decolonizing Wealth\,” he examines the role of colonialism in philanthropy\, the wealth gap\, and the prevailing power dynamics in modern philanthropic structures.
URL:https://commonstreet.org/event/book-discussion-decolonizing-wealth/2023-10-25/
LOCATION:Online
CATEGORIES:Community,Cultural,Dialogue,Peace and Justice
ATTACH;FMTTYPE=image/png:https://commonstreet.org/wp-content/uploads/2023/09/Book-Club-Postcard.png
ORGANIZER;CN="Paula Brown":MAILTO:Paulabrown222@gmail.com
END:VEVENT
END:VCALENDAR