BEGIN:VCALENDAR
VERSION:2.0
PRODID:-//Common Street Spiritual Center - ECPv6.15.20//NONSGML v1.0//EN
CALSCALE:GREGORIAN
METHOD:PUBLISH
X-WR-CALNAME:Common Street Spiritual Center
X-ORIGINAL-URL:https://commonstreet.org
X-WR-CALDESC:Events for Common Street Spiritual Center
REFRESH-INTERVAL;VALUE=DURATION:PT1H
X-Robots-Tag:noindex
X-PUBLISHED-TTL:PT1H
BEGIN:VTIMEZONE
TZID:America/New_York
BEGIN:DAYLIGHT
TZOFFSETFROM:-0500
TZOFFSETTO:-0400
TZNAME:EDT
DTSTART:20240310T070000
END:DAYLIGHT
BEGIN:STANDARD
TZOFFSETFROM:-0400
TZOFFSETTO:-0500
TZNAME:EST
DTSTART:20241103T060000
END:STANDARD
BEGIN:DAYLIGHT
TZOFFSETFROM:-0500
TZOFFSETTO:-0400
TZNAME:EDT
DTSTART:20250309T070000
END:DAYLIGHT
BEGIN:STANDARD
TZOFFSETFROM:-0400
TZOFFSETTO:-0500
TZNAME:EST
DTSTART:20251102T060000
END:STANDARD
BEGIN:DAYLIGHT
TZOFFSETFROM:-0500
TZOFFSETTO:-0400
TZNAME:EDT
DTSTART:20260308T070000
END:DAYLIGHT
BEGIN:STANDARD
TZOFFSETFROM:-0400
TZOFFSETTO:-0500
TZNAME:EST
DTSTART:20261101T060000
END:STANDARD
END:VTIMEZONE
BEGIN:VEVENT
DTSTART;TZID=America/New_York:20250620T190000
DTEND;TZID=America/New_York:20250620T203000
DTSTAMP:20260421T233351
CREATED:20250212T033342Z
LAST-MODIFIED:20250303T125139Z
UID:10020217-1750446000-1750451400@commonstreet.org
SUMMARY:Kirtan: East-West
DESCRIPTION:A blend of traditional chants with western instrumentation and melodies in a call and response format. An active\, effective way to meditate. No previous chanting experience is necessary. All are welcome!\nMichael Orlando- Kirtan Leader\nLisa Leake- Response leader\nDave Curry- Percussion \nCost: $20
URL:https://commonstreet.org/event/kirtan-east-west-13/
LOCATION:Sanctuary at Common Street Spiritual Center\, 13 Common Street\, Natick\, MA\, 01760\, United States
CATEGORIES:Meditation,Music and Arts
ATTACH;FMTTYPE=image/jpeg:https://commonstreet.org/wp-content/uploads/2025/02/Kirtan-Event-June-20-2025-scaled.jpg
ORGANIZER;CN="Michael Orlando":MAILTO:mikelouorlando@gmail.com
END:VEVENT
END:VCALENDAR