BEGIN:VCALENDAR
VERSION:2.0
PRODID:-//Common Street Spiritual Center - ECPv6.15.20//NONSGML v1.0//EN
CALSCALE:GREGORIAN
METHOD:PUBLISH
X-WR-CALNAME:Common Street Spiritual Center
X-ORIGINAL-URL:https://commonstreet.org
X-WR-CALDESC:Events for Common Street Spiritual Center
REFRESH-INTERVAL;VALUE=DURATION:PT1H
X-Robots-Tag:noindex
X-PUBLISHED-TTL:PT1H
BEGIN:VTIMEZONE
TZID:America/New_York
BEGIN:DAYLIGHT
TZOFFSETFROM:-0500
TZOFFSETTO:-0400
TZNAME:EDT
DTSTART:20220313T070000
END:DAYLIGHT
BEGIN:STANDARD
TZOFFSETFROM:-0400
TZOFFSETTO:-0500
TZNAME:EST
DTSTART:20221106T060000
END:STANDARD
BEGIN:DAYLIGHT
TZOFFSETFROM:-0500
TZOFFSETTO:-0400
TZNAME:EDT
DTSTART:20230312T070000
END:DAYLIGHT
BEGIN:STANDARD
TZOFFSETFROM:-0400
TZOFFSETTO:-0500
TZNAME:EST
DTSTART:20231105T060000
END:STANDARD
BEGIN:DAYLIGHT
TZOFFSETFROM:-0500
TZOFFSETTO:-0400
TZNAME:EDT
DTSTART:20240310T070000
END:DAYLIGHT
BEGIN:STANDARD
TZOFFSETFROM:-0400
TZOFFSETTO:-0500
TZNAME:EST
DTSTART:20241103T060000
END:STANDARD
END:VTIMEZONE
BEGIN:VEVENT
DTSTART;TZID=America/New_York:20231217T183000
DTEND;TZID=America/New_York:20231217T210000
DTSTAMP:20260421T140709
CREATED:20231211T160603Z
LAST-MODIFIED:20231211T160603Z
UID:10012884-1702837800-1702846800@commonstreet.org
SUMMARY:Preparing For Renewal - A Cacao Ceremony To Create Space For What's Next
DESCRIPTION:As we approach the end of 2023\, it’s the perfect time for reflection and preparation for the new year. \nWe invite you to our special Cacao Ceremony themed “Preparing For Renewal\,” an intentional gathering designed to facilitate a mindful transition into the upcoming year. \nWHAT YOU CAN LOOK FORWARD TO: \n– Reflect and Release Workshop: Begin with a workshop to review the year 2023\, identifying key themes and experiences. Learn effective strategies for conscious closure and letting go of what no longer serves you. \n– Ceremonial Cacao Experience: Engage in a heart-opening Cacao Ceremony\, enhanced by the unique\, creamy blend of our ceremonial-grade Cacao from Prophecy Chocolate\, enriched with oat milk\, spices\, vanilla\, and maple syrup. \n– Themed Meditations: Participate in guided meditations\, focusing on processing the past year and setting intentions for renewal\, all amplified by the nurturing energy of Cacao. \nEVENT DETAILS & LOGISTICS \nWhere is it? – The event is held at the Common Street Spiritual Center in Natick\, MA which is a beautiful facility for an event like this. \nWhat time? – We start promptly at 6:30 PM and go until 9:00 PM (with a break in the middle). Please plan on arriving by 6:15pm so you have time to park\, and then settle in and meet the others. \nI’m looking forward to seeing you there. \nWarmly\,\nJason
URL:https://commonstreet.org/event/preparing-for-renewal-a-cacao-ceremony-to-create-space-for-whats-next/
LOCATION:Moon Room @ Common Street Spiritual Center\, 13 Common Street\, Natick\, 01760\, United States
CATEGORIES:Healing,Meditation,Other,Workshop
ATTACH;FMTTYPE=image/jpeg:https://commonstreet.org/wp-content/uploads/2023/12/Cacao-Ceremony-Preparing-For-Renewal.jpg
ORGANIZER;CN="Jason McGarva":MAILTO:info@commonstreet.org
END:VEVENT
END:VCALENDAR