BEGIN:VCALENDAR
VERSION:2.0
PRODID:-//Common Street Spiritual Center - ECPv6.15.20//NONSGML v1.0//EN
CALSCALE:GREGORIAN
METHOD:PUBLISH
X-ORIGINAL-URL:https://commonstreet.org
X-WR-CALDESC:Events for Common Street Spiritual Center
REFRESH-INTERVAL;VALUE=DURATION:PT1H
X-Robots-Tag:noindex
X-PUBLISHED-TTL:PT1H
BEGIN:VTIMEZONE
TZID:America/New_York
BEGIN:DAYLIGHT
TZOFFSETFROM:-0500
TZOFFSETTO:-0400
TZNAME:EDT
DTSTART:20220313T070000
END:DAYLIGHT
BEGIN:STANDARD
TZOFFSETFROM:-0400
TZOFFSETTO:-0500
TZNAME:EST
DTSTART:20221106T060000
END:STANDARD
BEGIN:DAYLIGHT
TZOFFSETFROM:-0500
TZOFFSETTO:-0400
TZNAME:EDT
DTSTART:20230312T070000
END:DAYLIGHT
BEGIN:STANDARD
TZOFFSETFROM:-0400
TZOFFSETTO:-0500
TZNAME:EST
DTSTART:20231105T060000
END:STANDARD
BEGIN:DAYLIGHT
TZOFFSETFROM:-0500
TZOFFSETTO:-0400
TZNAME:EDT
DTSTART:20240310T070000
END:DAYLIGHT
BEGIN:STANDARD
TZOFFSETFROM:-0400
TZOFFSETTO:-0500
TZNAME:EST
DTSTART:20241103T060000
END:STANDARD
END:VTIMEZONE
BEGIN:VEVENT
DTSTART;TZID=America/New_York:20230719T183000
DTEND;TZID=America/New_York:20230719T210000
DTSTAMP:20260421T185256
CREATED:20230709T193631Z
LAST-MODIFIED:20230710T164951Z
UID:10007897-1689791400-1689800400@commonstreet.org
SUMMARY:Heart To Heart - Cacao Ceremony & Deep Connection Games (In Person)
DESCRIPTION:You are invited to join us at a truly unique and connected event: Heart To Heart. During this special evening we’ll be blending two of my favorite things: \nA magical Cacao ceremony to help us all drop into our hearts\, followed by some really fun\, deeply engaging connection games. \nWHAT IS A CACAO CEREMONY? \nA Cacao Ceremony is a ritualistic gathering where participants drink ceremonial-grade Cacao to foster a sense of unity\, openness\, and introspection. \nThe ceremonial-grade Cacao serves as a natural heart opener\, encouraging a deep emotional connection to oneself and to others in the group. \nThe value of this ceremony lies in its power to dissolve barriers\, enhance mindfulness\, and nurture a warm sense of community\, helping individuals to experience deeper levels of connection and understanding. \nWHAT MAKES THIS CACAO SPECIAL? \nI pride myself on serving some of the best-tasting ceremonial Cacao you’ll ever have. Cacao is not the same thing as hot chocolate. It’s a bitter stimulant\, and it’s generally fairly watery and bitter. \nMine is different. \nI prepare mine with full fat oat milk for a smooth\, creamy base and source our Cacao from Prophecy Chocolate\, known for its premium quality. \nThen I add a unique blend of spices (including a hint of cayenne pepper)\, vanilla\, and maple syrup to sweeten it. \nIt’s a heartwarming drink that not only tastes great but also helps set the stage for deeper\, more meaningful interactions. \nNext we move into playing some deep connection games \nWHAT ARE DEEP CONNECTION GAMES? \nRather than having a bunch of polite small talk\, we will focus on playing games that create heartfelt connections with each other. \nBy participating in these heart opening games\, you’ll not only have a lot of fun\, but you’ll learn a so much about yourself and the people around you. You’ll get to share things you would normally never get to share at a typical social gathering. \nDoes that sound like music to your ears? I am excited to co-create this intentional social / ceremonial gathering together with you. \nEVENT DETAILS & LOGISTICS \nWhere is it? – The event is held at the Common Street Spiritual Center in Natick\, MA which is a beautiful facility for an event like this. \nWhat time? – We start promptly at 6:30 PM and go until 9:00 PM (with a break in the middle). Please plan on arriving by 6:15pm so you have time to park\, and then settle in and meet the others. \nHOW TO REGISTER: Pricing and registration details are on the Eventbrite page here: \nhttps://www.eventbrite.com/e/674546906957 \nI’m looking forward to seeing you there. \nWarmly\,\nJason \nP.S. – Please check the FAQ section at the bottom of the Eventbrite link to make sure Cacao is safe for you. It generally is for most people\, but it’s good to have a look to be sure.
URL:https://commonstreet.org/event/heart-to-heart-cacao-ceremony-deep-connection-games-in-person/
LOCATION:MA
CATEGORIES:Dialogue,Healing,Other,Spiritual,Workshop
ATTACH;FMTTYPE=image/jpeg:https://commonstreet.org/wp-content/uploads/2023/07/Heart-To-Heart.jpg
ORGANIZER;CN="Jason McGarva":MAILTO:info@commonstreet.org
END:VEVENT
END:VCALENDAR