BEGIN:VCALENDAR
VERSION:2.0
PRODID:-//Common Street Spiritual Center - ECPv6.15.20//NONSGML v1.0//EN
CALSCALE:GREGORIAN
METHOD:PUBLISH
X-WR-CALNAME:Common Street Spiritual Center
X-ORIGINAL-URL:https://commonstreet.org
X-WR-CALDESC:Events for Common Street Spiritual Center
REFRESH-INTERVAL;VALUE=DURATION:PT1H
X-Robots-Tag:noindex
X-PUBLISHED-TTL:PT1H
BEGIN:VTIMEZONE
TZID:America/New_York
BEGIN:DAYLIGHT
TZOFFSETFROM:-0500
TZOFFSETTO:-0400
TZNAME:EDT
DTSTART:20300310T070000
END:DAYLIGHT
BEGIN:STANDARD
TZOFFSETFROM:-0400
TZOFFSETTO:-0500
TZNAME:EST
DTSTART:20301103T060000
END:STANDARD
BEGIN:DAYLIGHT
TZOFFSETFROM:-0500
TZOFFSETTO:-0400
TZNAME:EDT
DTSTART:20310309T070000
END:DAYLIGHT
BEGIN:STANDARD
TZOFFSETFROM:-0400
TZOFFSETTO:-0500
TZNAME:EST
DTSTART:20311102T060000
END:STANDARD
BEGIN:DAYLIGHT
TZOFFSETFROM:-0500
TZOFFSETTO:-0400
TZNAME:EDT
DTSTART:20320314T070000
END:DAYLIGHT
BEGIN:STANDARD
TZOFFSETFROM:-0400
TZOFFSETTO:-0500
TZNAME:EST
DTSTART:20321107T060000
END:STANDARD
END:VTIMEZONE
BEGIN:VEVENT
DTSTART;TZID=America/New_York:20310318T190000
DTEND;TZID=America/New_York:20310318T203000
DTSTAMP:20260425T193718
CREATED:20250901T123654Z
LAST-MODIFIED:20250901T123846Z
UID:10028239-1931626800-1931632200@commonstreet.org
SUMMARY:Chanting and Meditation Group
DESCRIPTION:This chanting and meditation group is designed to tap into our inner freedom. We will have two 15 minute sessions of chanting and two 30 minute sessions of meditation. Through the actions of chanting and meditation\, the aim is to free all the thoughts and emotions stuck within our minds and bodies. And over time\, the goal is to free ourselves from our unconscious programming we have built over our lifetimes and deepen our connection with Spirit.\n\n\nThe event is free and open to the community. Donations are welcome but not required and can be sent via Venmo to @Emmanuel-Weinman or by cash.\n\n\nFor any questions or comments\, please contact Emmanuel Krishna by email: emanwman@gmail.com or phone: 978-578-9707
URL:https://commonstreet.org/event/chanting-and-meditation-group-2-2-4/2031-03-18/
LOCATION:Moon Room @ Common Street Spiritual Center\, 13 Common Street\, Natick\, 01760\, United States
CATEGORIES:Community,Healing,Meditation,Spiritual
ATTACH;FMTTYPE=image/jpeg:https://commonstreet.org/wp-content/uploads/2025/06/B139037B-783E-4ADD-A76D-11F2999685B31.jpg
ORGANIZER;CN="Emmanuel Krishna Weinman":MAILTO:emanwman@gmail.com
END:VEVENT
BEGIN:VEVENT
DTSTART;TZID=America/New_York:20310320T180000
DTEND;TZID=America/New_York:20310320T220000
DTSTAMP:20260425T193718
CREATED:20260424T191752Z
LAST-MODIFIED:20260424T191752Z
UID:10028424-1931796000-1931810400@commonstreet.org
SUMMARY:¿How Lovely Are We? an evening of yoga\, open mic\, teach-in\, and ecstatic dance
DESCRIPTION:Join us in person for a celebratory blend of YOGA\, OPEN MIC\, TEACH-IN\, and ECSTATIC DANCE. \nCollective Activation to EXPERIENCE\, EXPRESS\, EXPLORE\, and EXPAND ourselves individually in community – come discover how lovely we all are. \nIt’s all about good vibes\, connecting\, and expressing yourself freely. Whether you wanna stretch\, share your voice\, learn something new\, or just dance your heart out\, this event series is for you! \nSee more at https://www.howlovelyarewe.org/
URL:https://commonstreet.org/event/how-lovely-are-we-an-evening-of-yoga-open-mic-teach-in-and-ecstatic-dance-2/2031-03-20/
LOCATION:Common Street Spiritual Center\, 13 Common Street\, Natick\, 01760\, United States
CATEGORIES:Community,Dance,Music and Arts,Other,Peace and Justice,Spiritual,Talk,Yoga
ATTACH;FMTTYPE=image/jpeg:https://commonstreet.org/wp-content/uploads/2026/04/¿How-Lovely-Are-We-flyer.jpg
ORGANIZER;CN="Curtis Falzoi":MAILTO:cjfalzoi@gmail.com
END:VEVENT
BEGIN:VEVENT
DTSTART;TZID=America/New_York:20310321T190000
DTEND;TZID=America/New_York:20310321T210000
DTSTAMP:20260425T193719
CREATED:20260402T015745Z
LAST-MODIFIED:20260402T015747Z
UID:10028157-1931886000-1931893200@commonstreet.org
SUMMARY:Goddess Gathering: Monthly Women’s Circle
DESCRIPTION:Monthly Goddess Gathering at Common Street \nSisters of Common Street\, this is your invitation to step into a space created just for you\, a place to be seen\, heard\, and supported by the women who share this community with you. \nEach month\, we gather to connect in a real\, grounded way. We share our stories\, hold space for each other’s joys and struggles\, and grow together through the beauty and messiness of life. Some nights we laugh until our sides ache\, and other nights we sit quietly in reflection. All of it belongs. \nThis is a circle for every woman at Common Street. Whether you’ve been here for years or just walked through the doors. Bring your whole self. Bring your curiosity. Bring your heart. \nCome as you are\, leave feeling nourished and connected.
URL:https://commonstreet.org/event/goddess-gathering-monthly-womens-circle-2-3/2031-03-21/
LOCATION:Moon Room @ Common Street Spiritual Center\, 13 Common Street\, Natick\, 01760\, United States
ATTACH;FMTTYPE=image/jpeg:https://commonstreet.org/wp-content/uploads/2025/08/Untitled-design1.jpg
ORGANIZER;CN="Divine Connection Boston":MAILTO:divineconnectionsboston@gmail.com
END:VEVENT
BEGIN:VEVENT
DTSTART;TZID=America/New_York:20310322T090000
DTEND;TZID=America/New_York:20310322T100000
DTSTAMP:20260425T193719
CREATED:20250908T234413Z
LAST-MODIFIED:20250909T161747Z
UID:10028200-1931936400-1931940000@commonstreet.org
SUMMARY:Mohanji Meditations
DESCRIPTION:The Mohanji Meditation is a powerful heart-opening guided meditation that offers release from binding patterns through love and gratitude. \nAll are welcome. No prior experience necessary.
URL:https://commonstreet.org/event/mohanji-meditations-12-2/2031-03-22/
LOCATION:Meeting Room of CSSC
CATEGORIES:Class,Healing,Meditation,Spiritual
ATTACH;FMTTYPE=image/png:https://commonstreet.org/wp-content/uploads/2025/09/Mohanji-Meditations.png
ORGANIZER;CN="Supriya Karan":MAILTO:supriyakaran@yahoo.com
END:VEVENT
BEGIN:VEVENT
DTSTART;TZID=America/New_York:20310325T190000
DTEND;TZID=America/New_York:20310325T203000
DTSTAMP:20260425T193719
CREATED:20250901T123654Z
LAST-MODIFIED:20250901T123846Z
UID:10028240-1932231600-1932237000@commonstreet.org
SUMMARY:Chanting and Meditation Group
DESCRIPTION:This chanting and meditation group is designed to tap into our inner freedom. We will have two 15 minute sessions of chanting and two 30 minute sessions of meditation. Through the actions of chanting and meditation\, the aim is to free all the thoughts and emotions stuck within our minds and bodies. And over time\, the goal is to free ourselves from our unconscious programming we have built over our lifetimes and deepen our connection with Spirit.\n\n\nThe event is free and open to the community. Donations are welcome but not required and can be sent via Venmo to @Emmanuel-Weinman or by cash.\n\n\nFor any questions or comments\, please contact Emmanuel Krishna by email: emanwman@gmail.com or phone: 978-578-9707
URL:https://commonstreet.org/event/chanting-and-meditation-group-2-2-4/2031-03-25/
LOCATION:Moon Room @ Common Street Spiritual Center\, 13 Common Street\, Natick\, 01760\, United States
CATEGORIES:Community,Healing,Meditation,Spiritual
ATTACH;FMTTYPE=image/jpeg:https://commonstreet.org/wp-content/uploads/2025/06/B139037B-783E-4ADD-A76D-11F2999685B31.jpg
ORGANIZER;CN="Emmanuel Krishna Weinman":MAILTO:emanwman@gmail.com
END:VEVENT
BEGIN:VEVENT
DTSTART;TZID=America/New_York:20310329T090000
DTEND;TZID=America/New_York:20310329T100000
DTSTAMP:20260425T193719
CREATED:20250908T234413Z
LAST-MODIFIED:20250909T161747Z
UID:10028201-1932541200-1932544800@commonstreet.org
SUMMARY:Mohanji Meditations
DESCRIPTION:The Mohanji Meditation is a powerful heart-opening guided meditation that offers release from binding patterns through love and gratitude. \nAll are welcome. No prior experience necessary.
URL:https://commonstreet.org/event/mohanji-meditations-12-2/2031-03-29/
LOCATION:Meeting Room of CSSC
CATEGORIES:Class,Healing,Meditation,Spiritual
ATTACH;FMTTYPE=image/png:https://commonstreet.org/wp-content/uploads/2025/09/Mohanji-Meditations.png
ORGANIZER;CN="Supriya Karan":MAILTO:supriyakaran@yahoo.com
END:VEVENT
BEGIN:VEVENT
DTSTART;TZID=America/New_York:20310329T183000
DTEND;TZID=America/New_York:20310329T210000
DTSTAMP:20260425T193719
CREATED:20260408T221030Z
LAST-MODIFIED:20260408T221032Z
UID:10028207-1932575400-1932584400@commonstreet.org
SUMMARY:Natick Open Mic
DESCRIPTION:A public open mic that is geared for adult performers\, but welcomes all ages of audience members. Normally every 5th Saturday (of months with 5 Saturdays)\, but this time on a Friday. \nThe Natick Open Mic prides itself on having a diverse range of performances that can include singer/songwriters\, instrumentalists\, spoken word artists and poets\, comedians\, dancers…. pretty much anything that can be performed in front of an audience that is in good taste.  Each performer gets 8 minutes of stage time (which equates roughly to two songs).  We provide all the audio gear to make you sound great\, including a baby grand piano.  Acts can include groups of up to 4 players (larger groups will require special consideration). \n$5 for both audience members & performers \n 
URL:https://commonstreet.org/event/natick-open-mic-7-2/2031-03-29/
LOCATION:Sanctuary at Common Street Spiritual Center\, 13 Common Street\, Natick\, MA\, 01760\, United States
ATTACH;FMTTYPE=image/png:https://commonstreet.org/wp-content/uploads/2025/12/6MULaGooFVy00QJN.png
ORGANIZER;CN="Dave Curry":MAILTO:drumhead@drumsforoneandall.com
END:VEVENT
BEGIN:VEVENT
DTSTART;TZID=America/New_York:20310401T190000
DTEND;TZID=America/New_York:20310401T203000
DTSTAMP:20260425T193719
CREATED:20250901T123654Z
LAST-MODIFIED:20250901T123846Z
UID:10028241-1932836400-1932841800@commonstreet.org
SUMMARY:Chanting and Meditation Group
DESCRIPTION:This chanting and meditation group is designed to tap into our inner freedom. We will have two 15 minute sessions of chanting and two 30 minute sessions of meditation. Through the actions of chanting and meditation\, the aim is to free all the thoughts and emotions stuck within our minds and bodies. And over time\, the goal is to free ourselves from our unconscious programming we have built over our lifetimes and deepen our connection with Spirit.\n\n\nThe event is free and open to the community. Donations are welcome but not required and can be sent via Venmo to @Emmanuel-Weinman or by cash.\n\n\nFor any questions or comments\, please contact Emmanuel Krishna by email: emanwman@gmail.com or phone: 978-578-9707
URL:https://commonstreet.org/event/chanting-and-meditation-group-2-2-4/2031-04-01/
LOCATION:Moon Room @ Common Street Spiritual Center\, 13 Common Street\, Natick\, 01760\, United States
CATEGORIES:Community,Healing,Meditation,Spiritual
ATTACH;FMTTYPE=image/jpeg:https://commonstreet.org/wp-content/uploads/2025/06/B139037B-783E-4ADD-A76D-11F2999685B31.jpg
ORGANIZER;CN="Emmanuel Krishna Weinman":MAILTO:emanwman@gmail.com
END:VEVENT
BEGIN:VEVENT
DTSTART;TZID=America/New_York:20310403T180000
DTEND;TZID=America/New_York:20310403T220000
DTSTAMP:20260425T193719
CREATED:20260424T191633Z
LAST-MODIFIED:20260424T191633Z
UID:10028305-1933005600-1933020000@commonstreet.org
SUMMARY:¿How Lovely Are We? an evening of yoga\, open mic\, teach-in\, and ecstatic dance
DESCRIPTION:Join us in person for a celebratory blend of YOGA\, OPEN MIC\, TEACH-IN\, and ECSTATIC DANCE. \nCollective Activation to EXPERIENCE\, EXPRESS\, EXPLORE\, and EXPAND ourselves individually in community – come discover how lovely we all are. \nIt’s all about good vibes\, connecting\, and expressing yourself freely. Whether you wanna stretch\, share your voice\, learn something new\, or just dance your heart out\, this event series is for you! \nSee more at https://www.howlovelyarewe.org/
URL:https://commonstreet.org/event/how-lovely-are-we-an-evening-of-yoga-open-mic-teach-in-and-ecstatic-dance/2031-04-03/
LOCATION:Common Street Spiritual Center\, 13 Common Street\, Natick\, 01760\, United States
CATEGORIES:Community,Dance,Music and Arts,Other,Peace and Justice,Spiritual,Talk,Yoga
ATTACH;FMTTYPE=image/jpeg:https://commonstreet.org/wp-content/uploads/2026/04/¿How-Lovely-Are-We-flyer.jpg
ORGANIZER;CN="Curtis Falzoi":MAILTO:cjfalzoi@gmail.com
END:VEVENT
BEGIN:VEVENT
DTSTART;TZID=America/New_York:20310405T090000
DTEND;TZID=America/New_York:20310405T100000
DTSTAMP:20260425T193719
CREATED:20250908T234413Z
LAST-MODIFIED:20250909T161747Z
UID:10028202-1933146000-1933149600@commonstreet.org
SUMMARY:Mohanji Meditations
DESCRIPTION:The Mohanji Meditation is a powerful heart-opening guided meditation that offers release from binding patterns through love and gratitude. \nAll are welcome. No prior experience necessary.
URL:https://commonstreet.org/event/mohanji-meditations-12-2/2031-04-05/
LOCATION:Meeting Room of CSSC
CATEGORIES:Class,Healing,Meditation,Spiritual
ATTACH;FMTTYPE=image/png:https://commonstreet.org/wp-content/uploads/2025/09/Mohanji-Meditations.png
ORGANIZER;CN="Supriya Karan":MAILTO:supriyakaran@yahoo.com
END:VEVENT
BEGIN:VEVENT
DTSTART;TZID=America/New_York:20310408T190000
DTEND;TZID=America/New_York:20310408T203000
DTSTAMP:20260425T193719
CREATED:20250901T123654Z
LAST-MODIFIED:20250901T123846Z
UID:10028242-1933441200-1933446600@commonstreet.org
SUMMARY:Chanting and Meditation Group
DESCRIPTION:This chanting and meditation group is designed to tap into our inner freedom. We will have two 15 minute sessions of chanting and two 30 minute sessions of meditation. Through the actions of chanting and meditation\, the aim is to free all the thoughts and emotions stuck within our minds and bodies. And over time\, the goal is to free ourselves from our unconscious programming we have built over our lifetimes and deepen our connection with Spirit.\n\n\nThe event is free and open to the community. Donations are welcome but not required and can be sent via Venmo to @Emmanuel-Weinman or by cash.\n\n\nFor any questions or comments\, please contact Emmanuel Krishna by email: emanwman@gmail.com or phone: 978-578-9707
URL:https://commonstreet.org/event/chanting-and-meditation-group-2-2-4/2031-04-08/
LOCATION:Moon Room @ Common Street Spiritual Center\, 13 Common Street\, Natick\, 01760\, United States
CATEGORIES:Community,Healing,Meditation,Spiritual
ATTACH;FMTTYPE=image/jpeg:https://commonstreet.org/wp-content/uploads/2025/06/B139037B-783E-4ADD-A76D-11F2999685B31.jpg
ORGANIZER;CN="Emmanuel Krishna Weinman":MAILTO:emanwman@gmail.com
END:VEVENT
BEGIN:VEVENT
DTSTART;TZID=America/New_York:20310417T180000
DTEND;TZID=America/New_York:20310417T220000
DTSTAMP:20260425T193719
CREATED:20260424T191752Z
LAST-MODIFIED:20260424T191752Z
UID:10028425-1934215200-1934229600@commonstreet.org
SUMMARY:¿How Lovely Are We? an evening of yoga\, open mic\, teach-in\, and ecstatic dance
DESCRIPTION:Join us in person for a celebratory blend of YOGA\, OPEN MIC\, TEACH-IN\, and ECSTATIC DANCE. \nCollective Activation to EXPERIENCE\, EXPRESS\, EXPLORE\, and EXPAND ourselves individually in community – come discover how lovely we all are. \nIt’s all about good vibes\, connecting\, and expressing yourself freely. Whether you wanna stretch\, share your voice\, learn something new\, or just dance your heart out\, this event series is for you! \nSee more at https://www.howlovelyarewe.org/
URL:https://commonstreet.org/event/how-lovely-are-we-an-evening-of-yoga-open-mic-teach-in-and-ecstatic-dance-2/2031-04-17/
LOCATION:Common Street Spiritual Center\, 13 Common Street\, Natick\, 01760\, United States
CATEGORIES:Community,Dance,Music and Arts,Other,Peace and Justice,Spiritual,Talk,Yoga
ATTACH;FMTTYPE=image/jpeg:https://commonstreet.org/wp-content/uploads/2026/04/¿How-Lovely-Are-We-flyer.jpg
ORGANIZER;CN="Curtis Falzoi":MAILTO:cjfalzoi@gmail.com
END:VEVENT
END:VCALENDAR