BEGIN:VCALENDAR
VERSION:2.0
PRODID:-//Common Street Spiritual Center - ECPv6.15.20//NONSGML v1.0//EN
CALSCALE:GREGORIAN
METHOD:PUBLISH
X-WR-CALNAME:Common Street Spiritual Center
X-ORIGINAL-URL:https://commonstreet.org
X-WR-CALDESC:Events for Common Street Spiritual Center
REFRESH-INTERVAL;VALUE=DURATION:PT1H
X-Robots-Tag:noindex
X-PUBLISHED-TTL:PT1H
BEGIN:VTIMEZONE
TZID:America/New_York
BEGIN:DAYLIGHT
TZOFFSETFROM:-0500
TZOFFSETTO:-0400
TZNAME:EDT
DTSTART:20220313T070000
END:DAYLIGHT
BEGIN:STANDARD
TZOFFSETFROM:-0400
TZOFFSETTO:-0500
TZNAME:EST
DTSTART:20221106T060000
END:STANDARD
BEGIN:DAYLIGHT
TZOFFSETFROM:-0500
TZOFFSETTO:-0400
TZNAME:EDT
DTSTART:20230312T070000
END:DAYLIGHT
BEGIN:STANDARD
TZOFFSETFROM:-0400
TZOFFSETTO:-0500
TZNAME:EST
DTSTART:20231105T060000
END:STANDARD
BEGIN:DAYLIGHT
TZOFFSETFROM:-0500
TZOFFSETTO:-0400
TZNAME:EDT
DTSTART:20240310T070000
END:DAYLIGHT
BEGIN:STANDARD
TZOFFSETFROM:-0400
TZOFFSETTO:-0500
TZNAME:EST
DTSTART:20241103T060000
END:STANDARD
END:VTIMEZONE
BEGIN:VEVENT
DTSTART;TZID=America/New_York:20230623T190000
DTEND;TZID=America/New_York:20230623T210000
DTSTAMP:20260422T024946
CREATED:20230617T103031Z
LAST-MODIFIED:20230618T132224Z
UID:10007877-1687546800-1687554000@commonstreet.org
SUMMARY:Rock Off Main -- All Ages Youth Concert
DESCRIPTION:Start off the Summer with a night of amazing local music from some of the best young musicians in Metro West! Rock Off Main All Ages show is Friday June 23rd at The Common Street Spiritual Center in Natick Center Doors at 7PM. Only $10
URL:https://commonstreet.org/event/rock-off-main-all-ages-youth-concert/
LOCATION:MA
CATEGORIES:Community,Music and Arts,Youth
ATTACH;FMTTYPE=image/jpeg:https://commonstreet.org/wp-content/uploads/2023/06/rock-off-main-june-23.jpg
ORGANIZER;CN="Diane Young":MAILTO:becne@aol.com
END:VEVENT
END:VCALENDAR