BEGIN:VCALENDAR
VERSION:2.0
PRODID:-//Common Street Spiritual Center - ECPv6.15.20//NONSGML v1.0//EN
CALSCALE:GREGORIAN
METHOD:PUBLISH
X-WR-CALNAME:Common Street Spiritual Center
X-ORIGINAL-URL:https://commonstreet.org
X-WR-CALDESC:Events for Common Street Spiritual Center
REFRESH-INTERVAL;VALUE=DURATION:PT1H
X-Robots-Tag:noindex
X-PUBLISHED-TTL:PT1H
BEGIN:VTIMEZONE
TZID:America/New_York
BEGIN:DAYLIGHT
TZOFFSETFROM:-0500
TZOFFSETTO:-0400
TZNAME:EDT
DTSTART:20220313T070000
END:DAYLIGHT
BEGIN:STANDARD
TZOFFSETFROM:-0400
TZOFFSETTO:-0500
TZNAME:EST
DTSTART:20221106T060000
END:STANDARD
BEGIN:DAYLIGHT
TZOFFSETFROM:-0500
TZOFFSETTO:-0400
TZNAME:EDT
DTSTART:20230312T070000
END:DAYLIGHT
BEGIN:STANDARD
TZOFFSETFROM:-0400
TZOFFSETTO:-0500
TZNAME:EST
DTSTART:20231105T060000
END:STANDARD
BEGIN:DAYLIGHT
TZOFFSETFROM:-0500
TZOFFSETTO:-0400
TZNAME:EDT
DTSTART:20240310T070000
END:DAYLIGHT
BEGIN:STANDARD
TZOFFSETFROM:-0400
TZOFFSETTO:-0500
TZNAME:EST
DTSTART:20241103T060000
END:STANDARD
END:VTIMEZONE
BEGIN:VEVENT
DTSTART;TZID=America/New_York:20230519T190000
DTEND;TZID=America/New_York:20230519T220000
DTSTAMP:20260422T025016
CREATED:20230428T151414Z
LAST-MODIFIED:20230512T005955Z
UID:10006508-1684522800-1684533600@commonstreet.org
SUMMARY:Rock Off Main - All Ages Show
DESCRIPTION:Rock Off Main showcases performances by youth and young adult musicians. Tickets are $10 at the door.
URL:https://commonstreet.org/event/rock-off-main-all-ages-show-2/
LOCATION:MA
CATEGORIES:Music and Arts,Youth
ORGANIZER;CN="Diane Young":MAILTO:becne@aol.com
END:VEVENT
END:VCALENDAR