BEGIN:VCALENDAR
VERSION:2.0
PRODID:-//Common Street Spiritual Center - ECPv6.15.20//NONSGML v1.0//EN
CALSCALE:GREGORIAN
METHOD:PUBLISH
X-WR-CALNAME:Common Street Spiritual Center
X-ORIGINAL-URL:https://commonstreet.org
X-WR-CALDESC:Events for Common Street Spiritual Center
REFRESH-INTERVAL;VALUE=DURATION:PT1H
X-Robots-Tag:noindex
X-PUBLISHED-TTL:PT1H
BEGIN:VTIMEZONE
TZID:America/New_York
BEGIN:DAYLIGHT
TZOFFSETFROM:-0500
TZOFFSETTO:-0400
TZNAME:EDT
DTSTART:20240310T070000
END:DAYLIGHT
BEGIN:STANDARD
TZOFFSETFROM:-0400
TZOFFSETTO:-0500
TZNAME:EST
DTSTART:20241103T060000
END:STANDARD
BEGIN:DAYLIGHT
TZOFFSETFROM:-0500
TZOFFSETTO:-0400
TZNAME:EDT
DTSTART:20250309T070000
END:DAYLIGHT
BEGIN:STANDARD
TZOFFSETFROM:-0400
TZOFFSETTO:-0500
TZNAME:EST
DTSTART:20251102T060000
END:STANDARD
BEGIN:DAYLIGHT
TZOFFSETFROM:-0500
TZOFFSETTO:-0400
TZNAME:EDT
DTSTART:20260308T070000
END:DAYLIGHT
BEGIN:STANDARD
TZOFFSETFROM:-0400
TZOFFSETTO:-0500
TZNAME:EST
DTSTART:20261101T060000
END:STANDARD
END:VTIMEZONE
BEGIN:VEVENT
DTSTART;TZID=America/New_York:20250531T140000
DTEND;TZID=America/New_York:20250531T170000
DTSTAMP:20260425T145437
CREATED:20250509T225502Z
LAST-MODIFIED:20250530T210857Z
UID:10020948-1748700000-1748710800@commonstreet.org
SUMMARY:Aura- The Harmony Within
DESCRIPTION:Discover inner balance with Art & Ayurveda \n🌿 Part 1: The Healing Power of Color & Energy \nSpeaker: Dr. Nina Fine\, Ayurvedic Doctor\nExplore how the five elements and three doshas influence your well-being. Learn how colors can restore harmony and uplift your inner vibrations. \n🎨 Part 2: Mandala Painting Workshop \nFacilitator: Kanchan Tare\, Experienced Mandala Artist\n• Introduction to Mandala: Understand the symbolism of balance and unity.\n• Create Your Own Mandala: No prior experience needed. All supplies provided.\nEngage in a calming art activity and take home a personal mandala reflecting your inner self.
URL:https://commonstreet.org/event/aura-the-harmony-within/
LOCATION:MA
CATEGORIES:Healing,Meditation,Music and Arts,Spiritual,Workshop
ATTACH;FMTTYPE=image/jpeg:https://commonstreet.org/wp-content/uploads/2025/05/AURA.png.jpeg
END:VEVENT
END:VCALENDAR