BEGIN:VCALENDAR
VERSION:2.0
PRODID:-//Common Street Spiritual Center - ECPv6.15.20//NONSGML v1.0//EN
CALSCALE:GREGORIAN
METHOD:PUBLISH
X-WR-CALNAME:Common Street Spiritual Center
X-ORIGINAL-URL:https://commonstreet.org
X-WR-CALDESC:Events for Common Street Spiritual Center
REFRESH-INTERVAL;VALUE=DURATION:PT1H
X-Robots-Tag:noindex
X-PUBLISHED-TTL:PT1H
BEGIN:VTIMEZONE
TZID:America/New_York
BEGIN:DAYLIGHT
TZOFFSETFROM:-0500
TZOFFSETTO:-0400
TZNAME:EDT
DTSTART:20240310T070000
END:DAYLIGHT
BEGIN:STANDARD
TZOFFSETFROM:-0400
TZOFFSETTO:-0500
TZNAME:EST
DTSTART:20241103T060000
END:STANDARD
BEGIN:DAYLIGHT
TZOFFSETFROM:-0500
TZOFFSETTO:-0400
TZNAME:EDT
DTSTART:20250309T070000
END:DAYLIGHT
BEGIN:STANDARD
TZOFFSETFROM:-0400
TZOFFSETTO:-0500
TZNAME:EST
DTSTART:20251102T060000
END:STANDARD
BEGIN:DAYLIGHT
TZOFFSETFROM:-0500
TZOFFSETTO:-0400
TZNAME:EDT
DTSTART:20260308T070000
END:DAYLIGHT
BEGIN:STANDARD
TZOFFSETFROM:-0400
TZOFFSETTO:-0500
TZNAME:EST
DTSTART:20261101T060000
END:STANDARD
END:VTIMEZONE
BEGIN:VEVENT
DTSTART;TZID=America/New_York:20250109T160000
DTEND;TZID=America/New_York:20250109T180000
DTSTAMP:20260421T105234
CREATED:20250117T213946Z
LAST-MODIFIED:20250117T213946Z
UID:10019642-1736438400-1736445600@commonstreet.org
SUMMARY:Relationship Vision Workshop
DESCRIPTION:Relationship Vision Workshop: Create Your Ideal Connections \nInvent a new realm of magic in your relationships! Discover the value & transformative power of intentional partnership through an innovative vision board experience. \nWhat You’ll Achieve\nA personalized visual roadmap of your relationship aspirations\nDeep insights into your connection needs and desires\nAn empowering\, digital vision of your dream relationships \nWorkshop Highlights\nGuided reflection on the true value of relationships\nStreamlined image selection process\nDigital vision board creation (no magazine clipping or storage hassles)\nClarity and inspiration at your fingertips\nCreate the meaningful\, fulfilling connections you’ve always imagined—without the traditional vision board frustrations. \n$25\n~ We understand that cost can be a factor. Contact us at LiveIntuitiveTeam@gmail.com\n    to request a sliding scale price.
URL:https://commonstreet.org/event/relationship-vision-workshop-2/
LOCATION:Fellowship Hall @ Common Street\, 13 Common Street\, Natick\, MA\, 01760\, United States
CATEGORIES:Community,Dialogue,Workshop
ATTACH;FMTTYPE=image/png:https://commonstreet.org/wp-content/uploads/2025/01/Workshop-1-1.png
ORGANIZER;CN="Jenica Radack":MAILTO:j.c.radack@gmail.com
END:VEVENT
BEGIN:VEVENT
DTSTART;TZID=America/New_York:20250112T140000
DTEND;TZID=America/New_York:20250112T190000
DTSTAMP:20260421T105234
CREATED:20250106T004103Z
LAST-MODIFIED:20250106T004103Z
UID:10019247-1736690400-1736708400@commonstreet.org
SUMMARY:Self-Love Heart Chakra Retreat
DESCRIPTION:Join a community of like-hearted souls in a powerful Self-Love Journey.  In our fourth monthly chakra retreat\, we will explore the powerful qualities of the Heart Chakra:  the energy center of love\, compassion\, forgiveness\, healing\, gratitude\, perseverance\, transformation\, hope\, and more.  We will experience how this chakra supports our ability to create self-love through a variety of meaningful and fun chakra-supporting activities including yoga\, cacao ceremony\, guided meditation\, journaling\, community Reiki\, and more! \n\n \nHEART CHAKRA RETREAT SCHEDULE…\n\n* Opening Circle & Cacao Ceremony (2 – 3:15 pm)\n* Self-Love Heart Chakra Yoga with Inbal   (3:30 – 4:30 pm)\n* Snack Break & Community Connection Time (*Featuring Heart Chakra supporting snacks!)   (4:30 – 5 pm)\n* Guided Meditation with Desiree & Self-Love Journaling  (5 – 5:30 pm)\n* Small Group Discussion  (5:30 – 5:45 pm)\n* Community Reiki Share  (5:45 – 6:45 pm)\n* Closing Circle  (6:45 – 7 pm)\n \n(*Exact retreat timing subject to change!  Participants may choose which activities they would like to participate in and are welcome to opt out of any retreat activities they wish to!)\n\n\n \n———-——————–—-\n \n\nRETREAT DETAILS & REGISTRATION…\n \nDate:  Sunday\, January 12\, 2025\n\n \nTime:  2:00 pm – 7:00 pm\n\n \nRetreat Location:  “Common Street Spiritual Center”  (13 Common St\, Natick\, MA 01760)\n \nParking / Transportation:  There is a parking lot behind the spiritual center and lots of street parking within walking distance that is free on Sundays!  If you would like to come in by train\, The Natick Center Station is only a 6 minute walk from the spiritual center!  (If you are in need of a ride to Natick\, please let us know\, and we will attempt to put you in touch with someone in your area who is driving!)\n\n \nCost:  $60 – $80  (*Sliding Scale!)\n\n \n(Additional Financial Aid Available!  We believe in making this retreat accessible to all who wish to participate.  If you are in need of any additional financial assistance\, please contact Desiree & Inbal at RavensongRetreats@gmail.com and we will happily work something out with you!)\n\n \nRegistration & Payment:\n\n\n1) To sign-up\, please email Desiree & Inbal at RavensongRetreats@gmail.com.\n\n \n2) Please send a payment of $60-$80 prior to the retreat through Venmo to @inbaldagan or use this link to send a payment through credit card / PayPal: https://www.paypal.com/ncp/payment/X62TZJ3KTZ5XL. \n\n\nCancellation Policy:  There will be no refunds available for this retreat\, but you are welcome to use your payment as a credit towards a future Self-Love Chakra Retreat!  (See below for upcoming retreat dates!)\n\n \n\n———-——————–—-\n\n \n\nUPCOMING SELF-LOVE RETREATS!\n\n \nThroat Chakra Retreat:  February 16\, 2025\n\n \nThird Eye Chakra Retreat:  March 16\, 2025\n\n \nCrown Chakra Retreat:  April 27\, 2025  (Date TBA!)\n \n(*You are welcome to attend any or all chakra retreats!  You may wish to use your intuition to see which chakras you are most drawn to strengthen at this time and determine which retreats would be most helpful for you to attend!)\n\n \n\n\n———-——————–—-\n\n \n\n\nABOUT INBAL DAGAN…\n\n \n\n\nInbal Dagan (she/her) is a yoga teacher\, occupational therapist\, and Reiki practitioner with a passion for supporting others in their journey of healing & embodiment.  She believes that our self-love journey can be deeply strengthened by learning to be present and at home in our body\, and is excited to share her yoga & creative movement practices with our self-love retreat community.\n\n \n \nABOUT DESIREE DENNIS…\n\n \nDesiree Dennis (she/her) is a spirit medium\, Reiki Master\, and life-long musician who has facilitated spiritual workshops & retreats around the country.  As a person who has spent many years in dedication to her own self-love journey\, she is overjoyed to have the opportunity to continue exploring & deepening self-love within the supportive container of our conscious retreat community.  (To learn more about Desiree\, please visit www.spiritguidanceandhealing.com.)
URL:https://commonstreet.org/event/self-love-heart-chakra-retreat/
LOCATION:Sanctuary at Common Street Spiritual Center\, 13 Common Street\, Natick\, MA\, 01760\, United States
CATEGORIES:Community,Healing,Meditation,Spiritual,Workshop
ATTACH;FMTTYPE=image/jpeg:https://commonstreet.org/wp-content/uploads/2025/01/Heart-Chakra-Flyer.jpg
END:VEVENT
END:VCALENDAR