BEGIN:VCALENDAR
VERSION:2.0
PRODID:-//Common Street Spiritual Center - ECPv6.15.20//NONSGML v1.0//EN
CALSCALE:GREGORIAN
METHOD:PUBLISH
X-WR-CALNAME:Common Street Spiritual Center
X-ORIGINAL-URL:https://commonstreet.org
X-WR-CALDESC:Events for Common Street Spiritual Center
REFRESH-INTERVAL;VALUE=DURATION:PT1H
X-Robots-Tag:noindex
X-PUBLISHED-TTL:PT1H
BEGIN:VTIMEZONE
TZID:America/New_York
BEGIN:DAYLIGHT
TZOFFSETFROM:-0500
TZOFFSETTO:-0400
TZNAME:EDT
DTSTART:20240310T070000
END:DAYLIGHT
BEGIN:STANDARD
TZOFFSETFROM:-0400
TZOFFSETTO:-0500
TZNAME:EST
DTSTART:20241103T060000
END:STANDARD
BEGIN:DAYLIGHT
TZOFFSETFROM:-0500
TZOFFSETTO:-0400
TZNAME:EDT
DTSTART:20250309T070000
END:DAYLIGHT
BEGIN:STANDARD
TZOFFSETFROM:-0400
TZOFFSETTO:-0500
TZNAME:EST
DTSTART:20251102T060000
END:STANDARD
BEGIN:DAYLIGHT
TZOFFSETFROM:-0500
TZOFFSETTO:-0400
TZNAME:EDT
DTSTART:20260308T070000
END:DAYLIGHT
BEGIN:STANDARD
TZOFFSETFROM:-0400
TZOFFSETTO:-0500
TZNAME:EST
DTSTART:20261101T060000
END:STANDARD
END:VTIMEZONE
BEGIN:VEVENT
DTSTART;TZID=America/New_York:20250102T180000
DTEND;TZID=America/New_York:20250102T210000
DTSTAMP:20260421T174319
CREATED:20241219T190007Z
LAST-MODIFIED:20241219T195302Z
UID:10018890-1735840800-1735851600@commonstreet.org
SUMMARY:Massage Party
DESCRIPTION:As a licensed massage therapist with over 10 years of experience\, Kathryn Kevorkian has developed a deep and unique relationship with touch. She invites you to come together with a diverse group of people to explore and learn about the profound connection we share through touch. \nThis event is designed to be a safe and welcoming space where we can share our experiences\, learn new techniques\, and deepen our understanding of the healing power of touch. Whether you’re new to massage or have years of experience\, there’s something for everyone. \nWhat to Expect: \nInteractive Sessions: Engage in hands-on activities that highlight different massage techniques. \nSharing Circle: An opportunity to share your experiences and learn from others. \nRelaxation Time: Enjoy a calming environment where you can unwind and connect with others.\nCome with an open heart and a willingness to explore the beautiful world of touch. Let’s create a community where we can support and learn from each other.
URL:https://commonstreet.org/event/massage-party-2-2/2025-01-02/
LOCATION:Studio @ Common Street\, 13 Common Street\, Natick\, MA\, 01760\, United States
CATEGORIES:Community,Healing,Spiritual,Workshop
ORGANIZER;CN="Kathryn Kevorkian":MAILTO:kevorkian.kathryn@gmail.com
END:VEVENT
BEGIN:VEVENT
DTSTART;TZID=America/New_York:20250105T180000
DTEND;TZID=America/New_York:20250105T203000
DTSTAMP:20260421T174319
CREATED:20241231T192226Z
LAST-MODIFIED:20241231T192226Z
UID:10019186-1736100000-1736109000@commonstreet.org
SUMMARY:Vision Board Workshop
DESCRIPTION:We will create a vision board that embodies your dreams\, goals\, and aspirations and has it all come to fruition in your life!\nThis will be the easiest\, most simple process imaginable.\nWe will dream big\, have fun & laugh\, and finish with an empowering concrete picture of your life by your design! \nBring:\nYou\, your phone\, a dish to share ?\n$5 – $20 suggested donation if that is workable for you. \nThis is not the traditional method of creating a vision board with endless magazine flipping\, glue sticks\, and a finished giant board that you have to find a place to keep is visible.
URL:https://commonstreet.org/event/vision-board-workshop/
LOCATION:Sanctuary at Common Street Spiritual Center\, 13 Common Street\, Natick\, MA\, 01760\, United States
CATEGORIES:Workshop
ATTACH;FMTTYPE=image/png:https://commonstreet.org/wp-content/uploads/2024/12/LI-Logo-1.png
ORGANIZER;CN="Jenica Radack":MAILTO:j.c.radack@gmail.com
END:VEVENT
END:VCALENDAR