BEGIN:VCALENDAR
VERSION:2.0
PRODID:-//Common Street Spiritual Center - ECPv6.15.20//NONSGML v1.0//EN
CALSCALE:GREGORIAN
METHOD:PUBLISH
X-WR-CALNAME:Common Street Spiritual Center
X-ORIGINAL-URL:https://commonstreet.org
X-WR-CALDESC:Events for Common Street Spiritual Center
REFRESH-INTERVAL;VALUE=DURATION:PT1H
X-Robots-Tag:noindex
X-PUBLISHED-TTL:PT1H
BEGIN:VTIMEZONE
TZID:America/New_York
BEGIN:DAYLIGHT
TZOFFSETFROM:-0500
TZOFFSETTO:-0400
TZNAME:EDT
DTSTART:20240310T070000
END:DAYLIGHT
BEGIN:STANDARD
TZOFFSETFROM:-0400
TZOFFSETTO:-0500
TZNAME:EST
DTSTART:20241103T060000
END:STANDARD
BEGIN:DAYLIGHT
TZOFFSETFROM:-0500
TZOFFSETTO:-0400
TZNAME:EDT
DTSTART:20250309T070000
END:DAYLIGHT
BEGIN:STANDARD
TZOFFSETFROM:-0400
TZOFFSETTO:-0500
TZNAME:EST
DTSTART:20251102T060000
END:STANDARD
BEGIN:DAYLIGHT
TZOFFSETFROM:-0500
TZOFFSETTO:-0400
TZNAME:EDT
DTSTART:20260308T070000
END:DAYLIGHT
BEGIN:STANDARD
TZOFFSETFROM:-0400
TZOFFSETTO:-0500
TZNAME:EST
DTSTART:20261101T060000
END:STANDARD
END:VTIMEZONE
BEGIN:VEVENT
DTSTART;TZID=America/New_York:20250819T090000
DTEND;TZID=America/New_York:20250819T100000
DTSTAMP:20260421T150200
CREATED:20240213T164750Z
LAST-MODIFIED:20240416T174733Z
UID:10013445-1755594000-1755597600@commonstreet.org
SUMMARY:Tuesday morning devotions
DESCRIPTION:Join us on ZOOM with your prayers\, writings\, songs\, inspiration from any and all religious traditions\, sacred scriptures\, humor\, and love. We “go around the circle” for those who wish to share\, or just come along to enjoy the inspiration \nJoin Zoom Meeting\nhttps://us02web.zoom.us/j/89987098568?pwd=OUVXL29RR2JKNzBLRUtxR25tMjZEdz09\n\nMeeting ID: 899 8709 8568\nPasscode: 881654
URL:https://commonstreet.org/event/tuesday-morning-devotions/2025-08-19/
LOCATION:MA
CATEGORIES:Spiritual
ORGANIZER;CN="Frances Pollitt":MAILTO:francespollitt@gmail.com
END:VEVENT
BEGIN:VEVENT
DTSTART;TZID=America/New_York:20250819T190000
DTEND;TZID=America/New_York:20250819T203000
DTSTAMP:20260421T150200
CREATED:20250630T204613Z
LAST-MODIFIED:20250812T135803Z
UID:10023449-1755630000-1755635400@commonstreet.org
SUMMARY:Chanting and Meditation Group
DESCRIPTION:This chanting and meditation group is designed to tap into our inner freedom. We will have two 15 minute sessions of chanting and two 30 minute sessions of meditation. Through the actions of chanting and meditation\, the aim is to free all the thoughts and emotions stuck within our minds and bodies. And over time\, the goal is to free ourselves from our unconscious programming we have built over our lifetimes and deepen our connection with Spirit.\n\n\nThe event is free and open to the community. Donations are welcome but not required and can be sent via Venmo to @Emmanuel-Weinman or by cash.\n\n\nFor any questions or comments\, please contact Emmanuel Krishna by email: emanwman@gmail.com or phone: 978-578-9707
URL:https://commonstreet.org/event/chanting-and-meditation-group-2-2/2025-08-19/
LOCATION:Moon Room @ Common Street Spiritual Center\, 13 Common Street\, Natick\, 01760\, United States
CATEGORIES:Community,Healing,Meditation,Spiritual
ATTACH;FMTTYPE=image/jpeg:https://commonstreet.org/wp-content/uploads/2025/06/B139037B-783E-4ADD-A76D-11F2999685B31.jpg
ORGANIZER;CN="Emmanuel Krishna Weinman":MAILTO:emanwman@gmail.com
END:VEVENT
BEGIN:VEVENT
DTSTART;TZID=America/New_York:20250820T090000
DTEND;TZID=America/New_York:20250820T100000
DTSTAMP:20260421T150200
CREATED:20250207T155424Z
LAST-MODIFIED:20250604T151237Z
UID:10019963-1755680400-1755684000@commonstreet.org
SUMMARY:Sacred Stillness - A Midweek Mindfulness Meditation
DESCRIPTION:Join Pooja for a 60-minute guided meditation. In this sacred space\, you’ll be guided to pause\, reconnect\, and center yourself amidst the busy rhythms of life. \nWhether you’re feeling the weight of a hectic schedule\, seeking a moment of grounding\, or simply in need of a peaceful reset\, this session will help you realign and nourish your soul. With gentle guidance\, you’ll release stress\, calm racing thoughts\, and anchor yourself in the present moment—creating a foundation of peace that supports you throughout the week. \nThis offering is by donation\, allowing you to contribute what feels most aligned for you. Your donation helps maintain the accessibility of this space\, but please know that it is not required. We warmly invite everyone to join us—this sacred space is for everyone. \nDonations can be made via Venmo (@Pmahtani) or PayPal (https://tinyurl.com/donate-Pooja). Thank you for your support! \nhttps://calendly.com/akashacodes/sacred-stillness\nOnce registered\, you’ll receive a confirmation email with Zoom details for each session. ?\nWe look forward to sharing this sacred time with you! ✨ \nWe look forward to sharing this sacred pause with you! ✨
URL:https://commonstreet.org/event/sacred-stillness-a-midweek-mindfulness-meditation/2025-08-20/
LOCATION:Online
CATEGORIES:Community,Healing,Meditation,Spiritual
ATTACH;FMTTYPE=image/jpeg:https://commonstreet.org/wp-content/uploads/2025/02/Sacred-Stillness.jpg
ORGANIZER;CN="Pooja Mahtani":MAILTO:info@akashacodes.com
END:VEVENT
BEGIN:VEVENT
DTSTART;TZID=America/New_York:20250823T080000
DTEND;TZID=America/New_York:20250823T090000
DTSTAMP:20260421T150200
CREATED:20250228T171503Z
LAST-MODIFIED:20250228T171503Z
UID:10020287-1755936000-1755939600@commonstreet.org
SUMMARY:Intro to Qi Gong
DESCRIPTION:Intro to Qi Gong \nHow to cultivate balance in body and mind and improve your life energy (Qi) \nTime: Saturdays from 8am – 9am\n \nQi Gong is a centuries-old system of coordinated body-posture and movement\, breathing\, and meditation used for the purposes of health\, spirituality\, and martial-arts training. These practices help cultivate concentration\, peace of mind\, strengthen and tone your body all at once. \nAll are welcome. No prior experience required. \nSuggested donation: $5-10 \nMeets in the Moon Room on the 3rd floor.  Enter through the school street door and come upstairs to find us. \nAbout the Instructor: \nWei Li grew up in Mainland\, China. She earned her Ph.D. in Biology at Tufts University in 2005. Since 2010\, she has been studying Qi Gong and Tai Chi with Master Ming Wu and Master Shi Zhao. She finished her Fengyang Qi Gong Associate Instructor training in 2020 and has been teaching Qi Gong since at Wu Healing Center and Morse Institute Library.
URL:https://commonstreet.org/event/intro-to-qi-gong-2/2025-08-23/
LOCATION:Moon Room @ Common Street Spiritual Center\, 13 Common Street\, Natick\, 01760\, United States
CATEGORIES:Class,Community,Cultural,Healing,Meditation,Spiritual
ATTACH;FMTTYPE=image/png:https://commonstreet.org/wp-content/uploads/2022/06/Intro-to-Qi-Gong.png
ORGANIZER;CN="Wei Li":MAILTO:weili2155@gmail.com
END:VEVENT
BEGIN:VEVENT
DTSTART;TZID=America/New_York:20250824T103000
DTEND;TZID=America/New_York:20250824T120000
DTSTAMP:20260421T150200
CREATED:20250514T135418Z
LAST-MODIFIED:20250926T170611Z
UID:10007373-1756031400-1756036800@commonstreet.org
SUMMARY:Open Circle Gathering
DESCRIPTION:The Open Circle is a weekly gathering of like-minded spiritual seekers who show up to connect authentically\, share our truths\, and be held in the space of a growth-oriented and loving community.\n\nIn the Open Circle\, everyone has a chance to contribute as we move around the circle. You’re welcome to bring poems\, songs\, prayers\, and insights to share.\n\nFree and open to the public–yes\, you can simply show up!\n\nIf you’re new to Open Circle\, you’re welcome to register here so you can be in the loop for future gatherings: https://forms.gle/Aa18ZuGfyy4Nv3gq7\\n\nThe Spiritual Center community is holding space for change in the lives of our members and in our world.\n*we embrace diverse forms of spiritual practice and artistic expression\n*we cultivate a hopeful societal vision built on principles of compassion and justice\n*we support the growth of a consciousness of interconnection across human differences and between people and the whole web of life around us\n*we build authentic community based on principles like love\, respect\, kindness\, and collaboration\n\nIf this resonates\, please join us! You’re welcome to become a member simply by filling out the form on this page: www.commonstreet.org/membership
URL:https://commonstreet.org/event/sunday-circle-in-person-3-2-2-2-2-10/2025-08-24/
LOCATION:MA
CATEGORIES:Children and Family,Community,Meditation,Music and Arts,Peace and Justice,Spiritual,Youth
ATTACH;FMTTYPE=image/png:https://commonstreet.org/wp-content/uploads/2023/11/Open-Circle-5-18-25.png
ORGANIZER;CN="Ian Mevorach":MAILTO:ian@commonstreet.org
END:VEVENT
END:VCALENDAR