BEGIN:VCALENDAR
VERSION:2.0
PRODID:-//Common Street Spiritual Center - ECPv6.15.20//NONSGML v1.0//EN
CALSCALE:GREGORIAN
METHOD:PUBLISH
X-WR-CALNAME:Common Street Spiritual Center
X-ORIGINAL-URL:https://commonstreet.org
X-WR-CALDESC:Events for Common Street Spiritual Center
REFRESH-INTERVAL;VALUE=DURATION:PT1H
X-Robots-Tag:noindex
X-PUBLISHED-TTL:PT1H
BEGIN:VTIMEZONE
TZID:America/New_York
BEGIN:DAYLIGHT
TZOFFSETFROM:-0500
TZOFFSETTO:-0400
TZNAME:EDT
DTSTART:20240310T070000
END:DAYLIGHT
BEGIN:STANDARD
TZOFFSETFROM:-0400
TZOFFSETTO:-0500
TZNAME:EST
DTSTART:20241103T060000
END:STANDARD
BEGIN:DAYLIGHT
TZOFFSETFROM:-0500
TZOFFSETTO:-0400
TZNAME:EDT
DTSTART:20250309T070000
END:DAYLIGHT
BEGIN:STANDARD
TZOFFSETFROM:-0400
TZOFFSETTO:-0500
TZNAME:EST
DTSTART:20251102T060000
END:STANDARD
BEGIN:DAYLIGHT
TZOFFSETFROM:-0500
TZOFFSETTO:-0400
TZNAME:EDT
DTSTART:20260308T070000
END:DAYLIGHT
BEGIN:STANDARD
TZOFFSETFROM:-0400
TZOFFSETTO:-0500
TZNAME:EST
DTSTART:20261101T060000
END:STANDARD
END:VTIMEZONE
BEGIN:VEVENT
DTSTART;TZID=America/New_York:20250708T090000
DTEND;TZID=America/New_York:20250708T100000
DTSTAMP:20260422T032211
CREATED:20240213T164750Z
LAST-MODIFIED:20240416T174733Z
UID:10013439-1751965200-1751968800@commonstreet.org
SUMMARY:Tuesday morning devotions
DESCRIPTION:Join us on ZOOM with your prayers\, writings\, songs\, inspiration from any and all religious traditions\, sacred scriptures\, humor\, and love. We “go around the circle” for those who wish to share\, or just come along to enjoy the inspiration \nJoin Zoom Meeting\nhttps://us02web.zoom.us/j/89987098568?pwd=OUVXL29RR2JKNzBLRUtxR25tMjZEdz09\n\nMeeting ID: 899 8709 8568\nPasscode: 881654
URL:https://commonstreet.org/event/tuesday-morning-devotions/2025-07-08/
LOCATION:MA
CATEGORIES:Spiritual
ORGANIZER;CN="Frances Pollitt":MAILTO:francespollitt@gmail.com
END:VEVENT
BEGIN:VEVENT
DTSTART;TZID=America/New_York:20250708T190000
DTEND;TZID=America/New_York:20250708T203000
DTSTAMP:20260422T032211
CREATED:20250630T204613Z
LAST-MODIFIED:20250812T135803Z
UID:10023058-1752001200-1752006600@commonstreet.org
SUMMARY:Chanting and Meditation Group
DESCRIPTION:This chanting and meditation group is designed to tap into our inner freedom. We will have two 15 minute sessions of chanting and two 30 minute sessions of meditation. Through the actions of chanting and meditation\, the aim is to free all the thoughts and emotions stuck within our minds and bodies. And over time\, the goal is to free ourselves from our unconscious programming we have built over our lifetimes and deepen our connection with Spirit.\n\n\nThe event is free and open to the community. Donations are welcome but not required and can be sent via Venmo to @Emmanuel-Weinman or by cash.\n\n\nFor any questions or comments\, please contact Emmanuel Krishna by email: emanwman@gmail.com or phone: 978-578-9707
URL:https://commonstreet.org/event/chanting-and-meditation-group-2-2/2025-07-08/
LOCATION:Moon Room @ Common Street Spiritual Center\, 13 Common Street\, Natick\, 01760\, United States
CATEGORIES:Community,Healing,Meditation,Spiritual
ATTACH;FMTTYPE=image/jpeg:https://commonstreet.org/wp-content/uploads/2025/06/B139037B-783E-4ADD-A76D-11F2999685B31.jpg
ORGANIZER;CN="Emmanuel Krishna Weinman":MAILTO:emanwman@gmail.com
END:VEVENT
BEGIN:VEVENT
DTSTART;TZID=America/New_York:20250709T090000
DTEND;TZID=America/New_York:20250709T100000
DTSTAMP:20260422T032211
CREATED:20250207T155424Z
LAST-MODIFIED:20250604T151237Z
UID:10019957-1752051600-1752055200@commonstreet.org
SUMMARY:Sacred Stillness - A Midweek Mindfulness Meditation
DESCRIPTION:Join Pooja for a 60-minute guided meditation. In this sacred space\, you’ll be guided to pause\, reconnect\, and center yourself amidst the busy rhythms of life. \nWhether you’re feeling the weight of a hectic schedule\, seeking a moment of grounding\, or simply in need of a peaceful reset\, this session will help you realign and nourish your soul. With gentle guidance\, you’ll release stress\, calm racing thoughts\, and anchor yourself in the present moment—creating a foundation of peace that supports you throughout the week. \nThis offering is by donation\, allowing you to contribute what feels most aligned for you. Your donation helps maintain the accessibility of this space\, but please know that it is not required. We warmly invite everyone to join us—this sacred space is for everyone. \nDonations can be made via Venmo (@Pmahtani) or PayPal (https://tinyurl.com/donate-Pooja). Thank you for your support! \nhttps://calendly.com/akashacodes/sacred-stillness\nOnce registered\, you’ll receive a confirmation email with Zoom details for each session. ?\nWe look forward to sharing this sacred time with you! ✨ \nWe look forward to sharing this sacred pause with you! ✨
URL:https://commonstreet.org/event/sacred-stillness-a-midweek-mindfulness-meditation/2025-07-09/
LOCATION:Online
CATEGORIES:Community,Healing,Meditation,Spiritual
ATTACH;FMTTYPE=image/jpeg:https://commonstreet.org/wp-content/uploads/2025/02/Sacred-Stillness.jpg
ORGANIZER;CN="Pooja Mahtani":MAILTO:info@akashacodes.com
END:VEVENT
BEGIN:VEVENT
DTSTART;TZID=America/New_York:20250712T080000
DTEND;TZID=America/New_York:20250712T090000
DTSTAMP:20260422T032211
CREATED:20250228T171503Z
LAST-MODIFIED:20250228T171503Z
UID:10020281-1752307200-1752310800@commonstreet.org
SUMMARY:Intro to Qi Gong
DESCRIPTION:Intro to Qi Gong \nHow to cultivate balance in body and mind and improve your life energy (Qi) \nTime: Saturdays from 8am – 9am\n \nQi Gong is a centuries-old system of coordinated body-posture and movement\, breathing\, and meditation used for the purposes of health\, spirituality\, and martial-arts training. These practices help cultivate concentration\, peace of mind\, strengthen and tone your body all at once. \nAll are welcome. No prior experience required. \nSuggested donation: $5-10 \nMeets in the Moon Room on the 3rd floor.  Enter through the school street door and come upstairs to find us. \nAbout the Instructor: \nWei Li grew up in Mainland\, China. She earned her Ph.D. in Biology at Tufts University in 2005. Since 2010\, she has been studying Qi Gong and Tai Chi with Master Ming Wu and Master Shi Zhao. She finished her Fengyang Qi Gong Associate Instructor training in 2020 and has been teaching Qi Gong since at Wu Healing Center and Morse Institute Library.
URL:https://commonstreet.org/event/intro-to-qi-gong-2/2025-07-12/
LOCATION:Moon Room @ Common Street Spiritual Center\, 13 Common Street\, Natick\, 01760\, United States
CATEGORIES:Class,Community,Cultural,Healing,Meditation,Spiritual
ATTACH;FMTTYPE=image/png:https://commonstreet.org/wp-content/uploads/2022/06/Intro-to-Qi-Gong.png
ORGANIZER;CN="Wei Li":MAILTO:weili2155@gmail.com
END:VEVENT
BEGIN:VEVENT
DTSTART;TZID=America/New_York:20250712T180000
DTEND;TZID=America/New_York:20250712T203000
DTSTAMP:20260422T032211
CREATED:20250708T154546Z
LAST-MODIFIED:20250708T161007Z
UID:10023176-1752343200-1752352200@commonstreet.org
SUMMARY:Somatic Breathwork Journey
DESCRIPTION:Step into a sacred space at Common Street Spiritual Center in Natick on July 12th from 6 to 8:30pm\, where healing meets intention and breath becomes your portal to inner transformation. This in-person somatic breathwork session invites you to reconnect with your body\, awaken your spirit\, and release what no longer serves you—all within a supportive\, heart-centered community. No prior experience is needed—just your breath and an open heart.\n\nCome as you are and allow yourself to soften\, express\, and be witnessed in a safe\, intimate community. Through guided breath\, sound\, and curiosity we’ll journey inward together—clearing space for clarity\, peace\, and presence.\n\nGive yourself permission to take space and pause.\n\nPlease register using the link provided and if you have any other questions about this being the right fit for you. Don’t hesitate to reach out at 7815000415 or email at tiffanyhawco31@gmail.com\n\nI’m honored and deeply grateful to hold space for you in this sacred container.\n\nThank you for allowing me to walk beside you on this journey of healing and reconnection.\n\nSending all my love and light until we meet together in this space of breath.\n\nTiffany
URL:https://commonstreet.org/event/somatic-breathwork-session/
LOCATION:Moon Room @ Common Street Spiritual Center\, 13 Common Street\, Natick\, 01760\, United States
CATEGORIES:Community,Healing,Meditation,Music and Arts,Spiritual
ATTACH;FMTTYPE=image/png:https://commonstreet.org/wp-content/uploads/2025/07/Beige-and-Brown-Modern-Corporate-Mindfulness-Flyer.png
ORGANIZER;CN="Tiffany Hawco":MAILTO:tiffanyhawco31@gmail.com
END:VEVENT
BEGIN:VEVENT
DTSTART;TZID=America/New_York:20250713T083000
DTEND;TZID=America/New_York:20250713T093000
DTSTAMP:20260422T032211
CREATED:20250225T211509Z
LAST-MODIFIED:20250702T003139Z
UID:10023065-1752395400-1752399000@commonstreet.org
SUMMARY:Call of Love Yoga
DESCRIPTION:Experience a gentle\, mindful yoga where divine sources of love are channeled into messages that are often in the form of songs\, poems\, and mudras: hand gestures to help guide the flow of energy in the body and focus the mind \nDonations welcome: Cash or Venmo @Judith-Thapa \nVarunayoga.com / 617.417.4386 / Judy.thapa@ gmail \nCommon Street Spiritual Center Sanctuary\nSundays 8:30-9:30 a.m. (except last Sunday) \nJudy is a teacher of yoga since 1998. She is a certified yoga therapist\, energy healer and channel.
URL:https://commonstreet.org/event/call-of-love-yoga-2-2-4/2025-07-13/
LOCATION:Sanctuary at Common Street Spiritual Center\, 13 Common Street\, Natick\, MA\, 01760\, United States
CATEGORIES:Children and Family,Class,Community,Healing,Meditation,Music and Arts,Spiritual,Yoga,Youth
ATTACH;FMTTYPE=image/png:https://commonstreet.org/wp-content/uploads/2025/02/Call-of-Love-Real-Estate-Flyer-1.png
ORGANIZER;CN="Judy Thapa":MAILTO:judy.thapa@gmail.com
END:VEVENT
BEGIN:VEVENT
DTSTART;TZID=America/New_York:20250713T103000
DTEND;TZID=America/New_York:20250713T120000
DTSTAMP:20260422T032211
CREATED:20250514T135418Z
LAST-MODIFIED:20250926T170611Z
UID:10006464-1752402600-1752408000@commonstreet.org
SUMMARY:Open Circle Gathering
DESCRIPTION:The Open Circle is a weekly gathering of like-minded spiritual seekers who show up to connect authentically\, share our truths\, and be held in the space of a growth-oriented and loving community.\n\nIn the Open Circle\, everyone has a chance to contribute as we move around the circle. You’re welcome to bring poems\, songs\, prayers\, and insights to share.\n\nFree and open to the public–yes\, you can simply show up!\n\nIf you’re new to Open Circle\, you’re welcome to register here so you can be in the loop for future gatherings: https://forms.gle/Aa18ZuGfyy4Nv3gq7\\n\nThe Spiritual Center community is holding space for change in the lives of our members and in our world.\n*we embrace diverse forms of spiritual practice and artistic expression\n*we cultivate a hopeful societal vision built on principles of compassion and justice\n*we support the growth of a consciousness of interconnection across human differences and between people and the whole web of life around us\n*we build authentic community based on principles like love\, respect\, kindness\, and collaboration\n\nIf this resonates\, please join us! You’re welcome to become a member simply by filling out the form on this page: www.commonstreet.org/membership
URL:https://commonstreet.org/event/sunday-circle-in-person-3-2-2-2-2-10/2025-07-13/
LOCATION:MA
CATEGORIES:Children and Family,Community,Meditation,Music and Arts,Peace and Justice,Spiritual,Youth
ATTACH;FMTTYPE=image/png:https://commonstreet.org/wp-content/uploads/2023/11/Open-Circle-5-18-25.png
ORGANIZER;CN="Ian Mevorach":MAILTO:ian@commonstreet.org
END:VEVENT
BEGIN:VEVENT
DTSTART;TZID=America/New_York:20250713T170000
DTEND;TZID=America/New_York:20250713T183000
DTSTAMP:20260422T032211
CREATED:20250624T223402Z
LAST-MODIFIED:20250624T223402Z
UID:10023044-1752426000-1752431400@commonstreet.org
SUMMARY:Sound Journey: A Transformational sonic experience
DESCRIPTION:Sound Journey: A Transformational sonic experience \nWith Dave Fiuczynski (Professor at Berklee College of Music) & Nissa Diantina (Yoga Teacher\, Breath Guide) \n  \nDescription: \nSound journey is an immersive sound healing event that combines gentle movement\, breath\, and groundbreaking live music. This offering is ideal for studios and wellness centers seeking to expand their programming with a deeply transformative\, one-of-a-kind experience. \n  \nWhat It Includes: \n20–25 minutes of guided breath and stretching led by Nissa Diantina\, designed to ground participants and prepare the body to receive sound. \n40–45 minutes of live\, meditative soundscape created by Dave Fiuczynski on his custom double-neck guitar\, tuned to healing frequencies. \nThe journey blends subtle movement with powerful sonic vibrations that support nervous system regulation\, emotional release\, and inner transformation. \n  \nWhy It’s Unique: \nUnlike traditional sound baths using bowls or gongs\, this event features a live musical performance by a world-renowned guitarist who weaves frequencies\, microtones\, and ambient textures in real time. Combined with mindful movement and breathwork\, this format invites participants into a multi-sensory\, soul-centered journey.
URL:https://commonstreet.org/event/sound-journey-a-transformational-sonic-experience/
LOCATION:Sanctuary at Common Street Spiritual Center\, 13 Common Street\, Natick\, MA\, 01760\, United States
CATEGORIES:Healing,Meditation,Music and Arts,Spiritual
ATTACH;FMTTYPE=image/jpeg:https://commonstreet.org/wp-content/uploads/2025/06/Sound-Journey.jpeg
ORGANIZER;CN="Nissa Diantina":MAILTO:nissa.diantina@gmail.com
END:VEVENT
END:VCALENDAR