BEGIN:VCALENDAR
VERSION:2.0
PRODID:-//Common Street Spiritual Center - ECPv6.15.20//NONSGML v1.0//EN
CALSCALE:GREGORIAN
METHOD:PUBLISH
X-WR-CALNAME:Common Street Spiritual Center
X-ORIGINAL-URL:https://commonstreet.org
X-WR-CALDESC:Events for Common Street Spiritual Center
REFRESH-INTERVAL;VALUE=DURATION:PT1H
X-Robots-Tag:noindex
X-PUBLISHED-TTL:PT1H
BEGIN:VTIMEZONE
TZID:America/New_York
BEGIN:DAYLIGHT
TZOFFSETFROM:-0500
TZOFFSETTO:-0400
TZNAME:EDT
DTSTART:20240310T070000
END:DAYLIGHT
BEGIN:STANDARD
TZOFFSETFROM:-0400
TZOFFSETTO:-0500
TZNAME:EST
DTSTART:20241103T060000
END:STANDARD
BEGIN:DAYLIGHT
TZOFFSETFROM:-0500
TZOFFSETTO:-0400
TZNAME:EDT
DTSTART:20250309T070000
END:DAYLIGHT
BEGIN:STANDARD
TZOFFSETFROM:-0400
TZOFFSETTO:-0500
TZNAME:EST
DTSTART:20251102T060000
END:STANDARD
BEGIN:DAYLIGHT
TZOFFSETFROM:-0500
TZOFFSETTO:-0400
TZNAME:EDT
DTSTART:20260308T070000
END:DAYLIGHT
BEGIN:STANDARD
TZOFFSETFROM:-0400
TZOFFSETTO:-0500
TZNAME:EST
DTSTART:20261101T060000
END:STANDARD
END:VTIMEZONE
BEGIN:VEVENT
DTSTART;TZID=America/New_York:20250624T090000
DTEND;TZID=America/New_York:20250624T100000
DTSTAMP:20260422T175833
CREATED:20240213T164750Z
LAST-MODIFIED:20240416T174733Z
UID:10013437-1750755600-1750759200@commonstreet.org
SUMMARY:Tuesday morning devotions
DESCRIPTION:Join us on ZOOM with your prayers\, writings\, songs\, inspiration from any and all religious traditions\, sacred scriptures\, humor\, and love. We “go around the circle” for those who wish to share\, or just come along to enjoy the inspiration \nJoin Zoom Meeting\nhttps://us02web.zoom.us/j/89987098568?pwd=OUVXL29RR2JKNzBLRUtxR25tMjZEdz09\n\nMeeting ID: 899 8709 8568\nPasscode: 881654
URL:https://commonstreet.org/event/tuesday-morning-devotions/2025-06-24/
LOCATION:MA
CATEGORIES:Spiritual
ORGANIZER;CN="Frances Pollitt":MAILTO:francespollitt@gmail.com
END:VEVENT
BEGIN:VEVENT
DTSTART;TZID=America/New_York:20250625T090000
DTEND;TZID=America/New_York:20250625T100000
DTSTAMP:20260422T175833
CREATED:20250604T150933Z
LAST-MODIFIED:20250604T150935Z
UID:10019955-1750842000-1750845600@commonstreet.org
SUMMARY:Sacred Stillness - A Midweek Mindfulness Meditation
DESCRIPTION:Join Pooja ????? ????????? ?? ? ?? ??? ??? ???? for a 60-minute guided ?????????? ???????? ?? ??????? ????\, ???????\, ??? ??????? ?? ???? ????. In this sacred space\, you’ll be guided to pause\, reconnect\, and center yourself amidst the busy rhythms of life. ??????? ??????????? ????????? ??? ??????? ?????????\, ??’?? ????????? ?????????\, ????? ?????? ???????\, ??? ?????? ????? ???? ???? ????? ??? ????. \nWhether you’re feeling the weight of a hectic schedule\, seeking a moment of grounding\, or simply in need of a peaceful reset\, this session will help you realign and nourish your soul. With gentle guidance\, you’ll release stress\, calm racing thoughts\, and anchor yourself in the present moment—creating a foundation of peace that supports you throughout the week. \n✨ ?????? ????????: This offering is ????????-?????\, allowing you to contribute what feels most aligned for you. Your donation helps maintain the accessibility of this space\, but please know that ?? ???????? ?? ???????? ?? ???????????. We warmly invite everyone to join us—this sacred space is for everyone. \n? ???????? ???????: Donations can be made via Venmo (@Pmahtani) or PayPal (https://tinyurl.com/donate-Pooja). Thank you for your support! \n? ???????? ??? ???? ??????? ????:\nhttps://calendly.com/akashacodes/sacred-stillness\nOnce registered\, you’ll receive a confirmation email with Zoom details for each session. ?\nWe look forward to sharing this ?????? ?? ????????? ??? ??????? ???? ???! ✨ \nWe look forward to sharing this sacred pause with you! ✨
URL:https://commonstreet.org/event/sacred-stillness-a-midweek-mindfulness-meditation-5/
LOCATION:Online
CATEGORIES:Community,Healing,Meditation,Spiritual
ATTACH;FMTTYPE=image/jpeg:https://commonstreet.org/wp-content/uploads/2025/02/Sacred-Stillness.jpg
ORGANIZER;CN="Pooja Mahtani":MAILTO:info@akashacodes.com
END:VEVENT
BEGIN:VEVENT
DTSTART;TZID=America/New_York:20250626T190000
DTEND;TZID=America/New_York:20250626T201500
DTSTAMP:20260422T175833
CREATED:20230803T162536Z
LAST-MODIFIED:20230804T160005Z
UID:10008347-1750964400-1750968900@commonstreet.org
SUMMARY:Mohanji Meditations
DESCRIPTION:The Mohanji Meditation is a powerful heart-opening guided meditation that offers release from binding patterns through love and gratitude. \nAll are welcome. No prior experience necessary.
URL:https://commonstreet.org/event/mohanji-meditations/2025-06-26/
LOCATION:Choir Room @ Common Street Spiritual Center\, 13 Common Street\, Natick\, 01760\, United States
CATEGORIES:Class,Healing,Meditation,Spiritual
ORGANIZER;CN="Soumya Thelakkad":MAILTO:mohanjifamilyma@gmail.com
END:VEVENT
BEGIN:VEVENT
DTSTART;TZID=America/New_York:20250628T080000
DTEND;TZID=America/New_York:20250628T090000
DTSTAMP:20260422T175833
CREATED:20250228T171503Z
LAST-MODIFIED:20250228T171503Z
UID:10020279-1751097600-1751101200@commonstreet.org
SUMMARY:Intro to Qi Gong
DESCRIPTION:Intro to Qi Gong \nHow to cultivate balance in body and mind and improve your life energy (Qi) \nTime: Saturdays from 8am – 9am\n \nQi Gong is a centuries-old system of coordinated body-posture and movement\, breathing\, and meditation used for the purposes of health\, spirituality\, and martial-arts training. These practices help cultivate concentration\, peace of mind\, strengthen and tone your body all at once. \nAll are welcome. No prior experience required. \nSuggested donation: $5-10 \nMeets in the Moon Room on the 3rd floor.  Enter through the school street door and come upstairs to find us. \nAbout the Instructor: \nWei Li grew up in Mainland\, China. She earned her Ph.D. in Biology at Tufts University in 2005. Since 2010\, she has been studying Qi Gong and Tai Chi with Master Ming Wu and Master Shi Zhao. She finished her Fengyang Qi Gong Associate Instructor training in 2020 and has been teaching Qi Gong since at Wu Healing Center and Morse Institute Library.
URL:https://commonstreet.org/event/intro-to-qi-gong-2/2025-06-28/
LOCATION:Moon Room @ Common Street Spiritual Center\, 13 Common Street\, Natick\, 01760\, United States
CATEGORIES:Class,Community,Cultural,Healing,Meditation,Spiritual
ATTACH;FMTTYPE=image/png:https://commonstreet.org/wp-content/uploads/2022/06/Intro-to-Qi-Gong.png
ORGANIZER;CN="Wei Li":MAILTO:weili2155@gmail.com
END:VEVENT
BEGIN:VEVENT
DTSTART;TZID=America/New_York:20250628T144500
DTEND;TZID=America/New_York:20250628T171500
DTSTAMP:20260422T175833
CREATED:20250616T000256Z
LAST-MODIFIED:20250616T000256Z
UID:10023037-1751121900-1751130900@commonstreet.org
SUMMARY:Kundalini: Tradition\, Myth\, and Personal Transformation
DESCRIPTION:Join Monty for a grounded yet illuminating exploration of Kundalini—its roots in ancient tradition\, its evolving role in modern spirituality\, and how it can enrich your personal journey of healing\, growth\, and transformation. \nYou’ve likely heard terms like “Kundalini energy\,” “Kundalini awakening\,” or “Kundalini yoga” in spiritual communities and online spaces. Yet despite their popularity\, these concepts are often misunderstood—or presented in ways that feel vague or even contradictory. If you’ve ever felt confused or curious\, you’re not alone. \nSo what is Kundalini\, really? Why does it matter—if at all—on your path? And how might a deeper understanding of this energy support your everyday life? \nThis class is designed for anyone seeking a clearer\, more holistic understanding of Kundalini from both a philosophical and personal perspective. Whether you’re completely new to the concept or looking to deepen your knowledge\, you’re welcome here. \n— \nWhat to bring:\n– Comfortable clothing\n– A pen and notebook (if you’re the note-taking type)\n– Optional: Your favorite snacks (some will be provided)\n– Water (we’ll have extra too!) \n— \nAbout the Teacher \nMonty is a certified Kundalini yoga instructor currently living in a remote village in Thailand. She received her training in the Himalayan tradition while residing at an Ashram along the Ganges River in India. Drawing from personal experience\, traditional philosophy\, and years of practice\, Monty brings a grounded\, heart-centered approach to her teaching—making deep spiritual wisdom feel accessible\, relevant\, and real. \n___ \nJune 28\, 2025\nArrival time: 2:45\nPromptly begins at 3:00\nIn the Moon room
URL:https://commonstreet.org/event/kundalini-tradition-myth-and-personal-transformation/
LOCATION:Moon Room @ Common Street Spiritual Center\, 13 Common Street\, Natick\, 01760\, United States
CATEGORIES:Spiritual,Talk,Workshop
ATTACH;FMTTYPE=image/png:https://commonstreet.org/wp-content/uploads/2025/06/MaleKundalini-1.png
ORGANIZER;CN="Sherry Solchenberger":MAILTO:sherrysolchnp@gmail.com
END:VEVENT
BEGIN:VEVENT
DTSTART;TZID=America/New_York:20250628T193000
DTEND;TZID=America/New_York:20250628T210000
DTSTAMP:20260422T175833
CREATED:20250610T135216Z
LAST-MODIFIED:20250610T135247Z
UID:10022992-1751139000-1751144400@commonstreet.org
SUMMARY:Sufi Zikr and Whirling
DESCRIPTION:Mevlevi Sufi Zikr in the tradition of Rumi with Karim and Noor Kerima Payton\, Suleyman Loras and musicians friends. \nJoin us for a magical experience of Mevlevi Sufi dancing and singing in celebration of Divine Presence. For over forty years\, the Mevlevi Order of America has offered gatherings with music\, poetry and dervish whirling and chanting. We will lead a Zikr practice in the tradition of Rumi. \nThe Mevlevi tradition hearkens back to Sufi master Rumi (1207-1273)\, who has become the best-selling poet in America. Rumi’s poetry is filled with a longing for God the Friend and the Beloved. His realization expressed the Source of all religions and spiritual paths\, the Way of Love\, that unites those of many cultures and traditions. \n‘Zikhr’\, a Sufi chanting practice\, means ‘Remembrance of God’. It awakens us from the state of forgetfulness\, forgetting why one has come to Earth. It is a channel opener which helps with attaining true knowledge. \nThe Musicians will share devotional music played on traditional instruments. Everyone attending a Zikr is a participant; as the gathering unfolds\, all are tuned\, by the music and language of the Heart\, to the baraka (blessing)-filled atmosphere of love. \n“When a human being performs zikr\, their spirit—their heart starts to open.  Their intelligence becomes more refined and more expansive.  Their bodies become healthier.  A beautiful condition comes about—similar to the one that is brought about by good music.  The whole being opens up like a flower\, and the divine secret—the things you couldn’t understand or know about before—begin to be revealed to you.” \n\nSuleyman Hayati Dede\, founder of the Mevlevi Order of America\n\nSuggested donation: $20+ (cash or Venmo at the door) \nAdvance registration available at: https://www.eventbrite.com/e/sufi-zikr-and-whirling-tickets-1406406382349?aff=oddtdtcreator \nAbout Mevlevi Order of America: \nhttp://hayatidede.org/aboutmoa
URL:https://commonstreet.org/event/sufi-zikr/
LOCATION:Sanctuary at Common Street Spiritual Center\, 13 Common Street\, Natick\, MA\, 01760\, United States
CATEGORIES:Community,Cultural,Dance,Healing,Meditation,Music and Arts,Spiritual
ATTACH;FMTTYPE=image/png:https://commonstreet.org/wp-content/uploads/2025/06/Sufi.png
ORGANIZER;CN="Olga Cherenina":MAILTO:chereninaolga@gmail.com
END:VEVENT
BEGIN:VEVENT
DTSTART;TZID=America/New_York:20250629T100000
DTEND;TZID=America/New_York:20250629T140000
DTSTAMP:20260422T175833
CREATED:20250627T124920Z
LAST-MODIFIED:20250627T124920Z
UID:10023055-1751191200-1751205600@commonstreet.org
SUMMARY:Community Picnic
DESCRIPTION:Join us Sunday June 29th for a potluck style community picnic at Hopkinton State Park. We intend to arrive around 10 a.m. because parking fills up fast on weekends.\nThere will be:YogaHiking SwimmingKayaking Paddle board Paddle boat\nGrills are available.Picnic located at the lower beach.Pavilion area.\nBoat rental is located at the upper beach.\nThere is parking at both locations.\nIf you would\, please bring something for the picnic to share with the community.\nInvite your friends and family!Children are absolutely welcome but must be under supervision of their responsible grown ups.\nYoga starts at 10:30Lunch starts at 12:00\nPlease be mindful of bugs and sun exposure. Make sure to bring and apply sunblock and bug spray. Check for ticks and make sure to stay hydrated.\nWe look forward to sharing this time in nature together! \nLet us know if you have any questions.\nEmail Amber:whitefeatherhealing44@gmail.com\nText Tiffany:781-500-0415\nWant to be involved in planning events like this? Join the community adventure club: https://www.facebook.com/share/g/18uD7LQPWn/?mibextid=wwXIfr
URL:https://commonstreet.org/event/community-picnic/
LOCATION:Hopkinton State Park\, 164 Cedar Street\, Hopkinton\, MA\, United States
CATEGORIES:Children and Family,Community,Cultural,Spiritual,Yoga
ATTACH;FMTTYPE=image/jpeg:https://commonstreet.org/wp-content/uploads/2025/06/community-picnic.jpg
ORGANIZER;CN="Amber Joy Whitefeather":MAILTO:aisaac44@comcast.net
END:VEVENT
BEGIN:VEVENT
DTSTART;TZID=America/New_York:20250629T103000
DTEND;TZID=America/New_York:20250629T120000
DTSTAMP:20260422T175833
CREATED:20250514T135418Z
LAST-MODIFIED:20250926T170611Z
UID:10007367-1751193000-1751198400@commonstreet.org
SUMMARY:Open Circle Gathering
DESCRIPTION:The Open Circle is a weekly gathering of like-minded spiritual seekers who show up to connect authentically\, share our truths\, and be held in the space of a growth-oriented and loving community.\n\nIn the Open Circle\, everyone has a chance to contribute as we move around the circle. You’re welcome to bring poems\, songs\, prayers\, and insights to share.\n\nFree and open to the public–yes\, you can simply show up!\n\nIf you’re new to Open Circle\, you’re welcome to register here so you can be in the loop for future gatherings: https://forms.gle/Aa18ZuGfyy4Nv3gq7\\n\nThe Spiritual Center community is holding space for change in the lives of our members and in our world.\n*we embrace diverse forms of spiritual practice and artistic expression\n*we cultivate a hopeful societal vision built on principles of compassion and justice\n*we support the growth of a consciousness of interconnection across human differences and between people and the whole web of life around us\n*we build authentic community based on principles like love\, respect\, kindness\, and collaboration\n\nIf this resonates\, please join us! You’re welcome to become a member simply by filling out the form on this page: www.commonstreet.org/membership
URL:https://commonstreet.org/event/sunday-circle-in-person-3-2-2-2-2-10/2025-06-29/
LOCATION:MA
CATEGORIES:Children and Family,Community,Meditation,Music and Arts,Peace and Justice,Spiritual,Youth
ATTACH;FMTTYPE=image/png:https://commonstreet.org/wp-content/uploads/2023/11/Open-Circle-5-18-25.png
ORGANIZER;CN="Ian Mevorach":MAILTO:ian@commonstreet.org
END:VEVENT
END:VCALENDAR