BEGIN:VCALENDAR
VERSION:2.0
PRODID:-//Common Street Spiritual Center - ECPv6.15.20//NONSGML v1.0//EN
CALSCALE:GREGORIAN
METHOD:PUBLISH
X-WR-CALNAME:Common Street Spiritual Center
X-ORIGINAL-URL:https://commonstreet.org
X-WR-CALDESC:Events for Common Street Spiritual Center
REFRESH-INTERVAL;VALUE=DURATION:PT1H
X-Robots-Tag:noindex
X-PUBLISHED-TTL:PT1H
BEGIN:VTIMEZONE
TZID:America/New_York
BEGIN:DAYLIGHT
TZOFFSETFROM:-0500
TZOFFSETTO:-0400
TZNAME:EDT
DTSTART:20240310T070000
END:DAYLIGHT
BEGIN:STANDARD
TZOFFSETFROM:-0400
TZOFFSETTO:-0500
TZNAME:EST
DTSTART:20241103T060000
END:STANDARD
BEGIN:DAYLIGHT
TZOFFSETFROM:-0500
TZOFFSETTO:-0400
TZNAME:EDT
DTSTART:20250309T070000
END:DAYLIGHT
BEGIN:STANDARD
TZOFFSETFROM:-0400
TZOFFSETTO:-0500
TZNAME:EST
DTSTART:20251102T060000
END:STANDARD
BEGIN:DAYLIGHT
TZOFFSETFROM:-0500
TZOFFSETTO:-0400
TZNAME:EDT
DTSTART:20260308T070000
END:DAYLIGHT
BEGIN:STANDARD
TZOFFSETFROM:-0400
TZOFFSETTO:-0500
TZNAME:EST
DTSTART:20261101T060000
END:STANDARD
END:VTIMEZONE
BEGIN:VEVENT
DTSTART;TZID=America/New_York:20250520T090000
DTEND;TZID=America/New_York:20250520T100000
DTSTAMP:20260422T180032
CREATED:20240213T164750Z
LAST-MODIFIED:20240416T174733Z
UID:10013432-1747731600-1747735200@commonstreet.org
SUMMARY:Tuesday morning devotions
DESCRIPTION:Join us on ZOOM with your prayers\, writings\, songs\, inspiration from any and all religious traditions\, sacred scriptures\, humor\, and love. We “go around the circle” for those who wish to share\, or just come along to enjoy the inspiration \nJoin Zoom Meeting\nhttps://us02web.zoom.us/j/89987098568?pwd=OUVXL29RR2JKNzBLRUtxR25tMjZEdz09\n\nMeeting ID: 899 8709 8568\nPasscode: 881654
URL:https://commonstreet.org/event/tuesday-morning-devotions/2025-05-20/
LOCATION:MA
CATEGORIES:Spiritual
ORGANIZER;CN="Frances Pollitt":MAILTO:francespollitt@gmail.com
END:VEVENT
BEGIN:VEVENT
DTSTART;TZID=America/New_York:20250520T190000
DTEND;TZID=America/New_York:20250520T200000
DTSTAMP:20260422T180032
CREATED:20250506T131702Z
LAST-MODIFIED:20250510T122823Z
UID:10020951-1747767600-1747771200@commonstreet.org
SUMMARY:Soulfire Sisterhood
DESCRIPTION:Soulfire Sisterhood – The Alchemy of Healing & Transformation (Women’s Circle) \nI invite you to a sacred sisterhood—a space to reclaim your energy\, reconnect with your truth\, and rise in your power. \nYou pour so much into your family\, your home\, and your work—but when was the last time you poured into yourself? \nThis is your time. Together\, we ignite the alchemy of healing and transformation\, transmuting pain into wisdom\, wounds into strength\, and fear into love. \nThrough heart-centered practices—including energy healing\, guided visualization\, intuitive energy activations\, and journaling—we create a nurturing sanctuary for deep self-reflection\, emotional release\, and soul nourishment. As we honor our individual healing journeys\, we also awaken the wisdom of our lineage\, drawing strength from those who walked before us. \nThis is an invitation to step fully into yourself—to be seen\, heard\, and held in the profound power of sisterhood. \nCome as you are. Leave feeling rooted\, radiant\, and reignited with the fire of your soul. \nBring a friend to share this sacred time together! \n✨ Energy Exchange per session: $15–$35 (pay what feels aligned for you). Your support helps keep this offering accessible to all as we build a welcoming community. If cost is a barrier\, please reach out—we’re happy to explore other options. \n✨ Payment Options: We kindly ask for pre-payment via Venmo (@akashacodes) or PayPal (https://paypal.me/akashacodes)\, but if you prefer\, you’re welcome to pay in person with cash. Thank you for your support! \n✨ Registration: RSVPs are appreciated to help us prepare the space: https://tinyurl.com/soulfire-sisterhood \n✨ Location: This session will be held in the Moon Room. \n✨ Please bring a mat\, water bottle\, and anything else you need for comfort while sitting or lying down during the journey. \nThis class will be led by Pooja Mahtani. Learn more about Pooja at www.akashacodes.com/about. \nWe look forward to holding this sacred space with you! ?✨
URL:https://commonstreet.org/event/soulfire-sisterhood-4/2025-05-20/
LOCATION:Meeting Room of CSSC
CATEGORIES:Community,Healing,Meditation,Spiritual,Women
ATTACH;FMTTYPE=image/png:https://commonstreet.org/wp-content/uploads/2025/05/Soulfire_Tues.png
ORGANIZER;CN="Pooja Mahtani":MAILTO:info@akashacodes.com
END:VEVENT
BEGIN:VEVENT
DTSTART;TZID=America/New_York:20250520T190000
DTEND;TZID=America/New_York:20250520T204500
DTSTAMP:20260422T180032
CREATED:20250519T143954Z
LAST-MODIFIED:20250519T144720Z
UID:10022862-1747767600-1747773900@commonstreet.org
SUMMARY:Evening Yoga Class
DESCRIPTION:The class will incorporate Hatha Yoga asanas\, gentle joint warm up based in flowing circular movements and elements of breathing and concentration. For about an hour we will focus on spinal alignment and tension release through yoga asana practice followed by a short practice of breathing exercises and/or meditation techniques. \nThe class will meet on Tuesday evenings with some exceptions. Meets in the Moon Room upstairs. Enter through the school street door and take the stairs up. \nDonations are welcome. \nPlease email Olga with any questions: chereninaolga@gmail.com
URL:https://commonstreet.org/event/evening-yoga-class-2/2025-05-20/
LOCATION:Common Street Spiritual Center\, 13 Common Street\, Natick\, 01760\, United States
CATEGORIES:Class,Community,Meditation,Spiritual,Yoga
ATTACH;FMTTYPE=image/png:https://commonstreet.org/wp-content/uploads/2025/05/Evening_Yoga_generic.png
ORGANIZER;CN="Olga Cherenina":MAILTO:chereninaolga@gmail.com
END:VEVENT
BEGIN:VEVENT
DTSTART;TZID=America/New_York:20250521T090000
DTEND;TZID=America/New_York:20250521T100000
DTSTAMP:20260422T180032
CREATED:20250207T155424Z
LAST-MODIFIED:20250604T151237Z
UID:10019950-1747818000-1747821600@commonstreet.org
SUMMARY:Sacred Stillness - A Midweek Mindfulness Meditation
DESCRIPTION:Join Pooja for a 60-minute guided meditation. In this sacred space\, you’ll be guided to pause\, reconnect\, and center yourself amidst the busy rhythms of life. \nWhether you’re feeling the weight of a hectic schedule\, seeking a moment of grounding\, or simply in need of a peaceful reset\, this session will help you realign and nourish your soul. With gentle guidance\, you’ll release stress\, calm racing thoughts\, and anchor yourself in the present moment—creating a foundation of peace that supports you throughout the week. \nThis offering is by donation\, allowing you to contribute what feels most aligned for you. Your donation helps maintain the accessibility of this space\, but please know that it is not required. We warmly invite everyone to join us—this sacred space is for everyone. \nDonations can be made via Venmo (@Pmahtani) or PayPal (https://tinyurl.com/donate-Pooja). Thank you for your support! \nhttps://calendly.com/akashacodes/sacred-stillness\nOnce registered\, you’ll receive a confirmation email with Zoom details for each session. ?\nWe look forward to sharing this sacred time with you! ✨ \nWe look forward to sharing this sacred pause with you! ✨
URL:https://commonstreet.org/event/sacred-stillness-a-midweek-mindfulness-meditation/2025-05-21/
LOCATION:Online
CATEGORIES:Community,Healing,Meditation,Spiritual
ATTACH;FMTTYPE=image/jpeg:https://commonstreet.org/wp-content/uploads/2025/02/Sacred-Stillness.jpg
ORGANIZER;CN="Pooja Mahtani":MAILTO:info@akashacodes.com
END:VEVENT
BEGIN:VEVENT
DTSTART;TZID=America/New_York:20250522T190000
DTEND;TZID=America/New_York:20250522T201500
DTSTAMP:20260422T180032
CREATED:20230803T162536Z
LAST-MODIFIED:20230804T160005Z
UID:10008342-1747940400-1747944900@commonstreet.org
SUMMARY:Mohanji Meditations
DESCRIPTION:The Mohanji Meditation is a powerful heart-opening guided meditation that offers release from binding patterns through love and gratitude. \nAll are welcome. No prior experience necessary.
URL:https://commonstreet.org/event/mohanji-meditations/2025-05-22/
LOCATION:Choir Room @ Common Street Spiritual Center\, 13 Common Street\, Natick\, 01760\, United States
CATEGORIES:Class,Healing,Meditation,Spiritual
ORGANIZER;CN="Soumya Thelakkad":MAILTO:mohanjifamilyma@gmail.com
END:VEVENT
BEGIN:VEVENT
DTSTART;TZID=America/New_York:20250524T080000
DTEND;TZID=America/New_York:20250524T090000
DTSTAMP:20260422T180032
CREATED:20250228T171503Z
LAST-MODIFIED:20250228T171503Z
UID:10020274-1748073600-1748077200@commonstreet.org
SUMMARY:Intro to Qi Gong
DESCRIPTION:Intro to Qi Gong \nHow to cultivate balance in body and mind and improve your life energy (Qi) \nTime: Saturdays from 8am – 9am\n \nQi Gong is a centuries-old system of coordinated body-posture and movement\, breathing\, and meditation used for the purposes of health\, spirituality\, and martial-arts training. These practices help cultivate concentration\, peace of mind\, strengthen and tone your body all at once. \nAll are welcome. No prior experience required. \nSuggested donation: $5-10 \nMeets in the Moon Room on the 3rd floor.  Enter through the school street door and come upstairs to find us. \nAbout the Instructor: \nWei Li grew up in Mainland\, China. She earned her Ph.D. in Biology at Tufts University in 2005. Since 2010\, she has been studying Qi Gong and Tai Chi with Master Ming Wu and Master Shi Zhao. She finished her Fengyang Qi Gong Associate Instructor training in 2020 and has been teaching Qi Gong since at Wu Healing Center and Morse Institute Library.
URL:https://commonstreet.org/event/intro-to-qi-gong-2/2025-05-24/
LOCATION:Moon Room @ Common Street Spiritual Center\, 13 Common Street\, Natick\, 01760\, United States
CATEGORIES:Class,Community,Cultural,Healing,Meditation,Spiritual
ATTACH;FMTTYPE=image/png:https://commonstreet.org/wp-content/uploads/2022/06/Intro-to-Qi-Gong.png
ORGANIZER;CN="Wei Li":MAILTO:weili2155@gmail.com
END:VEVENT
BEGIN:VEVENT
DTSTART;TZID=America/New_York:20250524T153000
DTEND;TZID=America/New_York:20250524T190000
DTSTAMP:20260422T180032
CREATED:20250519T123139Z
LAST-MODIFIED:20250519T123251Z
UID:10022861-1748100600-1748113200@commonstreet.org
SUMMARY:Mai-Tri Method - Deep Energy Cleansing and Harmonizing
DESCRIPTION:Mohanji Foundation invites you to experience the Mai-Tri Method\, a profound method of deep cleansing and harmonizing of body\, mind and soul. \nThrough this method\, deep-seated subconscious blockages are removed\, even from the subtlest layer of our existence – the causal body – where seeds of karmic impressions are stored. \nWhile the cleansing reaches deep into the energy records\, it is important to note that Mai-Tri Method does not interfere with the destiny aspect of karma (as this is what has been chosen at the soul level\, be it pleasant or unpleasant to our mind). \nThe program runs from 3:30 PM to 7:00 PM. You may register and select a time slot that suits you. Each session lasts approximately 20 minutes. \nThere is a suggested donation of $30\, with 50% going to ACT Foundation USA to help feed the needy. \nRegister here: https://forms.gle/kcLPxuz3xq7r7NRz5 \nSpecific information about MaiTri Method can be found here :https://mohanji.org/mai-tri-method/
URL:https://commonstreet.org/event/mai-tri-method-deep-energy-cleansing-and-harmonizing/
LOCATION:Sanctuary at Common Street Spiritual Center\, 13 Common Street\, Natick\, MA\, 01760\, United States
CATEGORIES:Healing,Meditation,Spiritual,Workshop
ATTACH;FMTTYPE=image/png:https://commonstreet.org/wp-content/uploads/2025/05/Mai-Tri-Method-Event-Flyer_may-24th-2025.png
ORGANIZER;CN="Soumya Thelakkad":MAILTO:mohanjifamilyma@gmail.com
END:VEVENT
BEGIN:VEVENT
DTSTART;TZID=America/New_York:20250525T103000
DTEND;TZID=America/New_York:20250525T120000
DTSTAMP:20260422T180032
CREATED:20250514T135418Z
LAST-MODIFIED:20250926T170611Z
UID:10007363-1748169000-1748174400@commonstreet.org
SUMMARY:Open Circle Gathering
DESCRIPTION:The Open Circle is a weekly gathering of like-minded spiritual seekers who show up to connect authentically\, share our truths\, and be held in the space of a growth-oriented and loving community.\n\nIn the Open Circle\, everyone has a chance to contribute as we move around the circle. You’re welcome to bring poems\, songs\, prayers\, and insights to share.\n\nFree and open to the public–yes\, you can simply show up!\n\nIf you’re new to Open Circle\, you’re welcome to register here so you can be in the loop for future gatherings: https://forms.gle/Aa18ZuGfyy4Nv3gq7\\n\nThe Spiritual Center community is holding space for change in the lives of our members and in our world.\n*we embrace diverse forms of spiritual practice and artistic expression\n*we cultivate a hopeful societal vision built on principles of compassion and justice\n*we support the growth of a consciousness of interconnection across human differences and between people and the whole web of life around us\n*we build authentic community based on principles like love\, respect\, kindness\, and collaboration\n\nIf this resonates\, please join us! You’re welcome to become a member simply by filling out the form on this page: www.commonstreet.org/membership
URL:https://commonstreet.org/event/sunday-circle-in-person-3-2-2-2-2-10/2025-05-25/
LOCATION:MA
CATEGORIES:Children and Family,Community,Meditation,Music and Arts,Peace and Justice,Spiritual,Youth
ATTACH;FMTTYPE=image/png:https://commonstreet.org/wp-content/uploads/2023/11/Open-Circle-5-18-25.png
ORGANIZER;CN="Ian Mevorach":MAILTO:ian@commonstreet.org
END:VEVENT
BEGIN:VEVENT
DTSTART;TZID=America/New_York:20250525T180000
DTEND;TZID=America/New_York:20250525T200000
DTSTAMP:20260422T180032
CREATED:20250509T132234Z
LAST-MODIFIED:20250509T132234Z
UID:10020950-1748196000-1748203200@commonstreet.org
SUMMARY:Songs of Love
DESCRIPTION:Songs of Love is a gathering to honor the Divine within us and all around us. Bring a song if you would like to sing and your beautiful heart to share and listen. Let’s come Home together in community to hold each other’s hearts in respect and peace and to remember we are all One song. All faiths and beliefs are welcome. \nAll donations will go to Save the Children Gaza Relief \nCo-facilitators \nJudy O’Leary Thapa\, C-IAYT\, is a certified yoga therapist\, energy healer and channel. \nIan Mevorach\, MDiv\, PhD\, is a spiritual seeker\, singer/songwriter\, coach\, teacher\, and serves as director of the spiritual center. \n 
URL:https://commonstreet.org/event/songs-of-love/
LOCATION:Common Street Spiritual Center\, 13 Common Street\, Natick\, 01760\, United States
CATEGORIES:Community,Music and Arts,Spiritual
ATTACH;FMTTYPE=image/png:https://commonstreet.org/wp-content/uploads/2025/05/Songs-of-Love-525.png
ORGANIZER;CN="Judy Thapa":MAILTO:judy.thapa@gmail.com
END:VEVENT
END:VCALENDAR