BEGIN:VCALENDAR
VERSION:2.0
PRODID:-//Common Street Spiritual Center - ECPv6.15.20//NONSGML v1.0//EN
CALSCALE:GREGORIAN
METHOD:PUBLISH
X-WR-CALNAME:Common Street Spiritual Center
X-ORIGINAL-URL:https://commonstreet.org
X-WR-CALDESC:Events for Common Street Spiritual Center
REFRESH-INTERVAL;VALUE=DURATION:PT1H
X-Robots-Tag:noindex
X-PUBLISHED-TTL:PT1H
BEGIN:VTIMEZONE
TZID:America/New_York
BEGIN:DAYLIGHT
TZOFFSETFROM:-0500
TZOFFSETTO:-0400
TZNAME:EDT
DTSTART:20240310T070000
END:DAYLIGHT
BEGIN:STANDARD
TZOFFSETFROM:-0400
TZOFFSETTO:-0500
TZNAME:EST
DTSTART:20241103T060000
END:STANDARD
BEGIN:DAYLIGHT
TZOFFSETFROM:-0500
TZOFFSETTO:-0400
TZNAME:EDT
DTSTART:20250309T070000
END:DAYLIGHT
BEGIN:STANDARD
TZOFFSETFROM:-0400
TZOFFSETTO:-0500
TZNAME:EST
DTSTART:20251102T060000
END:STANDARD
BEGIN:DAYLIGHT
TZOFFSETFROM:-0500
TZOFFSETTO:-0400
TZNAME:EDT
DTSTART:20260308T070000
END:DAYLIGHT
BEGIN:STANDARD
TZOFFSETFROM:-0400
TZOFFSETTO:-0500
TZNAME:EST
DTSTART:20261101T060000
END:STANDARD
END:VTIMEZONE
BEGIN:VEVENT
DTSTART;TZID=America/New_York:20250121T090000
DTEND;TZID=America/New_York:20250121T100000
DTSTAMP:20260423T074340
CREATED:20240213T164750Z
LAST-MODIFIED:20240416T174733Z
UID:10013415-1737450000-1737453600@commonstreet.org
SUMMARY:Tuesday morning devotions
DESCRIPTION:Join us on ZOOM with your prayers\, writings\, songs\, inspiration from any and all religious traditions\, sacred scriptures\, humor\, and love. We “go around the circle” for those who wish to share\, or just come along to enjoy the inspiration \nJoin Zoom Meeting\nhttps://us02web.zoom.us/j/89987098568?pwd=OUVXL29RR2JKNzBLRUtxR25tMjZEdz09\n\nMeeting ID: 899 8709 8568\nPasscode: 881654
URL:https://commonstreet.org/event/tuesday-morning-devotions/2025-01-21/
LOCATION:MA
CATEGORIES:Spiritual
ORGANIZER;CN="Frances Pollitt":MAILTO:francespollitt@gmail.com
END:VEVENT
BEGIN:VEVENT
DTSTART;TZID=America/New_York:20250123T190000
DTEND;TZID=America/New_York:20250123T201500
DTSTAMP:20260423T074340
CREATED:20230803T162536Z
LAST-MODIFIED:20230804T160005Z
UID:10008325-1737658800-1737663300@commonstreet.org
SUMMARY:Mohanji Meditations
DESCRIPTION:The Mohanji Meditation is a powerful heart-opening guided meditation that offers release from binding patterns through love and gratitude. \nAll are welcome. No prior experience necessary.
URL:https://commonstreet.org/event/mohanji-meditations/2025-01-23/
LOCATION:Choir Room @ Common Street Spiritual Center\, 13 Common Street\, Natick\, 01760\, United States
CATEGORIES:Class,Healing,Meditation,Spiritual
ORGANIZER;CN="Soumya Thelakkad":MAILTO:mohanjifamilyma@gmail.com
END:VEVENT
BEGIN:VEVENT
DTSTART;TZID=America/New_York:20250125T090000
DTEND;TZID=America/New_York:20250125T120000
DTSTAMP:20260423T074340
CREATED:20241206T154953Z
LAST-MODIFIED:20241206T154953Z
UID:10018609-1737795600-1737806400@commonstreet.org
SUMMARY:The Uncommon Cafe at the Farmer's Market
DESCRIPTION:Every Saturday 9am-12pm \nStart your weekend with us at the Farmer’s Market and enjoy the unique offerings of The Uncommon Cafe! \nMenu Highlights: \nCoconut Maple Coffee: A harmonious blend of coconut oil\, Vermont maple syrup\, cinnamon\, ginger\, and vanilla for a warm and inviting flavor. \nCeremonial Cacao: A rich\, heart-opening drink infused with cinnamon\, ginger\, and vanilla—perfect for a mindful and nourishing start to your day.\nWhat Else to Expect: \nSpecialty Goods: Browse our collection of Palo Santo\, Sage\, and freshly restocked 1lb ceremonial cacao. \nLocal Treats: Discover new chocolate creations from Prophecy Chocolate\, including Classic Maple and Wild New England bars\, crafted in Hardwick\, VT. \nCoffee Made with Love & Intention: Every cup we brew is a personal experience. We ask what intention you’d like to set for your day and infuse it into your drink as we pour it—making every sip as meaningful as it is delicious. \nNot Sure About Our Unique Coffee? We get it! If you’re on the fence\, we’re happy to offer samples of our Coconut Maple Coffee so you can experience the flavor before committing. \nLet’s make Saturdays uncommon together!
URL:https://commonstreet.org/event/the-uncommon-cafe-at-the-farmers-market/2025-01-25/
LOCATION:Sanctuary Lobby @ Common Street Spiritual Center
CATEGORIES:Community,Cultural,Food,Healing,Spiritual
ATTACH;FMTTYPE=image/jpeg:https://commonstreet.org/wp-content/uploads/2024/12/Uncommon-.jpeg
ORGANIZER;CN="Evan Schlosser":MAILTO:evanschlossercontact@gmail.com
END:VEVENT
BEGIN:VEVENT
DTSTART;TZID=America/New_York:20250125T160000
DTEND;TZID=America/New_York:20250125T200000
DTSTAMP:20260423T074340
CREATED:20250122T205453Z
LAST-MODIFIED:20250122T205453Z
UID:10019648-1737820800-1737835200@commonstreet.org
SUMMARY:Heart Journey
DESCRIPTION:Fundraising Gatheringto Pray and SupportKum & Family\nTIME & DATE01 25 | 2025 / 4PM@ COMMON STREET SPIRITUAL CENTER\n\nPROFOUND GUIDED TRANSFORMATIONAL EXPERIENCEFOR ALL THE FAMILYGRATITUDE PRAYER\, GAMES\, ACTIVATIONS & CELEBRATING OUR ETERNAL ESSENCETHE GREAT MEDICINE OF UNION OF ALL AGESCacao Accompanying this Family Fun & Games\, Heart Opening Soul Journey with Sound Healing\,Sacred Dance\, Open Mic\, Jam\, Medicinal Live Music and Energy Renewal\n\nAncestral and Generational Meditation through the Beauty of SurrenderMoving through this transformational experience in profound love and gratitudewhile embracing all aspects of our human existence as well as integrating themas holy and celebrating the Divine Will in all of it.\nSPECIAL DAY DEDICATED TO KUM’S DIVINE TRANSITIONFOR MORE INFO & TO CONFIRM YOU CAN MSGSOFIA +1 (786) 693066 & DANIEL 1 (256) 926-8651SUGGESTED CONTRIBUTION BETWEEN $44- $111+IF UNABLE To CONTRIBUTE THE SUGGESTED AMOUNT GIVEWHAT YOU CAN\nINFINITE GRATITUD
URL:https://commonstreet.org/event/heart-journey-2/
LOCATION:Common Street Spiritual Center\, 13 Common Street\, Natick\, 01760\, United States
CATEGORIES:Benefit,Children and Family,Community,Cultural,Healing,Music and Arts,Spiritual
ATTACH;FMTTYPE=image/jpeg:https://commonstreet.org/wp-content/uploads/2025/01/heart-journey.jpg
END:VEVENT
BEGIN:VEVENT
DTSTART;TZID=America/New_York:20250126T103000
DTEND;TZID=America/New_York:20250126T120000
DTSTAMP:20260423T074340
CREATED:20231119T115923Z
LAST-MODIFIED:20240405T123054Z
UID:10007350-1737887400-1737892800@commonstreet.org
SUMMARY:Open Circle Gathering
DESCRIPTION:The Open Circle is a weekly gathering of like-minded spiritual seekers who show up to connect authentically\, share our truths\, and be held in the space of a growth-oriented and loving community.\n\nIn the Open Circle\, everyone has a chance to contribute as we move around the circle. You’re welcome to bring poems\, songs\, prayers\, and insights to share.\n\nFree and open to the public–yes\, you can simply show up!\n\nIf you’re new to Open Circle\, you’re welcome to register here so you can be in the loop for future gatherings: https://forms.gle/Aa18ZuGfyy4Nv3gq7\\n\nThe Spiritual Center community is holding space for change in the lives of our members and in our world.\n*we embrace diverse forms of spiritual practice and artistic expression\n*we cultivate a hopeful societal vision built on principles of compassion and justice\n*we support the growth of a consciousness of interconnection across human differences and between people and the whole web of life around us\n*we build authentic community based on principles like love\, respect\, kindness\, and collaboration\n\nIf this resonates\, please join us! You’re welcome to become a member simply by filling out the form on this page: www.commonstreet.org/membership
URL:https://commonstreet.org/event/sunday-circle-in-person-3-2-2-2-2/2025-01-26/
LOCATION:MA
CATEGORIES:Children and Family,Community,Meditation,Music and Arts,Peace and Justice,Spiritual,Youth
ATTACH;FMTTYPE=image/png:https://commonstreet.org/wp-content/uploads/2023/07/Open-Circle-General-7_17_231.png
ORGANIZER;CN="Ian Mevorach":MAILTO:ian@commonstreet.org
END:VEVENT
BEGIN:VEVENT
DTSTART;TZID=America/New_York:20250126T170000
DTEND;TZID=America/New_York:20250126T180000
DTSTAMP:20260423T074340
CREATED:20250102T010721Z
LAST-MODIFIED:20250102T010721Z
UID:10019189-1737910800-1737914400@commonstreet.org
SUMMARY:Healing Yoga for Everyone - Winter Series
DESCRIPTION:We heal one breath at a time. A safe and nurturing practice guides us gently into our inner experience\, where we can explore the layers of our experience. The winter series honors the quiet and stillness of the season\, bringing in breath work and movement that can build heat\, welcome in rest\, and brings in light. Each class will open with Pranayama (guided breath work)\, evolve into a gentle yoga flow\, and will wrap with a guided meditation.\nAll are welcome\, and modifications will be offered. Please bring a mat. \nJanuary 5th\, 5 PM\nJanuary 12 (no class)\nJanuary 19\, 5 PM\nJanuary 26\, 5 PM\nFebruary 2\, 5 PM\nFebruary 9\, 5 PM\nFebruary 16 (no class)\nFebruary 23\, 5 PM \nDrop-in: $20 non-members / $15 members (join here: https://commonstreet.org/how-to-join/)\, cash at the door\, or venmo @Maria-Vasilevsky
URL:https://commonstreet.org/event/healing-yoga-for-everyone-winter-series/2025-01-26/
LOCATION:Common Street Spiritual Center\, 13 Common Street\, Natick\, 01760\, United States
CATEGORIES:Community,Healing,Meditation,Peace and Justice,Small Group,Spiritual,Yoga
ATTACH;FMTTYPE=image/png:https://commonstreet.org/wp-content/uploads/2025/01/IMG_3304.png
ORGANIZER;CN="Maria Vasilevsky":MAILTO:she.who.oms@gmail.com
END:VEVENT
END:VCALENDAR