BEGIN:VCALENDAR
VERSION:2.0
PRODID:-//Common Street Spiritual Center - ECPv6.15.20//NONSGML v1.0//EN
CALSCALE:GREGORIAN
METHOD:PUBLISH
X-WR-CALNAME:Common Street Spiritual Center
X-ORIGINAL-URL:https://commonstreet.org
X-WR-CALDESC:Events for Common Street Spiritual Center
REFRESH-INTERVAL;VALUE=DURATION:PT1H
X-Robots-Tag:noindex
X-PUBLISHED-TTL:PT1H
BEGIN:VTIMEZONE
TZID:America/New_York
BEGIN:DAYLIGHT
TZOFFSETFROM:-0500
TZOFFSETTO:-0400
TZNAME:EDT
DTSTART:20240310T070000
END:DAYLIGHT
BEGIN:STANDARD
TZOFFSETFROM:-0400
TZOFFSETTO:-0500
TZNAME:EST
DTSTART:20241103T060000
END:STANDARD
BEGIN:DAYLIGHT
TZOFFSETFROM:-0500
TZOFFSETTO:-0400
TZNAME:EDT
DTSTART:20250309T070000
END:DAYLIGHT
BEGIN:STANDARD
TZOFFSETFROM:-0400
TZOFFSETTO:-0500
TZNAME:EST
DTSTART:20251102T060000
END:STANDARD
BEGIN:DAYLIGHT
TZOFFSETFROM:-0500
TZOFFSETTO:-0400
TZNAME:EDT
DTSTART:20260308T070000
END:DAYLIGHT
BEGIN:STANDARD
TZOFFSETFROM:-0400
TZOFFSETTO:-0500
TZNAME:EST
DTSTART:20261101T060000
END:STANDARD
END:VTIMEZONE
BEGIN:VEVENT
DTSTART;TZID=America/New_York:20250107T090000
DTEND;TZID=America/New_York:20250107T100000
DTSTAMP:20260423T025118
CREATED:20240213T164750Z
LAST-MODIFIED:20240416T174733Z
UID:10013413-1736240400-1736244000@commonstreet.org
SUMMARY:Tuesday morning devotions
DESCRIPTION:Join us on ZOOM with your prayers\, writings\, songs\, inspiration from any and all religious traditions\, sacred scriptures\, humor\, and love. We “go around the circle” for those who wish to share\, or just come along to enjoy the inspiration \nJoin Zoom Meeting\nhttps://us02web.zoom.us/j/89987098568?pwd=OUVXL29RR2JKNzBLRUtxR25tMjZEdz09\n\nMeeting ID: 899 8709 8568\nPasscode: 881654
URL:https://commonstreet.org/event/tuesday-morning-devotions/2025-01-07/
LOCATION:MA
CATEGORIES:Spiritual
ORGANIZER;CN="Frances Pollitt":MAILTO:francespollitt@gmail.com
END:VEVENT
BEGIN:VEVENT
DTSTART;TZID=America/New_York:20250109T190000
DTEND;TZID=America/New_York:20250109T201500
DTSTAMP:20260423T025118
CREATED:20230803T162536Z
LAST-MODIFIED:20230804T160005Z
UID:10008323-1736449200-1736453700@commonstreet.org
SUMMARY:Mohanji Meditations
DESCRIPTION:The Mohanji Meditation is a powerful heart-opening guided meditation that offers release from binding patterns through love and gratitude. \nAll are welcome. No prior experience necessary.
URL:https://commonstreet.org/event/mohanji-meditations/2025-01-09/
LOCATION:Choir Room @ Common Street Spiritual Center\, 13 Common Street\, Natick\, 01760\, United States
CATEGORIES:Class,Healing,Meditation,Spiritual
ORGANIZER;CN="Soumya Thelakkad":MAILTO:mohanjifamilyma@gmail.com
END:VEVENT
BEGIN:VEVENT
DTSTART;TZID=America/New_York:20250111T090000
DTEND;TZID=America/New_York:20250111T120000
DTSTAMP:20260423T025118
CREATED:20241206T154953Z
LAST-MODIFIED:20241206T154953Z
UID:10018607-1736586000-1736596800@commonstreet.org
SUMMARY:The Uncommon Cafe at the Farmer's Market
DESCRIPTION:Every Saturday 9am-12pm \nStart your weekend with us at the Farmer’s Market and enjoy the unique offerings of The Uncommon Cafe! \nMenu Highlights: \nCoconut Maple Coffee: A harmonious blend of coconut oil\, Vermont maple syrup\, cinnamon\, ginger\, and vanilla for a warm and inviting flavor. \nCeremonial Cacao: A rich\, heart-opening drink infused with cinnamon\, ginger\, and vanilla—perfect for a mindful and nourishing start to your day.\nWhat Else to Expect: \nSpecialty Goods: Browse our collection of Palo Santo\, Sage\, and freshly restocked 1lb ceremonial cacao. \nLocal Treats: Discover new chocolate creations from Prophecy Chocolate\, including Classic Maple and Wild New England bars\, crafted in Hardwick\, VT. \nCoffee Made with Love & Intention: Every cup we brew is a personal experience. We ask what intention you’d like to set for your day and infuse it into your drink as we pour it—making every sip as meaningful as it is delicious. \nNot Sure About Our Unique Coffee? We get it! If you’re on the fence\, we’re happy to offer samples of our Coconut Maple Coffee so you can experience the flavor before committing. \nLet’s make Saturdays uncommon together!
URL:https://commonstreet.org/event/the-uncommon-cafe-at-the-farmers-market/2025-01-11/
LOCATION:Sanctuary Lobby @ Common Street Spiritual Center
CATEGORIES:Community,Cultural,Food,Healing,Spiritual
ATTACH;FMTTYPE=image/jpeg:https://commonstreet.org/wp-content/uploads/2024/12/Uncommon-.jpeg
ORGANIZER;CN="Evan Schlosser":MAILTO:evanschlossercontact@gmail.com
END:VEVENT
BEGIN:VEVENT
DTSTART;TZID=America/New_York:20250112T083000
DTEND;TZID=America/New_York:20250112T213000
DTSTAMP:20260423T025118
CREATED:20241001T123600Z
LAST-MODIFIED:20241228T180751Z
UID:10019166-1736670600-1736717400@commonstreet.org
SUMMARY:Call of Love Yoga
DESCRIPTION:Call of Love  \nChanneled song and messages from the Divine  \nExperience channeled sources of Love into song while you relax at the end of a gentle yoga class. Your practice will include guided breathing\, chair or mat asana\, restorative poses and meditation. Coming home to the oneness in our hearts\, we can cultivate a sense of unity that brings us together into wholeness\, solace\, peace and hope  \n8:30-9:30\, Sundays mornings (except for the last Sunday of the month) \nCommon Street Spiritual Center Sanctuary \nDonations welcome \nCash or Venmo: @Judith-Thapa \nJudy O’Leary Thapa is a channel\, energy healer\, yoga teacher and yoga therapist. She has certifications in Sivananda yoga\, Prenatal yoga\, Phoenix Rising Yoga Therapy (Pryt.com) and with the International Association of Yoga Therapists (IAYT.org). Judy has over twenty years of experience teaching students of all ages. \nYou can follow Judy on FB at Varunayoga
URL:https://commonstreet.org/event/call-of-love-yoga-2/2025-01-12/
LOCATION:Sanctuary at Common Street Spiritual Center\, 13 Common Street\, Natick\, MA\, 01760\, United States
CATEGORIES:Children and Family,Class,Community,Healing,Meditation,Music and Arts,Spiritual,Yoga,Youth
ATTACH;FMTTYPE=image/png:https://commonstreet.org/wp-content/uploads/2024/10/Call-of-Love-Sundays.png
ORGANIZER;CN="Judy Thapa":MAILTO:judy.thapa@gmail.com
END:VEVENT
BEGIN:VEVENT
DTSTART;TZID=America/New_York:20250112T103000
DTEND;TZID=America/New_York:20250112T120000
DTSTAMP:20260423T025118
CREATED:20231119T115923Z
LAST-MODIFIED:20240405T123054Z
UID:10006458-1736677800-1736683200@commonstreet.org
SUMMARY:Open Circle Gathering
DESCRIPTION:The Open Circle is a weekly gathering of like-minded spiritual seekers who show up to connect authentically\, share our truths\, and be held in the space of a growth-oriented and loving community.\n\nIn the Open Circle\, everyone has a chance to contribute as we move around the circle. You’re welcome to bring poems\, songs\, prayers\, and insights to share.\n\nFree and open to the public–yes\, you can simply show up!\n\nIf you’re new to Open Circle\, you’re welcome to register here so you can be in the loop for future gatherings: https://forms.gle/Aa18ZuGfyy4Nv3gq7\\n\nThe Spiritual Center community is holding space for change in the lives of our members and in our world.\n*we embrace diverse forms of spiritual practice and artistic expression\n*we cultivate a hopeful societal vision built on principles of compassion and justice\n*we support the growth of a consciousness of interconnection across human differences and between people and the whole web of life around us\n*we build authentic community based on principles like love\, respect\, kindness\, and collaboration\n\nIf this resonates\, please join us! You’re welcome to become a member simply by filling out the form on this page: www.commonstreet.org/membership
URL:https://commonstreet.org/event/sunday-circle-in-person-3-2-2-2-2/2025-01-12/
LOCATION:MA
CATEGORIES:Children and Family,Community,Meditation,Music and Arts,Peace and Justice,Spiritual,Youth
ATTACH;FMTTYPE=image/png:https://commonstreet.org/wp-content/uploads/2023/07/Open-Circle-General-7_17_231.png
ORGANIZER;CN="Ian Mevorach":MAILTO:ian@commonstreet.org
END:VEVENT
BEGIN:VEVENT
DTSTART;TZID=America/New_York:20250112T140000
DTEND;TZID=America/New_York:20250112T190000
DTSTAMP:20260423T025118
CREATED:20250106T004103Z
LAST-MODIFIED:20250106T004103Z
UID:10019247-1736690400-1736708400@commonstreet.org
SUMMARY:Self-Love Heart Chakra Retreat
DESCRIPTION:Join a community of like-hearted souls in a powerful Self-Love Journey.  In our fourth monthly chakra retreat\, we will explore the powerful qualities of the Heart Chakra:  the energy center of love\, compassion\, forgiveness\, healing\, gratitude\, perseverance\, transformation\, hope\, and more.  We will experience how this chakra supports our ability to create self-love through a variety of meaningful and fun chakra-supporting activities including yoga\, cacao ceremony\, guided meditation\, journaling\, community Reiki\, and more! \n\n \nHEART CHAKRA RETREAT SCHEDULE…\n\n* Opening Circle & Cacao Ceremony (2 – 3:15 pm)\n* Self-Love Heart Chakra Yoga with Inbal   (3:30 – 4:30 pm)\n* Snack Break & Community Connection Time (*Featuring Heart Chakra supporting snacks!)   (4:30 – 5 pm)\n* Guided Meditation with Desiree & Self-Love Journaling  (5 – 5:30 pm)\n* Small Group Discussion  (5:30 – 5:45 pm)\n* Community Reiki Share  (5:45 – 6:45 pm)\n* Closing Circle  (6:45 – 7 pm)\n \n(*Exact retreat timing subject to change!  Participants may choose which activities they would like to participate in and are welcome to opt out of any retreat activities they wish to!)\n\n\n \n———-——————–—-\n \n\nRETREAT DETAILS & REGISTRATION…\n \nDate:  Sunday\, January 12\, 2025\n\n \nTime:  2:00 pm – 7:00 pm\n\n \nRetreat Location:  “Common Street Spiritual Center”  (13 Common St\, Natick\, MA 01760)\n \nParking / Transportation:  There is a parking lot behind the spiritual center and lots of street parking within walking distance that is free on Sundays!  If you would like to come in by train\, The Natick Center Station is only a 6 minute walk from the spiritual center!  (If you are in need of a ride to Natick\, please let us know\, and we will attempt to put you in touch with someone in your area who is driving!)\n\n \nCost:  $60 – $80  (*Sliding Scale!)\n\n \n(Additional Financial Aid Available!  We believe in making this retreat accessible to all who wish to participate.  If you are in need of any additional financial assistance\, please contact Desiree & Inbal at RavensongRetreats@gmail.com and we will happily work something out with you!)\n\n \nRegistration & Payment:\n\n\n1) To sign-up\, please email Desiree & Inbal at RavensongRetreats@gmail.com.\n\n \n2) Please send a payment of $60-$80 prior to the retreat through Venmo to @inbaldagan or use this link to send a payment through credit card / PayPal: https://www.paypal.com/ncp/payment/X62TZJ3KTZ5XL. \n\n\nCancellation Policy:  There will be no refunds available for this retreat\, but you are welcome to use your payment as a credit towards a future Self-Love Chakra Retreat!  (See below for upcoming retreat dates!)\n\n \n\n———-——————–—-\n\n \n\nUPCOMING SELF-LOVE RETREATS!\n\n \nThroat Chakra Retreat:  February 16\, 2025\n\n \nThird Eye Chakra Retreat:  March 16\, 2025\n\n \nCrown Chakra Retreat:  April 27\, 2025  (Date TBA!)\n \n(*You are welcome to attend any or all chakra retreats!  You may wish to use your intuition to see which chakras you are most drawn to strengthen at this time and determine which retreats would be most helpful for you to attend!)\n\n \n\n\n———-——————–—-\n\n \n\n\nABOUT INBAL DAGAN…\n\n \n\n\nInbal Dagan (she/her) is a yoga teacher\, occupational therapist\, and Reiki practitioner with a passion for supporting others in their journey of healing & embodiment.  She believes that our self-love journey can be deeply strengthened by learning to be present and at home in our body\, and is excited to share her yoga & creative movement practices with our self-love retreat community.\n\n \n \nABOUT DESIREE DENNIS…\n\n \nDesiree Dennis (she/her) is a spirit medium\, Reiki Master\, and life-long musician who has facilitated spiritual workshops & retreats around the country.  As a person who has spent many years in dedication to her own self-love journey\, she is overjoyed to have the opportunity to continue exploring & deepening self-love within the supportive container of our conscious retreat community.  (To learn more about Desiree\, please visit www.spiritguidanceandhealing.com.)
URL:https://commonstreet.org/event/self-love-heart-chakra-retreat/
LOCATION:Sanctuary at Common Street Spiritual Center\, 13 Common Street\, Natick\, MA\, 01760\, United States
CATEGORIES:Community,Healing,Meditation,Spiritual,Workshop
ATTACH;FMTTYPE=image/jpeg:https://commonstreet.org/wp-content/uploads/2025/01/Heart-Chakra-Flyer.jpg
END:VEVENT
END:VCALENDAR