BEGIN:VCALENDAR
VERSION:2.0
PRODID:-//Common Street Spiritual Center - ECPv6.15.20//NONSGML v1.0//EN
CALSCALE:GREGORIAN
METHOD:PUBLISH
X-ORIGINAL-URL:https://commonstreet.org
X-WR-CALDESC:Events for Common Street Spiritual Center
REFRESH-INTERVAL;VALUE=DURATION:PT1H
X-Robots-Tag:noindex
X-PUBLISHED-TTL:PT1H
BEGIN:VTIMEZONE
TZID:America/New_York
BEGIN:DAYLIGHT
TZOFFSETFROM:-0500
TZOFFSETTO:-0400
TZNAME:EDT
DTSTART:20230312T070000
END:DAYLIGHT
BEGIN:STANDARD
TZOFFSETFROM:-0400
TZOFFSETTO:-0500
TZNAME:EST
DTSTART:20231105T060000
END:STANDARD
BEGIN:DAYLIGHT
TZOFFSETFROM:-0500
TZOFFSETTO:-0400
TZNAME:EDT
DTSTART:20240310T070000
END:DAYLIGHT
BEGIN:STANDARD
TZOFFSETFROM:-0400
TZOFFSETTO:-0500
TZNAME:EST
DTSTART:20241103T060000
END:STANDARD
BEGIN:DAYLIGHT
TZOFFSETFROM:-0500
TZOFFSETTO:-0400
TZNAME:EDT
DTSTART:20250309T070000
END:DAYLIGHT
BEGIN:STANDARD
TZOFFSETFROM:-0400
TZOFFSETTO:-0500
TZNAME:EST
DTSTART:20251102T060000
END:STANDARD
END:VTIMEZONE
BEGIN:VEVENT
DTSTART;TZID=America/New_York:20241111T180000
DTEND;TZID=America/New_York:20241111T193000
DTSTAMP:20260423T045423
CREATED:20241009T184938Z
LAST-MODIFIED:20241025T185231Z
UID:10017876-1731348000-1731353400@commonstreet.org
SUMMARY:Lessons Across Faith: Exploring our neighbors' traditions
DESCRIPTION:Join us in reading through a collection of stories and sharing our own stories encountering persons of other faiths. All are invited to join this conversation\, whether you belong to a religious group or are atheist or agnostic. The book is available through Amazon or through your local library : “My Neighbor’s Faith : stories of interreligious encounter\, growth\, and transformation.” \n3 sessions – Monday nights 6:00 PM – 7:30 PM on Zoom. Nov. 4\, 11\, & 18\n**the 4th session in person Sunday Nov. 24** at 4:00 PM – 6 PM\nat the Center for Interfaith Collaboration\, 130 Newton St.\, Weston\, MA 02493. Refreshments & meet the editor(s). \nCo-facilitators: Deborah Mitchell (Christian)\, and Fran Pollitt (Baha’i Faith) \nRSVP if you are interested!\nDeborah: deborahmitchell25@gmail.com\, 617-894-8771\nFran: francespollitt@gmail.com\, 207-252-9647 \nZOOM INFO: \nJoin Zoom Meeting\nhttps://us02web.zoom.us/j/82922561903?pwd=whXnVkUaWJOcbt5dvjU14UAGGa3Q9v.1 \nMeeting ID: 829 2256 1903\nPasscode: 687966
URL:https://commonstreet.org/event/lessons-across-faith-exploring-our-neighbors-traditions/2024-11-11/
LOCATION:MA
CATEGORIES:Community,Dialogue,Music and Arts,Small Group,Spiritual
ORGANIZER;CN="Frances Pollitt":MAILTO:francespollitt@gmail.com
END:VEVENT
BEGIN:VEVENT
DTSTART;TZID=America/New_York:20241112T090000
DTEND;TZID=America/New_York:20241112T100000
DTSTAMP:20260423T045423
CREATED:20240213T164750Z
LAST-MODIFIED:20240416T174733Z
UID:10013405-1731402000-1731405600@commonstreet.org
SUMMARY:Tuesday morning devotions
DESCRIPTION:Join us on ZOOM with your prayers\, writings\, songs\, inspiration from any and all religious traditions\, sacred scriptures\, humor\, and love. We “go around the circle” for those who wish to share\, or just come along to enjoy the inspiration \nJoin Zoom Meeting\nhttps://us02web.zoom.us/j/89987098568?pwd=OUVXL29RR2JKNzBLRUtxR25tMjZEdz09\n\nMeeting ID: 899 8709 8568\nPasscode: 881654
URL:https://commonstreet.org/event/tuesday-morning-devotions/2024-11-12/
LOCATION:MA
CATEGORIES:Spiritual
ORGANIZER;CN="Frances Pollitt":MAILTO:francespollitt@gmail.com
END:VEVENT
BEGIN:VEVENT
DTSTART;TZID=America/New_York:20241114T190000
DTEND;TZID=America/New_York:20241114T201500
DTSTAMP:20260423T045423
CREATED:20230803T162536Z
LAST-MODIFIED:20230804T160005Z
UID:10008315-1731610800-1731615300@commonstreet.org
SUMMARY:Mohanji Meditations
DESCRIPTION:The Mohanji Meditation is a powerful heart-opening guided meditation that offers release from binding patterns through love and gratitude. \nAll are welcome. No prior experience necessary.
URL:https://commonstreet.org/event/mohanji-meditations/2024-11-14/
LOCATION:Choir Room @ Common Street Spiritual Center\, 13 Common Street\, Natick\, 01760\, United States
CATEGORIES:Class,Healing,Meditation,Spiritual
ORGANIZER;CN="Soumya Thelakkad":MAILTO:mohanjifamilyma@gmail.com
END:VEVENT
BEGIN:VEVENT
DTSTART;TZID=America/New_York:20241117T083000
DTEND;TZID=America/New_York:20241117T213000
DTSTAMP:20260423T045423
CREATED:20241001T123600Z
LAST-MODIFIED:20241228T180751Z
UID:10017865-1731832200-1731879000@commonstreet.org
SUMMARY:Call of Love Yoga
DESCRIPTION:Call of Love  \nChanneled song and messages from the Divine  \nExperience channeled sources of Love into song while you relax at the end of a gentle yoga class. Your practice will include guided breathing\, chair or mat asana\, restorative poses and meditation. Coming home to the oneness in our hearts\, we can cultivate a sense of unity that brings us together into wholeness\, solace\, peace and hope  \n8:30-9:30\, Sundays mornings (except for the last Sunday of the month) \nCommon Street Spiritual Center Sanctuary \nDonations welcome \nCash or Venmo: @Judith-Thapa \nJudy O’Leary Thapa is a channel\, energy healer\, yoga teacher and yoga therapist. She has certifications in Sivananda yoga\, Prenatal yoga\, Phoenix Rising Yoga Therapy (Pryt.com) and with the International Association of Yoga Therapists (IAYT.org). Judy has over twenty years of experience teaching students of all ages. \nYou can follow Judy on FB at Varunayoga
URL:https://commonstreet.org/event/call-of-love-yoga-2/2024-11-17/
LOCATION:Sanctuary at Common Street Spiritual Center\, 13 Common Street\, Natick\, MA\, 01760\, United States
CATEGORIES:Children and Family,Class,Community,Healing,Meditation,Music and Arts,Spiritual,Yoga,Youth
ATTACH;FMTTYPE=image/png:https://commonstreet.org/wp-content/uploads/2024/10/Call-of-Love-Sundays.png
ORGANIZER;CN="Judy Thapa":MAILTO:judy.thapa@gmail.com
END:VEVENT
BEGIN:VEVENT
DTSTART;TZID=America/New_York:20241117T103000
DTEND;TZID=America/New_York:20241117T120000
DTSTAMP:20260423T045423
CREATED:20231119T115923Z
LAST-MODIFIED:20240405T123054Z
UID:10007342-1731839400-1731844800@commonstreet.org
SUMMARY:Open Circle Gathering
DESCRIPTION:The Open Circle is a weekly gathering of like-minded spiritual seekers who show up to connect authentically\, share our truths\, and be held in the space of a growth-oriented and loving community.\n\nIn the Open Circle\, everyone has a chance to contribute as we move around the circle. You’re welcome to bring poems\, songs\, prayers\, and insights to share.\n\nFree and open to the public–yes\, you can simply show up!\n\nIf you’re new to Open Circle\, you’re welcome to register here so you can be in the loop for future gatherings: https://forms.gle/Aa18ZuGfyy4Nv3gq7\\n\nThe Spiritual Center community is holding space for change in the lives of our members and in our world.\n*we embrace diverse forms of spiritual practice and artistic expression\n*we cultivate a hopeful societal vision built on principles of compassion and justice\n*we support the growth of a consciousness of interconnection across human differences and between people and the whole web of life around us\n*we build authentic community based on principles like love\, respect\, kindness\, and collaboration\n\nIf this resonates\, please join us! You’re welcome to become a member simply by filling out the form on this page: www.commonstreet.org/membership
URL:https://commonstreet.org/event/sunday-circle-in-person-3-2-2-2-2/2024-11-17/
LOCATION:MA
CATEGORIES:Children and Family,Community,Meditation,Music and Arts,Peace and Justice,Spiritual,Youth
ATTACH;FMTTYPE=image/png:https://commonstreet.org/wp-content/uploads/2023/07/Open-Circle-General-7_17_231.png
ORGANIZER;CN="Ian Mevorach":MAILTO:ian@commonstreet.org
END:VEVENT
BEGIN:VEVENT
DTSTART;TZID=America/New_York:20241117T170000
DTEND;TZID=America/New_York:20241117T180000
DTSTAMP:20260423T045423
CREATED:20241102T111300Z
LAST-MODIFIED:20241102T111300Z
UID:10017908-1731862800-1731866400@commonstreet.org
SUMMARY:Gentle Yoga to Ease Aches and Pains
DESCRIPTION:Come one\, come all for this gentle yoga class meant to stretch and ease sore spots! All are welcome\, and chair modifications will be offered for anyone who needs it. We will practice breath work\, and move the spine through extension\, flexion\, rotation and lateral stretches. We will share pose names to build familiarity with the asana practice\, and end the class with a guided meditation. What a wonderful way to wrap up your weekend\, and set yourself up for a great week. \nSunday\, 11/3\, 5 PM – Head\, Neck\, Shoulders and Chest Focus \nSunday\, 11/10\, 5 PM – Back\, Waist\, and Abdominal Focus \nSunday\, 11/17\, 5 PM – Hips and Overall Balance Focus \nSunday\, 11/24\, 5 PM – Deep Leg Stretch Focus \nSuggested Donation $20 ($15 for CSSC Members)
URL:https://commonstreet.org/event/gentle-yoga-to-ease-aches-and-pains/2024-11-17/
LOCATION:Common Street Spiritual Center\, 13 Common Street\, Natick\, 01760\, United States
CATEGORIES:Community,Meditation,Spiritual,Workshop,Yoga
ORGANIZER;CN="Maria Vasilevsky":MAILTO:she.who.oms@gmail.com
END:VEVENT
END:VCALENDAR