BEGIN:VCALENDAR
VERSION:2.0
PRODID:-//Common Street Spiritual Center - ECPv6.15.20//NONSGML v1.0//EN
CALSCALE:GREGORIAN
METHOD:PUBLISH
X-ORIGINAL-URL:https://commonstreet.org
X-WR-CALDESC:Events for Common Street Spiritual Center
REFRESH-INTERVAL;VALUE=DURATION:PT1H
X-Robots-Tag:noindex
X-PUBLISHED-TTL:PT1H
BEGIN:VTIMEZONE
TZID:America/New_York
BEGIN:DAYLIGHT
TZOFFSETFROM:-0500
TZOFFSETTO:-0400
TZNAME:EDT
DTSTART:20230312T070000
END:DAYLIGHT
BEGIN:STANDARD
TZOFFSETFROM:-0400
TZOFFSETTO:-0500
TZNAME:EST
DTSTART:20231105T060000
END:STANDARD
BEGIN:DAYLIGHT
TZOFFSETFROM:-0500
TZOFFSETTO:-0400
TZNAME:EDT
DTSTART:20240310T070000
END:DAYLIGHT
BEGIN:STANDARD
TZOFFSETFROM:-0400
TZOFFSETTO:-0500
TZNAME:EST
DTSTART:20241103T060000
END:STANDARD
BEGIN:DAYLIGHT
TZOFFSETFROM:-0500
TZOFFSETTO:-0400
TZNAME:EDT
DTSTART:20250309T070000
END:DAYLIGHT
BEGIN:STANDARD
TZOFFSETFROM:-0400
TZOFFSETTO:-0500
TZNAME:EST
DTSTART:20251102T060000
END:STANDARD
END:VTIMEZONE
BEGIN:VEVENT
DTSTART;TZID=America/New_York:20240910T090000
DTEND;TZID=America/New_York:20240910T100000
DTSTAMP:20260423T093810
CREATED:20240213T164750Z
LAST-MODIFIED:20240416T174733Z
UID:10013396-1725958800-1725962400@commonstreet.org
SUMMARY:Tuesday morning devotions
DESCRIPTION:Join us on ZOOM with your prayers\, writings\, songs\, inspiration from any and all religious traditions\, sacred scriptures\, humor\, and love. We “go around the circle” for those who wish to share\, or just come along to enjoy the inspiration \nJoin Zoom Meeting\nhttps://us02web.zoom.us/j/89987098568?pwd=OUVXL29RR2JKNzBLRUtxR25tMjZEdz09\n\nMeeting ID: 899 8709 8568\nPasscode: 881654
URL:https://commonstreet.org/event/tuesday-morning-devotions/2024-09-10/
LOCATION:MA
CATEGORIES:Spiritual
ORGANIZER;CN="Frances Pollitt":MAILTO:francespollitt@gmail.com
END:VEVENT
BEGIN:VEVENT
DTSTART;TZID=America/New_York:20240912T190000
DTEND;TZID=America/New_York:20240912T201500
DTSTAMP:20260423T093810
CREATED:20230803T162536Z
LAST-MODIFIED:20230804T160005Z
UID:10008306-1726167600-1726172100@commonstreet.org
SUMMARY:Mohanji Meditations
DESCRIPTION:The Mohanji Meditation is a powerful heart-opening guided meditation that offers release from binding patterns through love and gratitude. \nAll are welcome. No prior experience necessary.
URL:https://commonstreet.org/event/mohanji-meditations/2024-09-12/
LOCATION:Choir Room @ Common Street Spiritual Center\, 13 Common Street\, Natick\, 01760\, United States
CATEGORIES:Class,Healing,Meditation,Spiritual
ORGANIZER;CN="Soumya Thelakkad":MAILTO:mohanjifamilyma@gmail.com
END:VEVENT
BEGIN:VEVENT
DTSTART;TZID=America/New_York:20240913T100000
DTEND;TZID=America/New_York:20240913T113000
DTSTAMP:20260423T093810
CREATED:20231212T011750Z
LAST-MODIFIED:20231214T014353Z
UID:10012899-1726221600-1726227000@commonstreet.org
SUMMARY:The Artist's Way
DESCRIPTION:The Artist’s Way is a monthly drop-in group for aspiring or established creatives.\nWe will create an open\, no-pressure space to experiment\, share\, collaborate and be in community with others.\nThemes from Julia Cameron’s book will be discussed. Contact Nathaniel@plantseyeview.com to register or for more information.
URL:https://commonstreet.org/event/artists-way/2024-09-13/
LOCATION:Studio @ Common Street\, 13 Common Street\, Natick\, MA\, 01760\, United States
CATEGORIES:Class,Healing,Music and Arts,Small Group,Spiritual,Workshop
ATTACH;FMTTYPE=image/png:https://commonstreet.org/wp-content/uploads/2023/12/a83c0198-1e6e-457a-b485-10f4774f1b4f_1.png
ORGANIZER;CN="Nathaniel Putnam":MAILTO:nathaniel@plantseyeview.com
END:VEVENT
BEGIN:VEVENT
DTSTART;TZID=America/New_York:20240913T190000
DTEND;TZID=America/New_York:20240913T210000
DTSTAMP:20260423T093810
CREATED:20240912T112707Z
LAST-MODIFIED:20240912T112707Z
UID:10017648-1726254000-1726261200@commonstreet.org
SUMMARY:Nada Brahma Kirtan
DESCRIPTION:Nada Brahma Kirtan is currently a three member band founded by Kāmpa Vashi Deva and Lisa Kawski in 2018. The band originated on the North Shore and from the west of Boston. They bring their instruments and voices together to share with the community their devotion\, invoking the healing light of the Universe. Tapping into the experience opens your heart and mind\, helping to bring peace to the planet and beyond.\nBand Members: https://nadabrahmakirtan.orgKāmpa Vashi Deva – Lead Vocal\, Harmonium\, Mridangam\, Slaptop Cajon and KertalsLisa Kawski – Lead Vocal\, Harmonium\, Indiginous Drum and KertalsSteve Sherman – Tablas\, Lead Vocal\, Chimes and Rhythms\nWhat is Kirtan?Kirtan is transcendental spiritual music and a meditation practice also described as Bhakti Yoga or Nada Yoga. Its origins come from Eastern Indian and Budhist culture.Kirtan is a call and response chanting from the vocal leader to the audience\, who then recites or echos back the same lyrics. By chanting in this way\, the sounds and voices raise a very high conscious vibration that reverberates within and outside of you\, opening up energy channels.This practice calms and quiets the mind. You don’t need to have any previous experience to attend a Kirtan. All spiritual faiths are welcome.\n$20 Donation at the doorPay Cash or with Venmo (settings on friends and family)Bring yoga blanket or cushions and perhaps a bottle of water. Chairs will be available. Mask wearing is optional.Handicap accessibility is available.
URL:https://commonstreet.org/event/nada-brahma-kirtan-3/
LOCATION:Common Street Spiritual Center\, 13 Common Street\, Natick\, 01760\, United States
CATEGORIES:Concert,Meditation,Music and Arts,Spiritual
ATTACH;FMTTYPE=image/jpeg:https://commonstreet.org/wp-content/uploads/2024/09/kirtan-sept.jpg
ORGANIZER;CN="Kampa VaShi Deva":MAILTO:kampavashi@gmail.com
END:VEVENT
BEGIN:VEVENT
DTSTART;TZID=America/New_York:20240915T103000
DTEND;TZID=America/New_York:20240915T120000
DTSTAMP:20260423T093810
CREATED:20231119T115923Z
LAST-MODIFIED:20240405T123054Z
UID:10007335-1726396200-1726401600@commonstreet.org
SUMMARY:Open Circle Gathering
DESCRIPTION:The Open Circle is a weekly gathering of like-minded spiritual seekers who show up to connect authentically\, share our truths\, and be held in the space of a growth-oriented and loving community.\n\nIn the Open Circle\, everyone has a chance to contribute as we move around the circle. You’re welcome to bring poems\, songs\, prayers\, and insights to share.\n\nFree and open to the public–yes\, you can simply show up!\n\nIf you’re new to Open Circle\, you’re welcome to register here so you can be in the loop for future gatherings: https://forms.gle/Aa18ZuGfyy4Nv3gq7\\n\nThe Spiritual Center community is holding space for change in the lives of our members and in our world.\n*we embrace diverse forms of spiritual practice and artistic expression\n*we cultivate a hopeful societal vision built on principles of compassion and justice\n*we support the growth of a consciousness of interconnection across human differences and between people and the whole web of life around us\n*we build authentic community based on principles like love\, respect\, kindness\, and collaboration\n\nIf this resonates\, please join us! You’re welcome to become a member simply by filling out the form on this page: www.commonstreet.org/membership
URL:https://commonstreet.org/event/sunday-circle-in-person-3-2-2-2-2/2024-09-15/
LOCATION:MA
CATEGORIES:Children and Family,Community,Meditation,Music and Arts,Peace and Justice,Spiritual,Youth
ATTACH;FMTTYPE=image/png:https://commonstreet.org/wp-content/uploads/2023/07/Open-Circle-General-7_17_231.png
ORGANIZER;CN="Ian Mevorach":MAILTO:ian@commonstreet.org
END:VEVENT
END:VCALENDAR