BEGIN:VCALENDAR
VERSION:2.0
PRODID:-//Common Street Spiritual Center - ECPv6.15.20//NONSGML v1.0//EN
CALSCALE:GREGORIAN
METHOD:PUBLISH
X-ORIGINAL-URL:https://commonstreet.org
X-WR-CALDESC:Events for Common Street Spiritual Center
REFRESH-INTERVAL;VALUE=DURATION:PT1H
X-Robots-Tag:noindex
X-PUBLISHED-TTL:PT1H
BEGIN:VTIMEZONE
TZID:America/New_York
BEGIN:DAYLIGHT
TZOFFSETFROM:-0500
TZOFFSETTO:-0400
TZNAME:EDT
DTSTART:20240310T070000
END:DAYLIGHT
BEGIN:STANDARD
TZOFFSETFROM:-0400
TZOFFSETTO:-0500
TZNAME:EST
DTSTART:20241103T060000
END:STANDARD
BEGIN:DAYLIGHT
TZOFFSETFROM:-0500
TZOFFSETTO:-0400
TZNAME:EDT
DTSTART:20250309T070000
END:DAYLIGHT
BEGIN:STANDARD
TZOFFSETFROM:-0400
TZOFFSETTO:-0500
TZNAME:EST
DTSTART:20251102T060000
END:STANDARD
BEGIN:DAYLIGHT
TZOFFSETFROM:-0500
TZOFFSETTO:-0400
TZNAME:EDT
DTSTART:20260308T070000
END:DAYLIGHT
BEGIN:STANDARD
TZOFFSETFROM:-0400
TZOFFSETTO:-0500
TZNAME:EST
DTSTART:20261101T060000
END:STANDARD
END:VTIMEZONE
BEGIN:VEVENT
DTSTART;TZID=America/New_York:20250803T083000
DTEND;TZID=America/New_York:20250803T094500
DTSTAMP:20260421T220258
CREATED:20250728T235224Z
LAST-MODIFIED:20250728T235322Z
UID:10023264-1754209800-1754214300@commonstreet.org
SUMMARY:Call of Love
DESCRIPTION:Call of Love \nHealing Channeled Song & Yoga \nReclaim your inner peace and return Home to your heart. \nJoin Judy O’Leary Thapa Sunday morning for a meditative yoga practice infused with divine channeled songs\, poems\, mudras\, and gentle movements.\nThis isn’t just yoga — it’s a remembering. \nRelease stress\, restore balance\, and connect with your true essence in a safe\, welcoming space.\n When: Sunday mornings (except the last Sunday of the month)\n Time: 8:30–9:45 AM\n Where: Sanctuary at Common Street Spiritual Center\, Natick \nEnergy exchange: $20 in advance / $25 drop-in / CSSC members: email Judy to reserve your spot and pay what feels right.\nVenmo: @Judith-Thapa \n What to Expect:\n Meditative yoga & restorative movement\n Channeled healing songs & messages\n Deep relaxation & self-awareness\n Props provided — mats\, blocks & chairs available\n Beginners & all spiritual seekers welcome! \n Register early to save your spot!\nJudy.thapa@gmail.com / Varunayoga.com \nTestimonials \n” Judy is a fantastic yoga instructor! I love how Judy guides you through every movement during your stretching to make sure you’re in the right position for your body. And then\, she separates you from whatever was on your mind by getting you to focus on the here and now. “\n~ Participant at Project Comeback’s programming for veterans and rescued horses \n“Judy has an amazing spirit and great techniques.  Her mastery and time studying abroad shines through every class.  Not only does she make accommodations for all levels of yoga practitioners including people with disabilities\, but she also has multiple versions of poses for those who want to try!  The best part is she serenades with a beautifully channeled song at the end of each class that really calls our hearts.  Judy is a uniquely talented person who is worth meeting\, and that’s no stretch!  Check it out!”\n~ Jonjy Ananth \nJudy is a fantastic yoga teacher with gifts of compassionate attention\, awareness of healing processes\, authenticity\, and spiritual openness. I always leave her classes feeling renewed and more connected in body and spirit. I’ve also had the opportunity to collaborate with Judy in other modalities of spiritual work and am impressed by her intuitiveness\, creativity\, and good-natured attitude.\n~ Ian Mevorach\, MDiv\, PhD\nDirector\, Common Street Spiritual Center \n“I started Judy’s yoga classes with little experience and skill in yoga. I found the classes easy to follow and was encouraged to change the positions to better suit my current abilities and/or limitations. It was an open and rewarding environment for learning with a great group of people. At the end of class\, I am uplifted by the channelled songs of love.”\n~ Aimée K. \nJudy O’Leary Thapa\, C-IAYT\, is a multifaceted wellness professional based in Massachusetts\, known for her work as a yoga teacher\, yoga therapist\, and energy healer. She offers a unique blend of practices including yoga therapy\, guided meditation\, and channeled songs and movement to foster healing and spiritual connection.\nOne of her notable offerings is her Sunday morning “Call of Love Yoga” series held at the Common Street Spiritual Center in Natick\, MA. These sessions combine gentle asana\, restorative poses\, and channeled songs to help participants reconnect with inner peace and unity.\nJudy holds certifications with the International Association of Yoga Therapists\, Phoenix Rising Yoga Therapy\, Warriors at Ease\, and Sivananda yoga. She is also a certified prenatal yoga instructor and a Reiki Master. \nIf you’re interested in exploring her work further\, go to varunayoga.com. \nFB: VarunaYoga / Instagram @varun.ayoga YouTube: https://youtube.com/@1calloflove?si=I9jeFPdRj6tn5CG9
URL:https://commonstreet.org/event/call-of-love-2/2025-08-03/
LOCATION:Common Street Spiritual Center\, 13 Common Street\, Natick\, 01760\, United States
CATEGORIES:Community,Healing,Meditation,Spiritual,Yoga
ATTACH;FMTTYPE=image/png:https://commonstreet.org/wp-content/uploads/2025/07/Call-of-Love-Facebook-Post-3.png
ORGANIZER;CN="Judy Thapa":MAILTO:judy.thapa@gmail.com
END:VEVENT
BEGIN:VEVENT
DTSTART;TZID=America/New_York:20250803T103000
DTEND;TZID=America/New_York:20250803T120000
DTSTAMP:20260421T220258
CREATED:20230428T125747Z
LAST-MODIFIED:20230504T225055Z
UID:10006406-1754217000-1754222400@commonstreet.org
SUMMARY:Open Circle and Community Brunch
DESCRIPTION:On the first Sundays of the month\, we combine our Open Circle Gathering with a community potluck brunch.\n\nWe gather and connect in a more relaxed\, less structured way\, yet with threads of meaning and spirituality tying it all together.\n\n\nYou’re welcome\, if it would bring you joy\, to contribute a food or drink item to share as part of the community brunch. Another option is to bring non-perishable food or toiletry items for our free mini-pantry.\n\nIf you’re new to Open Circle\, you’re welcome to sign up here so you can be in the loop for future gatherings: https://forms.gle/Aa18ZuGfyy4Nv3gq7\n\nOur community is finding a creative place in the spiritual world\, where new forms of spiritual practice\, artistic expression\, and self-awareness are emerging to support humanity to meet the challenges of our times. We are finding balance within ourselves\, making peace across differences\, and stepping up to protect the Earth.\n\nWe welcome folks of all beliefs and backgrounds to build community with us as we align around a hopeful sense of common purpose. To become a member\, please fill out the membership form here: www.commonstreet.org/membership
URL:https://commonstreet.org/event/open-circle-and-community-brunch/2025-08-03/
LOCATION:MA
CATEGORIES:Children and Family,Community,Cultural,Food,Meditation,Peace and Justice,Spiritual,Youth
ATTACH;FMTTYPE=image/png:https://commonstreet.org/wp-content/uploads/2023/04/Open-Circle-and-Brunch-GENERAL.png
ORGANIZER;CN="Ian Mevorach":MAILTO:ian@commonstreet.org
END:VEVENT
BEGIN:VEVENT
DTSTART;TZID=America/New_York:20250803T130000
DTEND;TZID=America/New_York:20250803T143000
DTSTAMP:20260421T220258
CREATED:20250521T180434Z
LAST-MODIFIED:20250521T180649Z
UID:10022946-1754226000-1754231400@commonstreet.org
SUMMARY:Study and Integration
DESCRIPTION:Study and IntegrationBi-weekly Sundays at 1:00pmFacilitated by Ian Mevorach\, Director of the Common Street Spiritual Center \nYou’re warmly invited to join Study and Integration\, a bi-weekly spiritual gathering dedicated to deepening our relationship with both sacred texts and our own direct spiritual experiences. \nEvery other Sunday\, we will come together in a confidential and supportive circle to explore the scriptures and sacred writings of the world’s spiritual traditions—texts brought by participants and approached with reverence\, curiosity\, and contemplative openness. We’ll study not just with our minds\, but with our hearts and lives—listening for how the divine speaks through the words and symbols of many paths. \nOn alternating Sundays\, we’ll shift our focus to integration—sharing and grounding our own spiritual experiences in community. These may be moments of awakening\, struggle\, clarity\, or divine encounter. Together\, we will reflect on how these experiences shape our lives and how they resonate with the sacred texts we study. \nThis group is an opportunity to journey together over time\, learning from each other’s traditions\, insights\, and transformations. You’re encouraged to bring sacred texts that are meaningful to you and a willingness to engage in honest\, spirit-led reflection. \nAll are welcome—whether you’re rooted in a specific tradition or seeking across many. Come with your questions\, your wisdom\, and your wonder.
URL:https://commonstreet.org/event/study-and-integration/
LOCATION:Meeting Room of CSSC
CATEGORIES:Community,Meditation,Small Group,Spiritual
ATTACH;FMTTYPE=image/png:https://commonstreet.org/wp-content/uploads/2025/05/May-21-2025-02_06_14-PM.png
ORGANIZER;CN="Ian Mevorach":MAILTO:ian@commonstreet.org
END:VEVENT
BEGIN:VEVENT
DTSTART;TZID=America/New_York:20250803T170000
DTEND;TZID=America/New_York:20250803T180000
DTSTAMP:20260421T220258
CREATED:20250723T214618Z
LAST-MODIFIED:20250723T215733Z
UID:10023259-1754240400-1754244000@commonstreet.org
SUMMARY:Open Circle Online
DESCRIPTION:Open Circle Online is a virtual gathering to supplement our weekly in-person Open Circles on Sunday mornings. It’s an opportunity to connect with sacred presence\, share our truths\, and build meaningful community…from the convenience of your own home.\n\nLink to join: https://commonstreet.zoom.us/j/95650055619\n\nAll are welcome\, whether longtime members or newcomers to the Spiritual Center community. \nOn August 3rd our focus will be on the theme of community. Especially in these challenging times\, many of us are realizing that we need community more than ever. If you have a poem\, song\, or prayer that you’d like to share during the circle\, please bring it with you.\n\nWant to stay connected?Sign up here to receive updates about upcoming gatherings.https://forms.gle/yBaiJi1QvrWN6QzR6\n\nAbout Common Street Spiritual Center\nWe’re a love-centered\, justice-seeking\, hope-building spiritual community. Our shared commitments include:\n*Embracing diverse spiritual practices and creative expressions\n*Cultivating a vision of compassion\, justice\, and healing for the Earth and society\n*Growing in awareness of our interconnection across all lines of difference\n*Building authentic relationships rooted in respect\, kindness\, and collaboration\n\nIf this resonates with you\, we invite you to join our wider community. Becoming a member is simple. Learn more at: www.commonstreet.org/membership
URL:https://commonstreet.org/event/open-circle-online/
LOCATION:Virtual Meeting
CATEGORIES:Community,Dialogue,Meditation,Spiritual
ATTACH;FMTTYPE=image/png:https://commonstreet.org/wp-content/uploads/2025/07/Open-Circle-Online.png
ORGANIZER;CN="Ian Mevorach":MAILTO:ian@commonstreet.org
END:VEVENT
END:VCALENDAR