BEGIN:VCALENDAR
VERSION:2.0
PRODID:-//Common Street Spiritual Center - ECPv6.15.20//NONSGML v1.0//EN
CALSCALE:GREGORIAN
METHOD:PUBLISH
X-ORIGINAL-URL:https://commonstreet.org
X-WR-CALDESC:Events for Common Street Spiritual Center
REFRESH-INTERVAL;VALUE=DURATION:PT1H
X-Robots-Tag:noindex
X-PUBLISHED-TTL:PT1H
BEGIN:VTIMEZONE
TZID:America/New_York
BEGIN:DAYLIGHT
TZOFFSETFROM:-0500
TZOFFSETTO:-0400
TZNAME:EDT
DTSTART:20240310T070000
END:DAYLIGHT
BEGIN:STANDARD
TZOFFSETFROM:-0400
TZOFFSETTO:-0500
TZNAME:EST
DTSTART:20241103T060000
END:STANDARD
BEGIN:DAYLIGHT
TZOFFSETFROM:-0500
TZOFFSETTO:-0400
TZNAME:EDT
DTSTART:20250309T070000
END:DAYLIGHT
BEGIN:STANDARD
TZOFFSETFROM:-0400
TZOFFSETTO:-0500
TZNAME:EST
DTSTART:20251102T060000
END:STANDARD
BEGIN:DAYLIGHT
TZOFFSETFROM:-0500
TZOFFSETTO:-0400
TZNAME:EDT
DTSTART:20260308T070000
END:DAYLIGHT
BEGIN:STANDARD
TZOFFSETFROM:-0400
TZOFFSETTO:-0500
TZNAME:EST
DTSTART:20261101T060000
END:STANDARD
END:VTIMEZONE
BEGIN:VEVENT
DTSTART;TZID=America/New_York:20250712T080000
DTEND;TZID=America/New_York:20250712T090000
DTSTAMP:20260422T083615
CREATED:20250228T171503Z
LAST-MODIFIED:20250228T171503Z
UID:10020281-1752307200-1752310800@commonstreet.org
SUMMARY:Intro to Qi Gong
DESCRIPTION:Intro to Qi Gong \nHow to cultivate balance in body and mind and improve your life energy (Qi) \nTime: Saturdays from 8am – 9am\n \nQi Gong is a centuries-old system of coordinated body-posture and movement\, breathing\, and meditation used for the purposes of health\, spirituality\, and martial-arts training. These practices help cultivate concentration\, peace of mind\, strengthen and tone your body all at once. \nAll are welcome. No prior experience required. \nSuggested donation: $5-10 \nMeets in the Moon Room on the 3rd floor.  Enter through the school street door and come upstairs to find us. \nAbout the Instructor: \nWei Li grew up in Mainland\, China. She earned her Ph.D. in Biology at Tufts University in 2005. Since 2010\, she has been studying Qi Gong and Tai Chi with Master Ming Wu and Master Shi Zhao. She finished her Fengyang Qi Gong Associate Instructor training in 2020 and has been teaching Qi Gong since at Wu Healing Center and Morse Institute Library.
URL:https://commonstreet.org/event/intro-to-qi-gong-2/2025-07-12/
LOCATION:Moon Room @ Common Street Spiritual Center\, 13 Common Street\, Natick\, 01760\, United States
CATEGORIES:Class,Community,Cultural,Healing,Meditation,Spiritual
ATTACH;FMTTYPE=image/png:https://commonstreet.org/wp-content/uploads/2022/06/Intro-to-Qi-Gong.png
ORGANIZER;CN="Wei Li":MAILTO:weili2155@gmail.com
END:VEVENT
BEGIN:VEVENT
DTSTART;TZID=America/New_York:20250712T180000
DTEND;TZID=America/New_York:20250712T203000
DTSTAMP:20260422T083615
CREATED:20250708T154546Z
LAST-MODIFIED:20250708T161007Z
UID:10023176-1752343200-1752352200@commonstreet.org
SUMMARY:Somatic Breathwork Journey
DESCRIPTION:Step into a sacred space at Common Street Spiritual Center in Natick on July 12th from 6 to 8:30pm\, where healing meets intention and breath becomes your portal to inner transformation. This in-person somatic breathwork session invites you to reconnect with your body\, awaken your spirit\, and release what no longer serves you—all within a supportive\, heart-centered community. No prior experience is needed—just your breath and an open heart.\n\nCome as you are and allow yourself to soften\, express\, and be witnessed in a safe\, intimate community. Through guided breath\, sound\, and curiosity we’ll journey inward together—clearing space for clarity\, peace\, and presence.\n\nGive yourself permission to take space and pause.\n\nPlease register using the link provided and if you have any other questions about this being the right fit for you. Don’t hesitate to reach out at 7815000415 or email at tiffanyhawco31@gmail.com\n\nI’m honored and deeply grateful to hold space for you in this sacred container.\n\nThank you for allowing me to walk beside you on this journey of healing and reconnection.\n\nSending all my love and light until we meet together in this space of breath.\n\nTiffany
URL:https://commonstreet.org/event/somatic-breathwork-session/
LOCATION:Moon Room @ Common Street Spiritual Center\, 13 Common Street\, Natick\, 01760\, United States
CATEGORIES:Community,Healing,Meditation,Music and Arts,Spiritual
ATTACH;FMTTYPE=image/png:https://commonstreet.org/wp-content/uploads/2025/07/Beige-and-Brown-Modern-Corporate-Mindfulness-Flyer.png
ORGANIZER;CN="Tiffany Hawco":MAILTO:tiffanyhawco31@gmail.com
END:VEVENT
END:VCALENDAR