BEGIN:VCALENDAR
VERSION:2.0
PRODID:-//Common Street Spiritual Center - ECPv6.15.20//NONSGML v1.0//EN
CALSCALE:GREGORIAN
METHOD:PUBLISH
X-WR-CALNAME:Common Street Spiritual Center
X-ORIGINAL-URL:https://commonstreet.org
X-WR-CALDESC:Events for Common Street Spiritual Center
REFRESH-INTERVAL;VALUE=DURATION:PT1H
X-Robots-Tag:noindex
X-PUBLISHED-TTL:PT1H
BEGIN:VTIMEZONE
TZID:America/New_York
BEGIN:DAYLIGHT
TZOFFSETFROM:-0500
TZOFFSETTO:-0400
TZNAME:EDT
DTSTART:20240310T070000
END:DAYLIGHT
BEGIN:STANDARD
TZOFFSETFROM:-0400
TZOFFSETTO:-0500
TZNAME:EST
DTSTART:20241103T060000
END:STANDARD
BEGIN:DAYLIGHT
TZOFFSETFROM:-0500
TZOFFSETTO:-0400
TZNAME:EDT
DTSTART:20250309T070000
END:DAYLIGHT
BEGIN:STANDARD
TZOFFSETFROM:-0400
TZOFFSETTO:-0500
TZNAME:EST
DTSTART:20251102T060000
END:STANDARD
BEGIN:DAYLIGHT
TZOFFSETFROM:-0500
TZOFFSETTO:-0400
TZNAME:EDT
DTSTART:20260308T070000
END:DAYLIGHT
BEGIN:STANDARD
TZOFFSETFROM:-0400
TZOFFSETTO:-0500
TZNAME:EST
DTSTART:20261101T060000
END:STANDARD
END:VTIMEZONE
BEGIN:VEVENT
DTSTART;TZID=America/New_York:20250628T080000
DTEND;TZID=America/New_York:20250628T090000
DTSTAMP:20260422T125207
CREATED:20250228T171503Z
LAST-MODIFIED:20250228T171503Z
UID:10020279-1751097600-1751101200@commonstreet.org
SUMMARY:Intro to Qi Gong
DESCRIPTION:Intro to Qi Gong \nHow to cultivate balance in body and mind and improve your life energy (Qi) \nTime: Saturdays from 8am – 9am\n \nQi Gong is a centuries-old system of coordinated body-posture and movement\, breathing\, and meditation used for the purposes of health\, spirituality\, and martial-arts training. These practices help cultivate concentration\, peace of mind\, strengthen and tone your body all at once. \nAll are welcome. No prior experience required. \nSuggested donation: $5-10 \nMeets in the Moon Room on the 3rd floor.  Enter through the school street door and come upstairs to find us. \nAbout the Instructor: \nWei Li grew up in Mainland\, China. She earned her Ph.D. in Biology at Tufts University in 2005. Since 2010\, she has been studying Qi Gong and Tai Chi with Master Ming Wu and Master Shi Zhao. She finished her Fengyang Qi Gong Associate Instructor training in 2020 and has been teaching Qi Gong since at Wu Healing Center and Morse Institute Library.
URL:https://commonstreet.org/event/intro-to-qi-gong-2/2025-06-28/
LOCATION:Moon Room @ Common Street Spiritual Center\, 13 Common Street\, Natick\, 01760\, United States
CATEGORIES:Class,Community,Cultural,Healing,Meditation,Spiritual
ATTACH;FMTTYPE=image/png:https://commonstreet.org/wp-content/uploads/2022/06/Intro-to-Qi-Gong.png
ORGANIZER;CN="Wei Li":MAILTO:weili2155@gmail.com
END:VEVENT
BEGIN:VEVENT
DTSTART;TZID=America/New_York:20250628T144500
DTEND;TZID=America/New_York:20250628T171500
DTSTAMP:20260422T125207
CREATED:20250616T000256Z
LAST-MODIFIED:20250616T000256Z
UID:10023037-1751121900-1751130900@commonstreet.org
SUMMARY:Kundalini: Tradition\, Myth\, and Personal Transformation
DESCRIPTION:Join Monty for a grounded yet illuminating exploration of Kundalini—its roots in ancient tradition\, its evolving role in modern spirituality\, and how it can enrich your personal journey of healing\, growth\, and transformation. \nYou’ve likely heard terms like “Kundalini energy\,” “Kundalini awakening\,” or “Kundalini yoga” in spiritual communities and online spaces. Yet despite their popularity\, these concepts are often misunderstood—or presented in ways that feel vague or even contradictory. If you’ve ever felt confused or curious\, you’re not alone. \nSo what is Kundalini\, really? Why does it matter—if at all—on your path? And how might a deeper understanding of this energy support your everyday life? \nThis class is designed for anyone seeking a clearer\, more holistic understanding of Kundalini from both a philosophical and personal perspective. Whether you’re completely new to the concept or looking to deepen your knowledge\, you’re welcome here. \n— \nWhat to bring:\n– Comfortable clothing\n– A pen and notebook (if you’re the note-taking type)\n– Optional: Your favorite snacks (some will be provided)\n– Water (we’ll have extra too!) \n— \nAbout the Teacher \nMonty is a certified Kundalini yoga instructor currently living in a remote village in Thailand. She received her training in the Himalayan tradition while residing at an Ashram along the Ganges River in India. Drawing from personal experience\, traditional philosophy\, and years of practice\, Monty brings a grounded\, heart-centered approach to her teaching—making deep spiritual wisdom feel accessible\, relevant\, and real. \n___ \nJune 28\, 2025\nArrival time: 2:45\nPromptly begins at 3:00\nIn the Moon room
URL:https://commonstreet.org/event/kundalini-tradition-myth-and-personal-transformation/
LOCATION:Moon Room @ Common Street Spiritual Center\, 13 Common Street\, Natick\, 01760\, United States
CATEGORIES:Spiritual,Talk,Workshop
ATTACH;FMTTYPE=image/png:https://commonstreet.org/wp-content/uploads/2025/06/MaleKundalini-1.png
ORGANIZER;CN="Sherry Solchenberger":MAILTO:sherrysolchnp@gmail.com
END:VEVENT
BEGIN:VEVENT
DTSTART;TZID=America/New_York:20250628T193000
DTEND;TZID=America/New_York:20250628T210000
DTSTAMP:20260422T125207
CREATED:20250610T135216Z
LAST-MODIFIED:20250610T135247Z
UID:10022992-1751139000-1751144400@commonstreet.org
SUMMARY:Sufi Zikr and Whirling
DESCRIPTION:Mevlevi Sufi Zikr in the tradition of Rumi with Karim and Noor Kerima Payton\, Suleyman Loras and musicians friends. \nJoin us for a magical experience of Mevlevi Sufi dancing and singing in celebration of Divine Presence. For over forty years\, the Mevlevi Order of America has offered gatherings with music\, poetry and dervish whirling and chanting. We will lead a Zikr practice in the tradition of Rumi. \nThe Mevlevi tradition hearkens back to Sufi master Rumi (1207-1273)\, who has become the best-selling poet in America. Rumi’s poetry is filled with a longing for God the Friend and the Beloved. His realization expressed the Source of all religions and spiritual paths\, the Way of Love\, that unites those of many cultures and traditions. \n‘Zikhr’\, a Sufi chanting practice\, means ‘Remembrance of God’. It awakens us from the state of forgetfulness\, forgetting why one has come to Earth. It is a channel opener which helps with attaining true knowledge. \nThe Musicians will share devotional music played on traditional instruments. Everyone attending a Zikr is a participant; as the gathering unfolds\, all are tuned\, by the music and language of the Heart\, to the baraka (blessing)-filled atmosphere of love. \n“When a human being performs zikr\, their spirit—their heart starts to open.  Their intelligence becomes more refined and more expansive.  Their bodies become healthier.  A beautiful condition comes about—similar to the one that is brought about by good music.  The whole being opens up like a flower\, and the divine secret—the things you couldn’t understand or know about before—begin to be revealed to you.” \n\nSuleyman Hayati Dede\, founder of the Mevlevi Order of America\n\nSuggested donation: $20+ (cash or Venmo at the door) \nAdvance registration available at: https://www.eventbrite.com/e/sufi-zikr-and-whirling-tickets-1406406382349?aff=oddtdtcreator \nAbout Mevlevi Order of America: \nhttp://hayatidede.org/aboutmoa
URL:https://commonstreet.org/event/sufi-zikr/
LOCATION:Sanctuary at Common Street Spiritual Center\, 13 Common Street\, Natick\, MA\, 01760\, United States
CATEGORIES:Community,Cultural,Dance,Healing,Meditation,Music and Arts,Spiritual
ATTACH;FMTTYPE=image/png:https://commonstreet.org/wp-content/uploads/2025/06/Sufi.png
ORGANIZER;CN="Olga Cherenina":MAILTO:chereninaolga@gmail.com
END:VEVENT
END:VCALENDAR