BEGIN:VCALENDAR
VERSION:2.0
PRODID:-//Common Street Spiritual Center - ECPv6.15.20//NONSGML v1.0//EN
CALSCALE:GREGORIAN
METHOD:PUBLISH
X-WR-CALNAME:Common Street Spiritual Center
X-ORIGINAL-URL:https://commonstreet.org
X-WR-CALDESC:Events for Common Street Spiritual Center
REFRESH-INTERVAL;VALUE=DURATION:PT1H
X-Robots-Tag:noindex
X-PUBLISHED-TTL:PT1H
BEGIN:VTIMEZONE
TZID:America/New_York
BEGIN:DAYLIGHT
TZOFFSETFROM:-0500
TZOFFSETTO:-0400
TZNAME:EDT
DTSTART:20240310T070000
END:DAYLIGHT
BEGIN:STANDARD
TZOFFSETFROM:-0400
TZOFFSETTO:-0500
TZNAME:EST
DTSTART:20241103T060000
END:STANDARD
BEGIN:DAYLIGHT
TZOFFSETFROM:-0500
TZOFFSETTO:-0400
TZNAME:EDT
DTSTART:20250309T070000
END:DAYLIGHT
BEGIN:STANDARD
TZOFFSETFROM:-0400
TZOFFSETTO:-0500
TZNAME:EST
DTSTART:20251102T060000
END:STANDARD
BEGIN:DAYLIGHT
TZOFFSETFROM:-0500
TZOFFSETTO:-0400
TZNAME:EDT
DTSTART:20260308T070000
END:DAYLIGHT
BEGIN:STANDARD
TZOFFSETFROM:-0400
TZOFFSETTO:-0500
TZNAME:EST
DTSTART:20261101T060000
END:STANDARD
END:VTIMEZONE
BEGIN:VEVENT
DTSTART;TZID=America/New_York:20250515T190000
DTEND;TZID=America/New_York:20250515T201500
DTSTAMP:20260422T143327
CREATED:20230803T162536Z
LAST-MODIFIED:20230804T160005Z
UID:10008341-1747335600-1747340100@commonstreet.org
SUMMARY:Mohanji Meditations
DESCRIPTION:The Mohanji Meditation is a powerful heart-opening guided meditation that offers release from binding patterns through love and gratitude. \nAll are welcome. No prior experience necessary.
URL:https://commonstreet.org/event/mohanji-meditations/2025-05-15/
LOCATION:Choir Room @ Common Street Spiritual Center\, 13 Common Street\, Natick\, 01760\, United States
CATEGORIES:Class,Healing,Meditation,Spiritual
ORGANIZER;CN="Soumya Thelakkad":MAILTO:mohanjifamilyma@gmail.com
END:VEVENT
BEGIN:VEVENT
DTSTART;TZID=America/New_York:20250515T190000
DTEND;TZID=America/New_York:20250515T213000
DTSTAMP:20260422T143327
CREATED:20250419T133007Z
LAST-MODIFIED:20250419T133007Z
UID:10020920-1747335600-1747344600@commonstreet.org
SUMMARY:Nicole Salmi Concert -- Amazon Voices
DESCRIPTION:Amazon Voices – Live in Concert with Nicole Salmi \nAn Evening of Music\, Soul\, and Sacred Purpose\nStep into an unforgettable night of connection and inspiration as Brazilian singer Nicole Salmi brings her powerful voice and heart-centered music to the stage.\n\n\nNicole is a passionate artist whose music blends soul\, spirituality\, and activism. Her voice carries the essence of the forest — raw\, healing\, and deeply moving. With a global presence and a mission rooted in transformation\, she uses her art to awaken\, uplift\, and unite.\n\n\nBut this is more than a concert.\nIt’s a gathering for the Earth.\n\n\n Together\, we will also learn about Daime Eterno — a sacred reforestation project dedicated to planting native trees in the Amazon Rainforest. The project supports the regeneration of lands connected to the spiritual communities of the forest\, honoring both ecological and ancestral wisdom.\n\n\n All proceeds from this event will go to support Daime Eterno.\n\nBy attending\, you’re not only receiving the gift of Nicole’s music — you’re also becoming part of a movement for healing and renewal.\n*Ceremonial Cacao will be available at the event for purchasing _ It will be already prepared so you can enjoy it at the event\, and/or a bag of raw cacao so you can prepare in the comfort of your home.\n\n\n Date: May 15th Time: 7:00 PM Location: Common Street Spiritual Center – 13 Common St\, Natick\, MA\n\n\nCome as you are. Bring your heart. Leave inspired.\n\nTICKETS – https://www.zeffy.com/…/f8a72654-d0fc-451a-a42e…EARLY BIRD ends April 20th
URL:https://commonstreet.org/event/nicole-salmi-concert-amazon-voices/
LOCATION:Common Street Spiritual Center\, 13 Common Street\, Natick\, 01760\, United States
CATEGORIES:Community,Concert,Cultural,Spiritual
ATTACH;FMTTYPE=image/png:https://commonstreet.org/wp-content/uploads/2025/04/Screenshot-2025-04-19-at-09-29-23-Instagram.png
ORGANIZER;CN="Milla Dalbem":MAILTO:cah.anastasi@gmail.com
END:VEVENT
END:VCALENDAR