BEGIN:VCALENDAR
VERSION:2.0
PRODID:-//Common Street Spiritual Center - ECPv6.15.20//NONSGML v1.0//EN
CALSCALE:GREGORIAN
METHOD:PUBLISH
X-ORIGINAL-URL:https://commonstreet.org
X-WR-CALDESC:Events for Common Street Spiritual Center
REFRESH-INTERVAL;VALUE=DURATION:PT1H
X-Robots-Tag:noindex
X-PUBLISHED-TTL:PT1H
BEGIN:VTIMEZONE
TZID:America/New_York
BEGIN:DAYLIGHT
TZOFFSETFROM:-0500
TZOFFSETTO:-0400
TZNAME:EDT
DTSTART:20240310T070000
END:DAYLIGHT
BEGIN:STANDARD
TZOFFSETFROM:-0400
TZOFFSETTO:-0500
TZNAME:EST
DTSTART:20241103T060000
END:STANDARD
BEGIN:DAYLIGHT
TZOFFSETFROM:-0500
TZOFFSETTO:-0400
TZNAME:EDT
DTSTART:20250309T070000
END:DAYLIGHT
BEGIN:STANDARD
TZOFFSETFROM:-0400
TZOFFSETTO:-0500
TZNAME:EST
DTSTART:20251102T060000
END:STANDARD
BEGIN:DAYLIGHT
TZOFFSETFROM:-0500
TZOFFSETTO:-0400
TZNAME:EDT
DTSTART:20260308T070000
END:DAYLIGHT
BEGIN:STANDARD
TZOFFSETFROM:-0400
TZOFFSETTO:-0500
TZNAME:EST
DTSTART:20261101T060000
END:STANDARD
END:VTIMEZONE
BEGIN:VEVENT
DTSTART;TZID=America/New_York:20250216T083000
DTEND;TZID=America/New_York:20250216T213000
DTSTAMP:20260423T030157
CREATED:20250216T022323Z
LAST-MODIFIED:20250216T022326Z
UID:10019170-1739694600-1739741400@commonstreet.org
SUMMARY:Call of Love Yoga
DESCRIPTION:Experience a gentle\, mindful yoga where divine sources of love are channeled into messages that are often in the form of songs\, poems\, and mudras: hand gestures to help guide the flow of energy in the body and focus the mind \nDonations welcome: Cash or Venmo @Judith-Thapa \nVarunayoga.com / 617.417.4386 / Judy.thapa@ gmail \nCommon Street Spiritual Center Sanctuary\nSundays 8:30-9:30 a.m. (except last Sunday) \nJudy is a teacher of yoga since 1998. She is a certified yoga therapist\, energy healer and channel.
URL:https://commonstreet.org/event/call-of-love-yoga-2-2-3/
LOCATION:Sanctuary at Common Street Spiritual Center\, 13 Common Street\, Natick\, MA\, 01760\, United States
CATEGORIES:Children and Family,Class,Community,Healing,Meditation,Music and Arts,Spiritual,Yoga,Youth
ATTACH;FMTTYPE=image/png:https://commonstreet.org/wp-content/uploads/2024/10/Copy-of-Call-of-Loveno-description-Document.png
ORGANIZER;CN="Judy Thapa":MAILTO:judy.thapa@gmail.com
END:VEVENT
BEGIN:VEVENT
DTSTART;TZID=America/New_York:20250216T103000
DTEND;TZID=America/New_York:20250216T120000
DTSTAMP:20260423T030157
CREATED:20250216T131743Z
LAST-MODIFIED:20250216T142450Z
UID:10007352-1739701800-1739707200@commonstreet.org
SUMMARY:Open Circle Gathering
DESCRIPTION:PLEASE NOTE: due to snow\, we will be meeting by zoom on 2/16/25: https://commonstreet.zoom.us/j/95670321763\n\nThe Open Circle is a weekly gathering of like-minded spiritual seekers who show up to connect authentically\, share our truths\, and be held in the space of a growth-oriented and loving community.\n\nIn the Open Circle\, everyone has a chance to contribute as we move around the circle. You’re welcome to bring poems\, songs\, prayers\, and insights to share.\n\nFree and open to the public–yes\, you can simply show up!\n\nIf you’re new to Open Circle\, you’re welcome to register here so you can be in the loop for future gatherings: https://forms.gle/Aa18ZuGfyy4Nv3gq7\\n\nThe Spiritual Center community is holding space for change in the lives of our members and in our world.\n*we embrace diverse forms of spiritual practice and artistic expression\n*we cultivate a hopeful societal vision built on principles of compassion and justice\n*we support the growth of a consciousness of interconnection across human differences and between people and the whole web of life around us\n*we build authentic community based on principles like love\, respect\, kindness\, and collaboration\n\nIf this resonates\, please join us! You’re welcome to become a member simply by filling out the form on this page: www.commonstreet.org/membership
URL:https://commonstreet.org/event/sunday-circle-in-person-3-2-2-2-2-7/
LOCATION:MA
CATEGORIES:Children and Family,Community,Meditation,Music and Arts,Peace and Justice,Spiritual,Youth
ATTACH;FMTTYPE=image/png:https://commonstreet.org/wp-content/uploads/2023/07/Open-Circle-General-7_17_231.png
ORGANIZER;CN="Ian Mevorach":MAILTO:ian@commonstreet.org
END:VEVENT
BEGIN:VEVENT
DTSTART;TZID=America/New_York:20250216T140000
DTEND;TZID=America/New_York:20250216T190000
DTSTAMP:20260423T030157
CREATED:20250206T180323Z
LAST-MODIFIED:20250206T180323Z
UID:10019803-1739714400-1739732400@commonstreet.org
SUMMARY:Self-Love Throat Chakra Retreat
DESCRIPTION:Join a community of like-hearted souls in a powerful Self-Love Journey. In our fifth monthly chakra retreat\, we will explore the powerful qualities of the Throat Chakra: the energy center of self-expression\, authentic communication\, inspiration\, freedom\, truth\, independence\, and more. We will experience how this chakra supports our ability to create self-love through a variety of meaningful and fun chakra-supporting activities including chakra yoga\, guided meditation\, journaling\, singing\, and more! This month\, we will also have the privilege of welcoming special guest facilitator\, Terri Dennis (Desiree‘s Mom!) to our retreat team to guide our community in EFT tapping & Qigong practices for extra healing & transformative benefits!\n\n \nTHROAT CHAKRA RETREAT SCHEDULE…\n\n* Opening Circle (2 – 3 pm)\n* Self-Love Throat Chakra Yoga with Inbal (3:15 – 4:15 pm)\n* Snack Break & Community Connection Time (*Featuring Throat Chakra supporting snacks!) (4:30 – 5 pm)\n* EFT Tapping for Activating Your Authentic Self with Terri Dennis (5 – 5:30 pm)\n* Qigong Movement & Sacred Sounds with Terri Dennis (5:45 – 6:15 pm)\n* Throat Chakra Celebration & Empowerment: Community Singing & Ecstatic Dance! (6:15 – 6:45 pm)\n* Closing Circle (6:45 – 7 pm) \n \n(*Exact retreat timing subject to change!  Participants may choose which activities they would like to participate in and are welcome to opt out of any retreat activities they wish to!)\n\n\n \n———-——————–—-\n \n\nRETREAT DETAILS & REGISTRATION…\n \nDate:  Sunday\, February 16\, 2025\n\n \nTime:  2:00 pm – 7:00 pm\n\n \nRetreat Location:  “Common Street Spiritual Center”  (13 Common St\, Natick\, MA 01760)\n \nParking / Transportation:  There is a parking lot behind the spiritual center and lots of street parking within walking distance that is free on Sundays!  If you would like to come in by train\, The Natick Center Station is only a 6 minute walk from the spiritual center!  (If you are in need of a ride to Natick\, please let us know\, and we will attempt to put you in touch with someone in your area who is driving!)\n\n \nCost:  $60 – $80  (*Sliding Scale!)\n\n \n(Additional Financial Aid Available!  We believe in making this retreat accessible to all who wish to participate.  If you are in need of any additional financial assistance\, please contact Desiree & Inbal at RavensongRetreats@gmail.com and we will happily work something out with you!)\n\n \nRegistration & Payment:\n\n\n1) To sign-up\, please email Desiree & Inbal at RavensongRetreats@gmail.com.\n\n \n2) Please send a payment of $60-$80 prior to the retreat through Venmo to @inbaldagan or use this link to send a payment through credit card / PayPal: https://www.paypal.com/ncp/payment/X62TZJ3KTZ5XL. \n\n\nCancellation Policy:  There will be no refunds available for this retreat\, but you are welcome to use your payment as a credit towards a future Self-Love Chakra Retreat!  (See below for upcoming retreat dates!)\n\n \n\n———-——————–—-\n\n \n\nUPCOMING SELF-LOVE RETREATS!\n\n \nThird Eye Chakra Retreat:  March 16\, 2025\n\n \nCrown Chakra Retreat:  April 27\, 2025\n\n \n(*You are welcome to attend any or all chakra retreats!  You may wish to use your intuition to see which chakras you are most drawn to strengthen at this time and determine which retreats would be most helpful for you to attend!)\n\n \n\n\n———-——————–—-\n\n \n\n\nABOUT INBAL DAGAN…\n\n \n\n\nInbal Dagan (she/her) is a yoga teacher\, occupational therapist\, and Reiki practitioner with a passion for supporting others in their journey of healing & embodiment.  She believes that our self-love journey can be deeply strengthened by learning to be present and at home in our body\, and is excited to share her yoga & creative movement practices with our self-love retreat community.\n\n \n \nABOUT DESIREE DENNIS…\n\n \nDesiree Dennis (she/her) is a spirit medium\, Reiki Master\, and life-long musician who has facilitated spiritual workshops & retreats around the country.  As a person who has spent many years in dedication to her own self-love journey\, she is overjoyed to have the opportunity to continue exploring & deepening self-love within the supportive container of our conscious retreat community.  (To learn more about Desiree\, please visit www.spiritguidanceandhealing.com.)
URL:https://commonstreet.org/event/self-love-throat-chakra-retreat/
LOCATION:Sanctuary at Common Street Spiritual Center\, 13 Common Street\, Natick\, MA\, 01760\, United States
CATEGORIES:Community,Spiritual,Workshop
ATTACH;FMTTYPE=image/jpeg:https://commonstreet.org/wp-content/uploads/2025/02/Throat-Chakra-Flyer.jpg
END:VEVENT
END:VCALENDAR