BEGIN:VCALENDAR
VERSION:2.0
PRODID:-//Common Street Spiritual Center - ECPv6.15.20//NONSGML v1.0//EN
CALSCALE:GREGORIAN
METHOD:PUBLISH
X-WR-CALNAME:Common Street Spiritual Center
X-ORIGINAL-URL:https://commonstreet.org
X-WR-CALDESC:Events for Common Street Spiritual Center
REFRESH-INTERVAL;VALUE=DURATION:PT1H
X-Robots-Tag:noindex
X-PUBLISHED-TTL:PT1H
BEGIN:VTIMEZONE
TZID:America/New_York
BEGIN:DAYLIGHT
TZOFFSETFROM:-0500
TZOFFSETTO:-0400
TZNAME:EDT
DTSTART:20240310T070000
END:DAYLIGHT
BEGIN:STANDARD
TZOFFSETFROM:-0400
TZOFFSETTO:-0500
TZNAME:EST
DTSTART:20241103T060000
END:STANDARD
BEGIN:DAYLIGHT
TZOFFSETFROM:-0500
TZOFFSETTO:-0400
TZNAME:EDT
DTSTART:20250309T070000
END:DAYLIGHT
BEGIN:STANDARD
TZOFFSETFROM:-0400
TZOFFSETTO:-0500
TZNAME:EST
DTSTART:20251102T060000
END:STANDARD
BEGIN:DAYLIGHT
TZOFFSETFROM:-0500
TZOFFSETTO:-0400
TZNAME:EDT
DTSTART:20260308T070000
END:DAYLIGHT
BEGIN:STANDARD
TZOFFSETFROM:-0400
TZOFFSETTO:-0500
TZNAME:EST
DTSTART:20261101T060000
END:STANDARD
END:VTIMEZONE
BEGIN:VEVENT
DTSTART;TZID=America/New_York:20250104T090000
DTEND;TZID=America/New_York:20250104T120000
DTSTAMP:20260423T063308
CREATED:20241206T154953Z
LAST-MODIFIED:20241206T154953Z
UID:10018606-1735981200-1735992000@commonstreet.org
SUMMARY:The Uncommon Cafe at the Farmer's Market
DESCRIPTION:Every Saturday 9am-12pm \nStart your weekend with us at the Farmer’s Market and enjoy the unique offerings of The Uncommon Cafe! \nMenu Highlights: \nCoconut Maple Coffee: A harmonious blend of coconut oil\, Vermont maple syrup\, cinnamon\, ginger\, and vanilla for a warm and inviting flavor. \nCeremonial Cacao: A rich\, heart-opening drink infused with cinnamon\, ginger\, and vanilla—perfect for a mindful and nourishing start to your day.\nWhat Else to Expect: \nSpecialty Goods: Browse our collection of Palo Santo\, Sage\, and freshly restocked 1lb ceremonial cacao. \nLocal Treats: Discover new chocolate creations from Prophecy Chocolate\, including Classic Maple and Wild New England bars\, crafted in Hardwick\, VT. \nCoffee Made with Love & Intention: Every cup we brew is a personal experience. We ask what intention you’d like to set for your day and infuse it into your drink as we pour it—making every sip as meaningful as it is delicious. \nNot Sure About Our Unique Coffee? We get it! If you’re on the fence\, we’re happy to offer samples of our Coconut Maple Coffee so you can experience the flavor before committing. \nLet’s make Saturdays uncommon together!
URL:https://commonstreet.org/event/the-uncommon-cafe-at-the-farmers-market/2025-01-04/
LOCATION:Sanctuary Lobby @ Common Street Spiritual Center
CATEGORIES:Community,Cultural,Food,Healing,Spiritual
ATTACH;FMTTYPE=image/jpeg:https://commonstreet.org/wp-content/uploads/2024/12/Uncommon-.jpeg
ORGANIZER;CN="Evan Schlosser":MAILTO:evanschlossercontact@gmail.com
END:VEVENT
BEGIN:VEVENT
DTSTART;TZID=America/New_York:20250104T193000
DTEND;TZID=America/New_York:20250104T213000
DTSTAMP:20260423T063308
CREATED:20241223T220715Z
LAST-MODIFIED:20241223T220715Z
UID:10018897-1736019000-1736026200@commonstreet.org
SUMMARY:Sufi Zikr and Whirling
DESCRIPTION:We are offering a practice of Mevlevi Sufi Zikr in the tradition of Rumi with Karim and Noor Kerima Payton\, Suleyman Loras and musicians friends from Orkestra Marhaba.\nJoin us for a magical experience of Mevlevi Sufi dancing and singing in celebration of Divine Presence. For over forty years\, the Mevlevi Order of America has offered gatherings with music\, poetry and dervish whirling and chanting. We will lead a Zikr practice in the tradition of Rumi.\n\nThe Mevlevi tradition hearkens back to Sufi master Rumi (1207-1273)\, who has become the best-selling poet in America. Rumi’s poetry is filled with a longing for God the Friend and the Beloved. His realization expressed the Source of all religions and spiritual paths\, the Way of Love\, that unites those of many cultures and traditions.\n‘Zikhr’\, a Sufi chanting practice\, means ‘Remembrance of God’. It awakens us from the state of forgetfulness\, forgetting why one has come to Earth. It is a channel opener which helps with attaining true knowledge.\nMusicians from Orkestra Marhaba will share devotional music played on traditional instruments. Everyone attending a Zikr is a participant; as the gathering unfolds\, all are tuned\, by the music and language of the Heart\, to the baraka (blessing)-filled atmosphere of love.\n\n“When a human being performs zikr\, their spirit—their heart starts to open. Their intelligence becomes more refined and more expansive. Their bodies become healthier. A beautiful condition comes about—similar to the one that is brought about by good music. The whole being opens up like a flower\, and the divine secret—the things you couldn’t understand or know about before—begin to be revealed to you.”Suleyman Hayati Dede\, founder of the Mevlevi Order of America\n\nSuggested donation: $20+ (cash or Venmo at the door)\nAdvance registration available at: https://www.eventbrite.com/…/sufi-zirk-and-whirling…\nAbout Marhaba: https://www.orkestramarhaba.com/#about-marhaba�\nAbout Mevlevi Order of America: http://hayatidede.org/aboutmoa
URL:https://commonstreet.org/event/sufi-zikr-and-whirling/
LOCATION:Common Street Spiritual Center\, 13 Common Street\, Natick\, 01760\, United States
CATEGORIES:Community,Dance,Music and Arts,Spiritual
ATTACH;FMTTYPE=image/jpeg:https://commonstreet.org/wp-content/uploads/2024/12/sufi-zikr.jpg
ORGANIZER;CN="Olga Cherenina":MAILTO:chereninaolga@gmail.com
END:VEVENT
END:VCALENDAR