BEGIN:VCALENDAR
VERSION:2.0
PRODID:-//Common Street Spiritual Center - ECPv6.15.20//NONSGML v1.0//EN
CALSCALE:GREGORIAN
METHOD:PUBLISH
X-WR-CALNAME:Common Street Spiritual Center
X-ORIGINAL-URL:https://commonstreet.org
X-WR-CALDESC:Events for Common Street Spiritual Center
REFRESH-INTERVAL;VALUE=DURATION:PT1H
X-Robots-Tag:noindex
X-PUBLISHED-TTL:PT1H
BEGIN:VTIMEZONE
TZID:America/New_York
BEGIN:DAYLIGHT
TZOFFSETFROM:-0500
TZOFFSETTO:-0400
TZNAME:EDT
DTSTART:20230312T070000
END:DAYLIGHT
BEGIN:STANDARD
TZOFFSETFROM:-0400
TZOFFSETTO:-0500
TZNAME:EST
DTSTART:20231105T060000
END:STANDARD
BEGIN:DAYLIGHT
TZOFFSETFROM:-0500
TZOFFSETTO:-0400
TZNAME:EDT
DTSTART:20240310T070000
END:DAYLIGHT
BEGIN:STANDARD
TZOFFSETFROM:-0400
TZOFFSETTO:-0500
TZNAME:EST
DTSTART:20241103T060000
END:STANDARD
BEGIN:DAYLIGHT
TZOFFSETFROM:-0500
TZOFFSETTO:-0400
TZNAME:EDT
DTSTART:20250309T070000
END:DAYLIGHT
BEGIN:STANDARD
TZOFFSETFROM:-0400
TZOFFSETTO:-0500
TZNAME:EST
DTSTART:20251102T060000
END:STANDARD
END:VTIMEZONE
BEGIN:VEVENT
DTSTART;TZID=America/New_York:20241224T233000
DTEND;TZID=America/New_York:20241225T003000
DTSTAMP:20260423T030145
CREATED:20241128T130535Z
LAST-MODIFIED:20241128T131210Z
UID:10018592-1735083000-1735086600@commonstreet.org
SUMMARY:Midnight Christ-Mass
DESCRIPTION:Join us as we gather\, just before midnight\, \nto celebrate the mystery of Christ’s birth\, \nto celebrate all the love and truth Jesus brought to this world\, \nand the mysterious way he continues to bring this love and truth to us after all these 2000+ years\, \nand to celebrate the birth and re-birth of God’s love \nas we experience it\, directly\, in our own lives. \n*** \nAll are welcome!All faiths\, all paths\, all love! \n*** \nThe Spiritual Center cultivates a pluralistic\, multi-faith\, inclusive and love-centered community. We offer this Midnight Christ-Mass as a free offering to members\, friends\, neighbors\, and strangers to our community. All are welcome\, including people of all ages! \nThis service will be facilitated and co-led by center director Rev. Dr. Ian Mevorach and others in the community. The service will include readings of scripture\, a very brief talk\, meditation\, burning of incense\, song\, and prayer. As we often do\, we will gather in a circle and there will be space and time for open sharing of poems\, prayers\, songs\, and words of wisdom from all who gather. \nIf you have something meaningful to share\, like a song\, a poem\, or a prayer\, please bring it with you in your heart and mind\, and perhaps on a sheet of paper too if helpful 🙂 \n*** \nWe look forward to celebrating together as a community at this special time! \n 
URL:https://commonstreet.org/event/midnight-christ-mass/
LOCATION:Sanctuary at Common Street Spiritual Center\, 13 Common Street\, Natick\, MA\, 01760\, United States
CATEGORIES:Children and Family,Community,Cultural,Meditation,Music and Arts,Spiritual
ATTACH;FMTTYPE=image/png:https://commonstreet.org/wp-content/uploads/2024/11/Midnight-Christ-Mass-2024.png
ORGANIZER;CN="Ian Mevorach":MAILTO:ian@commonstreet.org
END:VEVENT
END:VCALENDAR