BEGIN:VCALENDAR
VERSION:2.0
PRODID:-//Common Street Spiritual Center - ECPv6.15.20//NONSGML v1.0//EN
CALSCALE:GREGORIAN
METHOD:PUBLISH
X-WR-CALNAME:Common Street Spiritual Center
X-ORIGINAL-URL:https://commonstreet.org
X-WR-CALDESC:Events for Common Street Spiritual Center
REFRESH-INTERVAL;VALUE=DURATION:PT1H
X-Robots-Tag:noindex
X-PUBLISHED-TTL:PT1H
BEGIN:VTIMEZONE
TZID:America/New_York
BEGIN:DAYLIGHT
TZOFFSETFROM:-0500
TZOFFSETTO:-0400
TZNAME:EDT
DTSTART:20230312T070000
END:DAYLIGHT
BEGIN:STANDARD
TZOFFSETFROM:-0400
TZOFFSETTO:-0500
TZNAME:EST
DTSTART:20231105T060000
END:STANDARD
BEGIN:DAYLIGHT
TZOFFSETFROM:-0500
TZOFFSETTO:-0400
TZNAME:EDT
DTSTART:20240310T070000
END:DAYLIGHT
BEGIN:STANDARD
TZOFFSETFROM:-0400
TZOFFSETTO:-0500
TZNAME:EST
DTSTART:20241103T060000
END:STANDARD
BEGIN:DAYLIGHT
TZOFFSETFROM:-0500
TZOFFSETTO:-0400
TZNAME:EDT
DTSTART:20250309T070000
END:DAYLIGHT
BEGIN:STANDARD
TZOFFSETFROM:-0400
TZOFFSETTO:-0500
TZNAME:EST
DTSTART:20251102T060000
END:STANDARD
END:VTIMEZONE
BEGIN:VEVENT
DTSTART;TZID=America/New_York:20241004T183000
DTEND;TZID=America/New_York:20241004T220000
DTSTAMP:20260423T043400
CREATED:20240919T121623Z
LAST-MODIFIED:20240919T121623Z
UID:10017774-1728066600-1728079200@commonstreet.org
SUMMARY:Cacao and SoulDance Journey
DESCRIPTION:Join us for a Solar Eclipse/New Moon SoulDance journey on Friday\, Oct 4th at 6:30 PM at Common Street Spiritual Center.\n“..As above\, so below…”\n\nAll eclipses unveil the hidden in us. Let us prepare for the upcoming Eclipse by raising our awareness\, connecting with our body and soul purpose\, dancing with open hearts and minds\, elevating the consciousness collectively\, and calling harmony into our lives.\n\nThe program of the evening includes:Opening circle with a Sacred Cacao Ceremony followed by warming up and breathing exercises. We will then dive into the souldance journey and finish with a deep sound healing bath-meditation to integrate all the parts of that special evening and seal all the new downloads that will present themselves through the night.\n\nOn the SoundHealing live stage this eclipse we are very happy to collaborate with our old friends – Christine and Bobby of the Awarehouse Liberative Arts who will be guiding us at the end of the journey through a profound sound meditation. Please read more about them https://www.awarehousenyc.com/about.\n\nDoors will open at 6:15 PM. Please be on time for the opening circle at 6:30PM.\nBring a yoga mat\, water bottle\, and blanket for relaxation. Wear comfortable preferably light or colorful clothes (no black please).\nPay online via TicketLeap: https://www.ticketleap.events/tickets/souldance/oct4\nOR Venmo @gtur13\nEarly Bird price – $55 – pay by Oct 1stDoor price – $75\nFor CSSC Members:Early Bird price- $45 pay by Oct 1stDoor price – $65\nEasy to become a member***https://commonstreet.org/how-to-join/\nA discounted -“Pay what you can” option is available for a limited number of participants with a lack of funds. Please connect with us to use this option.\nPlease confirm your attendance and register by Oct 1st. The door price is still valid\, but we would appreciate if you reserve your spot a bit in advance.\nThank you.
URL:https://commonstreet.org/event/cacao-and-souldance-journey/
LOCATION:Common Street Spiritual Center\, 13 Common Street\, Natick\, 01760\, United States
CATEGORIES:Dance,Spiritual
ATTACH;FMTTYPE=image/jpeg:https://commonstreet.org/wp-content/uploads/2024/09/souldance-jounrey.jpg
ORGANIZER;CN="Gabriel Turetsky":MAILTO:gtur13@gmail.com
END:VEVENT
END:VCALENDAR