BEGIN:VCALENDAR
VERSION:2.0
PRODID:-//Common Street Spiritual Center - ECPv6.15.20//NONSGML v1.0//EN
CALSCALE:GREGORIAN
METHOD:PUBLISH
X-WR-CALNAME:Common Street Spiritual Center
X-ORIGINAL-URL:https://commonstreet.org
X-WR-CALDESC:Events for Common Street Spiritual Center
REFRESH-INTERVAL;VALUE=DURATION:PT1H
X-Robots-Tag:noindex
X-PUBLISHED-TTL:PT1H
BEGIN:VTIMEZONE
TZID:America/New_York
BEGIN:DAYLIGHT
TZOFFSETFROM:-0500
TZOFFSETTO:-0400
TZNAME:EDT
DTSTART:20230312T070000
END:DAYLIGHT
BEGIN:STANDARD
TZOFFSETFROM:-0400
TZOFFSETTO:-0500
TZNAME:EST
DTSTART:20231105T060000
END:STANDARD
BEGIN:DAYLIGHT
TZOFFSETFROM:-0500
TZOFFSETTO:-0400
TZNAME:EDT
DTSTART:20240310T070000
END:DAYLIGHT
BEGIN:STANDARD
TZOFFSETFROM:-0400
TZOFFSETTO:-0500
TZNAME:EST
DTSTART:20241103T060000
END:STANDARD
BEGIN:DAYLIGHT
TZOFFSETFROM:-0500
TZOFFSETTO:-0400
TZNAME:EDT
DTSTART:20250309T070000
END:DAYLIGHT
BEGIN:STANDARD
TZOFFSETFROM:-0400
TZOFFSETTO:-0500
TZNAME:EST
DTSTART:20251102T060000
END:STANDARD
END:VTIMEZONE
BEGIN:VEVENT
DTSTART;TZID=America/New_York:20241002T190000
DTEND;TZID=America/New_York:20241002T203000
DTSTAMP:20260423T043357
CREATED:20240911T202741Z
LAST-MODIFIED:20240911T202741Z
UID:10017646-1727895600-1727901000@commonstreet.org
SUMMARY:New Moon Sound Healing Experience
DESCRIPTION:This sound healing experience with Lara & Nicole will take you on a powerful journey through the deep potential of this new moon. In community\, we will explore the inner landscape of this dream time and to get in touch with our inner guidance and vision. The guiding sounds of Himalayan and crystal bowls\, gongs\, Burmese bells\, tuning forks\, drums\, and more will support us to tune our instrument to the turning of the earth\, and our sacred path forwards. \n$22-44 Sliding scale\nVenmo\, Paypal @prismlighthealing\nOR Cash at the door \nPlease bring mats\, pillows\, perhaps an eye mask\, a water bottle\, and anything else you may need for your comfort to sit or lay down for this journey. \nDate & Time: Wednesday October 2 7-8:30pm\nFlyer: See attached!
URL:https://commonstreet.org/event/new-moon-sound-healing-experience/
LOCATION:Sanctuary at Common Street Spiritual Center\, 13 Common Street\, Natick\, MA\, 01760\, United States
CATEGORIES:Meditation,Music and Arts,Spiritual
ATTACH;FMTTYPE=image/jpeg:https://commonstreet.org/wp-content/uploads/2024/09/New-Moon-SH-10.2.jpg
ORGANIZER;CN="Nicole Ward":MAILTO:info@prismlighthealing.com
END:VEVENT
END:VCALENDAR