BEGIN:VCALENDAR
VERSION:2.0
PRODID:-//Common Street Spiritual Center - ECPv6.15.20//NONSGML v1.0//EN
CALSCALE:GREGORIAN
METHOD:PUBLISH
X-WR-CALNAME:Common Street Spiritual Center
X-ORIGINAL-URL:https://commonstreet.org
X-WR-CALDESC:Events for Common Street Spiritual Center
REFRESH-INTERVAL;VALUE=DURATION:PT1H
X-Robots-Tag:noindex
X-PUBLISHED-TTL:PT1H
BEGIN:VTIMEZONE
TZID:America/New_York
BEGIN:DAYLIGHT
TZOFFSETFROM:-0500
TZOFFSETTO:-0400
TZNAME:EDT
DTSTART:20240310T070000
END:DAYLIGHT
BEGIN:STANDARD
TZOFFSETFROM:-0400
TZOFFSETTO:-0500
TZNAME:EST
DTSTART:20241103T060000
END:STANDARD
BEGIN:DAYLIGHT
TZOFFSETFROM:-0500
TZOFFSETTO:-0400
TZNAME:EDT
DTSTART:20250309T070000
END:DAYLIGHT
BEGIN:STANDARD
TZOFFSETFROM:-0400
TZOFFSETTO:-0500
TZNAME:EST
DTSTART:20251102T060000
END:STANDARD
BEGIN:DAYLIGHT
TZOFFSETFROM:-0500
TZOFFSETTO:-0400
TZNAME:EDT
DTSTART:20260308T070000
END:DAYLIGHT
BEGIN:STANDARD
TZOFFSETFROM:-0400
TZOFFSETTO:-0500
TZNAME:EST
DTSTART:20261101T060000
END:STANDARD
END:VTIMEZONE
BEGIN:VEVENT
DTSTART;TZID=America/New_York:20250302T170000
DTEND;TZID=America/New_York:20250302T180000
DTSTAMP:20260423T061221
CREATED:20250102T010721Z
LAST-MODIFIED:20250102T010721Z
UID:10019193-1740934800-1740938400@commonstreet.org
SUMMARY:Healing Yoga for Everyone - Winter Series
DESCRIPTION:We heal one breath at a time. A safe and nurturing practice guides us gently into our inner experience\, where we can explore the layers of our experience. The winter series honors the quiet and stillness of the season\, bringing in breath work and movement that can build heat\, welcome in rest\, and brings in light. Each class will open with Pranayama (guided breath work)\, evolve into a gentle yoga flow\, and will wrap with a guided meditation.\nAll are welcome\, and modifications will be offered. Please bring a mat. \nJanuary 5th\, 5 PM\nJanuary 12 (no class)\nJanuary 19\, 5 PM\nJanuary 26\, 5 PM\nFebruary 2\, 5 PM\nFebruary 9\, 5 PM\nFebruary 16 (no class)\nFebruary 23\, 5 PM \nDrop-in: $20 non-members / $15 members (join here: https://commonstreet.org/how-to-join/)\, cash at the door\, or venmo @Maria-Vasilevsky
URL:https://commonstreet.org/event/healing-yoga-for-everyone-winter-series/2025-03-02/
LOCATION:Common Street Spiritual Center\, 13 Common Street\, Natick\, 01760\, United States
CATEGORIES:Community,Healing,Meditation,Peace and Justice,Small Group,Spiritual,Yoga
ATTACH;FMTTYPE=image/png:https://commonstreet.org/wp-content/uploads/2025/01/IMG_3304.png
ORGANIZER;CN="Maria Vasilevsky":MAILTO:she.who.oms@gmail.com
END:VEVENT
BEGIN:VEVENT
DTSTART;TZID=America/New_York:20250309T170000
DTEND;TZID=America/New_York:20250309T180000
DTSTAMP:20260423T061221
CREATED:20250102T010721Z
LAST-MODIFIED:20250102T010721Z
UID:10019194-1741539600-1741543200@commonstreet.org
SUMMARY:Healing Yoga for Everyone - Winter Series
DESCRIPTION:We heal one breath at a time. A safe and nurturing practice guides us gently into our inner experience\, where we can explore the layers of our experience. The winter series honors the quiet and stillness of the season\, bringing in breath work and movement that can build heat\, welcome in rest\, and brings in light. Each class will open with Pranayama (guided breath work)\, evolve into a gentle yoga flow\, and will wrap with a guided meditation.\nAll are welcome\, and modifications will be offered. Please bring a mat. \nJanuary 5th\, 5 PM\nJanuary 12 (no class)\nJanuary 19\, 5 PM\nJanuary 26\, 5 PM\nFebruary 2\, 5 PM\nFebruary 9\, 5 PM\nFebruary 16 (no class)\nFebruary 23\, 5 PM \nDrop-in: $20 non-members / $15 members (join here: https://commonstreet.org/how-to-join/)\, cash at the door\, or venmo @Maria-Vasilevsky
URL:https://commonstreet.org/event/healing-yoga-for-everyone-winter-series/2025-03-09/
LOCATION:Common Street Spiritual Center\, 13 Common Street\, Natick\, 01760\, United States
CATEGORIES:Community,Healing,Meditation,Peace and Justice,Small Group,Spiritual,Yoga
ATTACH;FMTTYPE=image/png:https://commonstreet.org/wp-content/uploads/2025/01/IMG_3304.png
ORGANIZER;CN="Maria Vasilevsky":MAILTO:she.who.oms@gmail.com
END:VEVENT
BEGIN:VEVENT
DTSTART;TZID=America/New_York:20250316T170000
DTEND;TZID=America/New_York:20250316T180000
DTSTAMP:20260423T061221
CREATED:20250102T010721Z
LAST-MODIFIED:20250102T010721Z
UID:10019195-1742144400-1742148000@commonstreet.org
SUMMARY:Healing Yoga for Everyone - Winter Series
DESCRIPTION:We heal one breath at a time. A safe and nurturing practice guides us gently into our inner experience\, where we can explore the layers of our experience. The winter series honors the quiet and stillness of the season\, bringing in breath work and movement that can build heat\, welcome in rest\, and brings in light. Each class will open with Pranayama (guided breath work)\, evolve into a gentle yoga flow\, and will wrap with a guided meditation.\nAll are welcome\, and modifications will be offered. Please bring a mat. \nJanuary 5th\, 5 PM\nJanuary 12 (no class)\nJanuary 19\, 5 PM\nJanuary 26\, 5 PM\nFebruary 2\, 5 PM\nFebruary 9\, 5 PM\nFebruary 16 (no class)\nFebruary 23\, 5 PM \nDrop-in: $20 non-members / $15 members (join here: https://commonstreet.org/how-to-join/)\, cash at the door\, or venmo @Maria-Vasilevsky
URL:https://commonstreet.org/event/healing-yoga-for-everyone-winter-series/2025-03-16/
LOCATION:Common Street Spiritual Center\, 13 Common Street\, Natick\, 01760\, United States
CATEGORIES:Community,Healing,Meditation,Peace and Justice,Small Group,Spiritual,Yoga
ATTACH;FMTTYPE=image/png:https://commonstreet.org/wp-content/uploads/2025/01/IMG_3304.png
ORGANIZER;CN="Maria Vasilevsky":MAILTO:she.who.oms@gmail.com
END:VEVENT
BEGIN:VEVENT
DTSTART;TZID=America/New_York:20250429T180000
DTEND;TZID=America/New_York:20250429T200000
DTSTAMP:20260423T061221
CREATED:20250407T192436Z
LAST-MODIFIED:20250407T192623Z
UID:10020908-1745949600-1745956800@commonstreet.org
SUMMARY:Book Club: The Power of Now
DESCRIPTION:This group would be a good fit for people who follow or are interested in meditation and/or the spiritual teachings of Eckhart Tolle. We will read the book The Power of Now in our own time and come together as a group to share what stood out to us the most and reflect on how what we are learning applies to our own lives. Along with discussion\, we will engage in meditation practice and journaling. A copy of The Power of Now would be needed to fully participate\, but people are welcome to sit in on the discussion and participate in activities even if they don’t have the book. A journal/sketchbook would also be a supportive tool. We will meet every other week to allow time and space for reading\, reflection\, and processing on our own between meetings.
URL:https://commonstreet.org/event/book-club-the-power-of-now/2025-04-29/
LOCATION:Meeting Room of CSSC
CATEGORIES:Small Group
ATTACH;FMTTYPE=image/png:https://commonstreet.org/wp-content/uploads/2025/04/Book-Club.png
ORGANIZER;CN="Amber Joy Whitefeather":MAILTO:aisaac44@comcast.net
END:VEVENT
BEGIN:VEVENT
DTSTART;TZID=America/New_York:20250513T180000
DTEND;TZID=America/New_York:20250513T200000
DTSTAMP:20260423T061221
CREATED:20250407T192436Z
LAST-MODIFIED:20250407T192623Z
UID:10020909-1747159200-1747166400@commonstreet.org
SUMMARY:Book Club: The Power of Now
DESCRIPTION:This group would be a good fit for people who follow or are interested in meditation and/or the spiritual teachings of Eckhart Tolle. We will read the book The Power of Now in our own time and come together as a group to share what stood out to us the most and reflect on how what we are learning applies to our own lives. Along with discussion\, we will engage in meditation practice and journaling. A copy of The Power of Now would be needed to fully participate\, but people are welcome to sit in on the discussion and participate in activities even if they don’t have the book. A journal/sketchbook would also be a supportive tool. We will meet every other week to allow time and space for reading\, reflection\, and processing on our own between meetings.
URL:https://commonstreet.org/event/book-club-the-power-of-now/2025-05-13/
LOCATION:Meeting Room of CSSC
CATEGORIES:Small Group
ATTACH;FMTTYPE=image/png:https://commonstreet.org/wp-content/uploads/2025/04/Book-Club.png
ORGANIZER;CN="Amber Joy Whitefeather":MAILTO:aisaac44@comcast.net
END:VEVENT
BEGIN:VEVENT
DTSTART;TZID=America/New_York:20250527T180000
DTEND;TZID=America/New_York:20250527T200000
DTSTAMP:20260423T061221
CREATED:20250407T192436Z
LAST-MODIFIED:20250407T192623Z
UID:10020910-1748368800-1748376000@commonstreet.org
SUMMARY:Book Club: The Power of Now
DESCRIPTION:This group would be a good fit for people who follow or are interested in meditation and/or the spiritual teachings of Eckhart Tolle. We will read the book The Power of Now in our own time and come together as a group to share what stood out to us the most and reflect on how what we are learning applies to our own lives. Along with discussion\, we will engage in meditation practice and journaling. A copy of The Power of Now would be needed to fully participate\, but people are welcome to sit in on the discussion and participate in activities even if they don’t have the book. A journal/sketchbook would also be a supportive tool. We will meet every other week to allow time and space for reading\, reflection\, and processing on our own between meetings.
URL:https://commonstreet.org/event/book-club-the-power-of-now/2025-05-27/
LOCATION:Meeting Room of CSSC
CATEGORIES:Small Group
ATTACH;FMTTYPE=image/png:https://commonstreet.org/wp-content/uploads/2025/04/Book-Club.png
ORGANIZER;CN="Amber Joy Whitefeather":MAILTO:aisaac44@comcast.net
END:VEVENT
BEGIN:VEVENT
DTSTART;TZID=America/New_York:20250610T180000
DTEND;TZID=America/New_York:20250610T200000
DTSTAMP:20260423T061221
CREATED:20250407T192436Z
LAST-MODIFIED:20250407T192623Z
UID:10020911-1749578400-1749585600@commonstreet.org
SUMMARY:Book Club: The Power of Now
DESCRIPTION:This group would be a good fit for people who follow or are interested in meditation and/or the spiritual teachings of Eckhart Tolle. We will read the book The Power of Now in our own time and come together as a group to share what stood out to us the most and reflect on how what we are learning applies to our own lives. Along with discussion\, we will engage in meditation practice and journaling. A copy of The Power of Now would be needed to fully participate\, but people are welcome to sit in on the discussion and participate in activities even if they don’t have the book. A journal/sketchbook would also be a supportive tool. We will meet every other week to allow time and space for reading\, reflection\, and processing on our own between meetings.
URL:https://commonstreet.org/event/book-club-the-power-of-now/2025-06-10/
LOCATION:Meeting Room of CSSC
CATEGORIES:Small Group
ATTACH;FMTTYPE=image/png:https://commonstreet.org/wp-content/uploads/2025/04/Book-Club.png
ORGANIZER;CN="Amber Joy Whitefeather":MAILTO:aisaac44@comcast.net
END:VEVENT
BEGIN:VEVENT
DTSTART;TZID=America/New_York:20250803T130000
DTEND;TZID=America/New_York:20250803T143000
DTSTAMP:20260423T061221
CREATED:20250521T180434Z
LAST-MODIFIED:20250521T180649Z
UID:10022946-1754226000-1754231400@commonstreet.org
SUMMARY:Study and Integration
DESCRIPTION:Study and IntegrationBi-weekly Sundays at 1:00pmFacilitated by Ian Mevorach\, Director of the Common Street Spiritual Center \nYou’re warmly invited to join Study and Integration\, a bi-weekly spiritual gathering dedicated to deepening our relationship with both sacred texts and our own direct spiritual experiences. \nEvery other Sunday\, we will come together in a confidential and supportive circle to explore the scriptures and sacred writings of the world’s spiritual traditions—texts brought by participants and approached with reverence\, curiosity\, and contemplative openness. We’ll study not just with our minds\, but with our hearts and lives—listening for how the divine speaks through the words and symbols of many paths. \nOn alternating Sundays\, we’ll shift our focus to integration—sharing and grounding our own spiritual experiences in community. These may be moments of awakening\, struggle\, clarity\, or divine encounter. Together\, we will reflect on how these experiences shape our lives and how they resonate with the sacred texts we study. \nThis group is an opportunity to journey together over time\, learning from each other’s traditions\, insights\, and transformations. You’re encouraged to bring sacred texts that are meaningful to you and a willingness to engage in honest\, spirit-led reflection. \nAll are welcome—whether you’re rooted in a specific tradition or seeking across many. Come with your questions\, your wisdom\, and your wonder.
URL:https://commonstreet.org/event/study-and-integration/
LOCATION:Meeting Room of CSSC
CATEGORIES:Community,Meditation,Small Group,Spiritual
ATTACH;FMTTYPE=image/png:https://commonstreet.org/wp-content/uploads/2025/05/May-21-2025-02_06_14-PM.png
ORGANIZER;CN="Ian Mevorach":MAILTO:ian@commonstreet.org
END:VEVENT
END:VCALENDAR