BEGIN:VCALENDAR
VERSION:2.0
PRODID:-//Common Street Spiritual Center - ECPv6.15.20//NONSGML v1.0//EN
CALSCALE:GREGORIAN
METHOD:PUBLISH
X-WR-CALNAME:Common Street Spiritual Center
X-ORIGINAL-URL:https://commonstreet.org
X-WR-CALDESC:Events for Common Street Spiritual Center
REFRESH-INTERVAL;VALUE=DURATION:PT1H
X-Robots-Tag:noindex
X-PUBLISHED-TTL:PT1H
BEGIN:VTIMEZONE
TZID:America/New_York
BEGIN:DAYLIGHT
TZOFFSETFROM:-0500
TZOFFSETTO:-0400
TZNAME:EDT
DTSTART:20220313T070000
END:DAYLIGHT
BEGIN:STANDARD
TZOFFSETFROM:-0400
TZOFFSETTO:-0500
TZNAME:EST
DTSTART:20221106T060000
END:STANDARD
BEGIN:DAYLIGHT
TZOFFSETFROM:-0500
TZOFFSETTO:-0400
TZNAME:EDT
DTSTART:20230312T070000
END:DAYLIGHT
BEGIN:STANDARD
TZOFFSETFROM:-0400
TZOFFSETTO:-0500
TZNAME:EST
DTSTART:20231105T060000
END:STANDARD
BEGIN:DAYLIGHT
TZOFFSETFROM:-0500
TZOFFSETTO:-0400
TZNAME:EDT
DTSTART:20240310T070000
END:DAYLIGHT
BEGIN:STANDARD
TZOFFSETFROM:-0400
TZOFFSETTO:-0500
TZNAME:EST
DTSTART:20241103T060000
END:STANDARD
END:VTIMEZONE
BEGIN:VEVENT
DTSTART;TZID=America/New_York:20231108T120000
DTEND;TZID=America/New_York:20231108T124000
DTSTAMP:20260425T145127
CREATED:20230919T012942Z
LAST-MODIFIED:20230919T020249Z
UID:10011262-1699444800-1699447200@commonstreet.org
SUMMARY:Book Discussion: Decolonizing Wealth
DESCRIPTION:CSSC member and Outreach Coordinator for Family Promise Metrowest Paula Brown will facilitate a  series of discussions related to Decolonizing Wealth by Edgar Villaneuva\, a renowned activist\, author\, and philanthropy expert who offers a crucial perspective on wealth and philanthropy. As a member of the Lumbee Tribe of North Carolina\, Villanueva advises a diverse range of organizations on social impact strategies\, working with philanthropic entities\, Fortune 500 corporations\, and entertainment enterprises. His work empowers communities\, giving them control over their own narratives and representations while striving for increased visibility across all sectors of society. In “Decolonizing Wealth\,” he examines the role of colonialism in philanthropy\, the wealth gap\, and the prevailing power dynamics in modern philanthropic structures.
URL:https://commonstreet.org/event/book-discussion-decolonizing-wealth/2023-11-08/
LOCATION:Online
CATEGORIES:Community,Cultural,Dialogue,Peace and Justice
ATTACH;FMTTYPE=image/png:https://commonstreet.org/wp-content/uploads/2023/09/Book-Club-Postcard.png
ORGANIZER;CN="Paula Brown":MAILTO:Paulabrown222@gmail.com
END:VEVENT
BEGIN:VEVENT
DTSTART;TZID=America/New_York:20231111T140000
DTEND;TZID=America/New_York:20231111T170000
DTSTAMP:20260425T145127
CREATED:20231024T021202Z
LAST-MODIFIED:20231107T031758Z
UID:10011917-1699711200-1699722000@commonstreet.org
SUMMARY:Skills for Bridging the Divide a Braver Angels Workshop
DESCRIPTION:In our current polarized political environment\, many people avoid or dread political conversations with friends or family members whose politics differ from their own. They worry\, rightly so\, that any attempts at political discussions will devolve into arguments and acrimony\, and result in hurt feelings or anger. \nBraver Angels Skills for Bridging the Divide Workshops teach skills for having respectful conversations that clarify differences\, search for common ground\, and affirm the importance of the relationship. They also give participants a safe environment to practice those skills. \nThis workshop is approximately 2 ½ hours long.
URL:https://commonstreet.org/event/skills-for-bridging-the-divide-a-braver-angels-workshop/
CATEGORIES:Dialogue,Healing,Peace and Justice,Workshop
ORGANIZER;CN="Julien":MAILTO:lafleur.julien@gmail.com
END:VEVENT
BEGIN:VEVENT
DTSTART;TZID=America/New_York:20231112T103000
DTEND;TZID=America/New_York:20231112T120000
DTSTAMP:20260425T145127
CREATED:20231019T182519Z
LAST-MODIFIED:20231019T182520Z
UID:10006444-1699785000-1699790400@commonstreet.org
SUMMARY:Open Circle Gathering
DESCRIPTION:The Open Circle is a weekly gathering of like-minded spiritual seekers who show up to connect authentically\, share our truths\, and be held in the space of a growth-oriented and loving community.\n\nIn the Open Circle\, everyone has a chance to contribute as we move around the circle. You’re welcome to bring poems\, songs\, prayers\, and insights to share.\n\nFree and open to the public–yes\, you can simply show up!\n\nIf you’re new to Open Circle\, you’re welcome to register here so you can be in the loop for future gatherings: https://forms.gle/Aa18ZuGfyy4Nv3gq7\\n\nThe Spiritual Center community is holding space for change in the lives of our members and in our world.\n*we embrace diverse forms of spiritual practice and artistic expression\n*we cultivate a hopeful societal vision built on principles of compassion and justice\n*we support the growth of a consciousness of interconnection across human differences and between people and the whole web of life around us\n*we build authentic community based on principles like love\, respect\, kindness\, and collaboration\n\nIf this resonates\, please join us! You’re welcome to become a member simply by filling out the form on this page: www.commonstreet.org/membership\n\nOur current schedule for Open Circle is that we are meeting in person on 1st\, 2nd\, and 4th Sundays\, and virtually or hybrid on 3rd Sundays. 1st Sundays include a potluck brunch and are less formal. However\, in 2023 we are experimenting with a hybrid 3rd Sundays\, with both in person and virtual options.
URL:https://commonstreet.org/event/sunday-circle-in-person-3-2-2-2/2023-11-12/
CATEGORIES:Children and Family,Community,Meditation,Music and Arts,Peace and Justice,Spiritual,Youth
ATTACH;FMTTYPE=image/png:https://commonstreet.org/wp-content/uploads/2023/07/Open-Circle-General-7_17_231.png
ORGANIZER;CN="Ian Mevorach":MAILTO:ian@commonstreet.org
END:VEVENT
END:VCALENDAR