BEGIN:VCALENDAR
VERSION:2.0
PRODID:-//Common Street Spiritual Center - ECPv6.15.20//NONSGML v1.0//EN
CALSCALE:GREGORIAN
METHOD:PUBLISH
X-ORIGINAL-URL:https://commonstreet.org
X-WR-CALDESC:Events for Common Street Spiritual Center
REFRESH-INTERVAL;VALUE=DURATION:PT1H
X-Robots-Tag:noindex
X-PUBLISHED-TTL:PT1H
BEGIN:VTIMEZONE
TZID:America/New_York
BEGIN:DAYLIGHT
TZOFFSETFROM:-0500
TZOFFSETTO:-0400
TZNAME:EDT
DTSTART:20240310T070000
END:DAYLIGHT
BEGIN:STANDARD
TZOFFSETFROM:-0400
TZOFFSETTO:-0500
TZNAME:EST
DTSTART:20241103T060000
END:STANDARD
BEGIN:DAYLIGHT
TZOFFSETFROM:-0500
TZOFFSETTO:-0400
TZNAME:EDT
DTSTART:20250309T070000
END:DAYLIGHT
BEGIN:STANDARD
TZOFFSETFROM:-0400
TZOFFSETTO:-0500
TZNAME:EST
DTSTART:20251102T060000
END:STANDARD
BEGIN:DAYLIGHT
TZOFFSETFROM:-0500
TZOFFSETTO:-0400
TZNAME:EDT
DTSTART:20260308T070000
END:DAYLIGHT
BEGIN:STANDARD
TZOFFSETFROM:-0400
TZOFFSETTO:-0500
TZNAME:EST
DTSTART:20261101T060000
END:STANDARD
END:VTIMEZONE
BEGIN:VEVENT
DTSTART;TZID=America/New_York:20250406T103000
DTEND;TZID=America/New_York:20250406T120000
DTSTAMP:20260422T060807
CREATED:20230428T125747Z
LAST-MODIFIED:20230504T225055Z
UID:10006402-1743935400-1743940800@commonstreet.org
SUMMARY:Open Circle and Community Brunch
DESCRIPTION:On the first Sundays of the month\, we combine our Open Circle Gathering with a community potluck brunch.\n\nWe gather and connect in a more relaxed\, less structured way\, yet with threads of meaning and spirituality tying it all together.\n\n\nYou’re welcome\, if it would bring you joy\, to contribute a food or drink item to share as part of the community brunch. Another option is to bring non-perishable food or toiletry items for our free mini-pantry.\n\nIf you’re new to Open Circle\, you’re welcome to sign up here so you can be in the loop for future gatherings: https://forms.gle/Aa18ZuGfyy4Nv3gq7\n\nOur community is finding a creative place in the spiritual world\, where new forms of spiritual practice\, artistic expression\, and self-awareness are emerging to support humanity to meet the challenges of our times. We are finding balance within ourselves\, making peace across differences\, and stepping up to protect the Earth.\n\nWe welcome folks of all beliefs and backgrounds to build community with us as we align around a hopeful sense of common purpose. To become a member\, please fill out the membership form here: www.commonstreet.org/membership
URL:https://commonstreet.org/event/open-circle-and-community-brunch/2025-04-06/
CATEGORIES:Children and Family,Community,Cultural,Food,Meditation,Peace and Justice,Spiritual,Youth
ATTACH;FMTTYPE=image/png:https://commonstreet.org/wp-content/uploads/2023/04/Open-Circle-and-Brunch-GENERAL.png
ORGANIZER;CN="Ian Mevorach":MAILTO:ian@commonstreet.org
END:VEVENT
BEGIN:VEVENT
DTSTART;TZID=America/New_York:20250406T103000
DTEND;TZID=America/New_York:20250406T120000
DTSTAMP:20260422T060807
CREATED:20231119T115923Z
LAST-MODIFIED:20240405T123054Z
UID:10007358-1743935400-1743940800@commonstreet.org
SUMMARY:Open Circle Gathering
DESCRIPTION:The Open Circle is a weekly gathering of like-minded spiritual seekers who show up to connect authentically\, share our truths\, and be held in the space of a growth-oriented and loving community.\n\nIn the Open Circle\, everyone has a chance to contribute as we move around the circle. You’re welcome to bring poems\, songs\, prayers\, and insights to share.\n\nFree and open to the public–yes\, you can simply show up!\n\nIf you’re new to Open Circle\, you’re welcome to register here so you can be in the loop for future gatherings: https://forms.gle/Aa18ZuGfyy4Nv3gq7\\n\nThe Spiritual Center community is holding space for change in the lives of our members and in our world.\n*we embrace diverse forms of spiritual practice and artistic expression\n*we cultivate a hopeful societal vision built on principles of compassion and justice\n*we support the growth of a consciousness of interconnection across human differences and between people and the whole web of life around us\n*we build authentic community based on principles like love\, respect\, kindness\, and collaboration\n\nIf this resonates\, please join us! You’re welcome to become a member simply by filling out the form on this page: www.commonstreet.org/membership
URL:https://commonstreet.org/event/sunday-circle-in-person-3-2-2-2-2/2025-04-06/
CATEGORIES:Children and Family,Community,Meditation,Music and Arts,Peace and Justice,Spiritual,Youth
ATTACH;FMTTYPE=image/png:https://commonstreet.org/wp-content/uploads/2023/07/Open-Circle-General-7_17_231.png
ORGANIZER;CN="Ian Mevorach":MAILTO:ian@commonstreet.org
END:VEVENT
BEGIN:VEVENT
DTSTART;TZID=America/New_York:20250410T183000
DTEND;TZID=America/New_York:20250410T200000
DTSTAMP:20260422T060807
CREATED:20250303T135553Z
LAST-MODIFIED:20250308T173831Z
UID:10020700-1744309800-1744315200@commonstreet.org
SUMMARY:QMMUNITY: Connecting with LGBTQIA+ Neighbors
DESCRIPTION:Join us as we connect the community of LGBTQIA+ neighbors in Natick and beyond. \nThis is a gathering of LGBTQIA+ neighbors to create a sense of belonging in a time of uneasiness and uncertainty. The goal is to bring together like-minded folks to get to know each other\, discuss what’s on the mind\, and create community and connection. This event can be used as a conduit for organizing\, fun projects\, support\, activism\, and a starting point for additional meetings and gatherings. \nThis community event is free. \nSnacks will be served. \nSign-up is encouraged: https://forms.gle/msTCJMMNi3Chnp7E7 \nContact Rich at QMMUNITYGroup@gmail.com for more information.
URL:https://commonstreet.org/event/qmmunity-connecting-with-lgbtqia-neighbors-2/
LOCATION:Common Street Spiritual Center\, 13 Common Street\, Natick\, 01760\, United States
CATEGORIES:Community,Dialogue,Healing,Peace and Justice,Talk
ATTACH;FMTTYPE=image/png:https://commonstreet.org/wp-content/uploads/2025/03/QMMUNITY_4.10.25-gathering.png
ORGANIZER;CN="Rich Overton":MAILTO:QMMUNITYGroup@gmail.com
END:VEVENT
BEGIN:VEVENT
DTSTART;TZID=America/New_York:20250413T103000
DTEND;TZID=America/New_York:20250413T120000
DTSTAMP:20260422T060807
CREATED:20231119T115923Z
LAST-MODIFIED:20240405T123054Z
UID:10006461-1744540200-1744545600@commonstreet.org
SUMMARY:Open Circle Gathering
DESCRIPTION:The Open Circle is a weekly gathering of like-minded spiritual seekers who show up to connect authentically\, share our truths\, and be held in the space of a growth-oriented and loving community.\n\nIn the Open Circle\, everyone has a chance to contribute as we move around the circle. You’re welcome to bring poems\, songs\, prayers\, and insights to share.\n\nFree and open to the public–yes\, you can simply show up!\n\nIf you’re new to Open Circle\, you’re welcome to register here so you can be in the loop for future gatherings: https://forms.gle/Aa18ZuGfyy4Nv3gq7\\n\nThe Spiritual Center community is holding space for change in the lives of our members and in our world.\n*we embrace diverse forms of spiritual practice and artistic expression\n*we cultivate a hopeful societal vision built on principles of compassion and justice\n*we support the growth of a consciousness of interconnection across human differences and between people and the whole web of life around us\n*we build authentic community based on principles like love\, respect\, kindness\, and collaboration\n\nIf this resonates\, please join us! You’re welcome to become a member simply by filling out the form on this page: www.commonstreet.org/membership
URL:https://commonstreet.org/event/sunday-circle-in-person-3-2-2-2-2/2025-04-13/
CATEGORIES:Children and Family,Community,Meditation,Music and Arts,Peace and Justice,Spiritual,Youth
ATTACH;FMTTYPE=image/png:https://commonstreet.org/wp-content/uploads/2023/07/Open-Circle-General-7_17_231.png
ORGANIZER;CN="Ian Mevorach":MAILTO:ian@commonstreet.org
END:VEVENT
BEGIN:VEVENT
DTSTART;TZID=America/New_York:20250427T103000
DTEND;TZID=America/New_York:20250427T120000
DTSTAMP:20260422T060807
CREATED:20231119T115923Z
LAST-MODIFIED:20240405T123054Z
UID:10007360-1745749800-1745755200@commonstreet.org
SUMMARY:Open Circle Gathering
DESCRIPTION:The Open Circle is a weekly gathering of like-minded spiritual seekers who show up to connect authentically\, share our truths\, and be held in the space of a growth-oriented and loving community.\n\nIn the Open Circle\, everyone has a chance to contribute as we move around the circle. You’re welcome to bring poems\, songs\, prayers\, and insights to share.\n\nFree and open to the public–yes\, you can simply show up!\n\nIf you’re new to Open Circle\, you’re welcome to register here so you can be in the loop for future gatherings: https://forms.gle/Aa18ZuGfyy4Nv3gq7\\n\nThe Spiritual Center community is holding space for change in the lives of our members and in our world.\n*we embrace diverse forms of spiritual practice and artistic expression\n*we cultivate a hopeful societal vision built on principles of compassion and justice\n*we support the growth of a consciousness of interconnection across human differences and between people and the whole web of life around us\n*we build authentic community based on principles like love\, respect\, kindness\, and collaboration\n\nIf this resonates\, please join us! You’re welcome to become a member simply by filling out the form on this page: www.commonstreet.org/membership
URL:https://commonstreet.org/event/sunday-circle-in-person-3-2-2-2-2/2025-04-27/
CATEGORIES:Children and Family,Community,Meditation,Music and Arts,Peace and Justice,Spiritual,Youth
ATTACH;FMTTYPE=image/png:https://commonstreet.org/wp-content/uploads/2023/07/Open-Circle-General-7_17_231.png
ORGANIZER;CN="Ian Mevorach":MAILTO:ian@commonstreet.org
END:VEVENT
BEGIN:VEVENT
DTSTART;TZID=America/New_York:20250427T180000
DTEND;TZID=America/New_York:20250427T200000
DTSTAMP:20260422T060807
CREATED:20250409T201307Z
LAST-MODIFIED:20250409T201959Z
UID:10020912-1745776800-1745784000@commonstreet.org
SUMMARY:Community Amidst Chaos
DESCRIPTION:In this time of political uncertainty\, where our values are being contradicted in shocking ways\, we are calling our community together. \nTogether let’s gather to share our pain and find empowerment. \nIn this gathering\, our hope is to bring together like-minded people to first of all support and steady ourselves. We also want to begin forming the connections and having the conversations that will move us into cooperative work. \nOur goal is to build\, over time\, a shared sense of vision so we can take hopeful action together towards creating the world we want to see.If you want\, please bring a snack or drink item to share. We’ll begin and end the gathering with informal social time.
URL:https://commonstreet.org/event/community-amidst-chaos/
LOCATION:Common Street Spiritual Center\, 13 Common Street\, Natick\, 01760\, United States
CATEGORIES:Community,Healing,Peace and Justice
ATTACH;FMTTYPE=image/png:https://commonstreet.org/wp-content/uploads/2025/04/Community-Amidst-Chaos.png
ORGANIZER;CN="Ian Mevorach":MAILTO:ian@commonstreet.org
END:VEVENT
END:VCALENDAR