BEGIN:VCALENDAR
VERSION:2.0
PRODID:-//Common Street Spiritual Center - ECPv6.15.20//NONSGML v1.0//EN
CALSCALE:GREGORIAN
METHOD:PUBLISH
X-WR-CALNAME:Common Street Spiritual Center
X-ORIGINAL-URL:https://commonstreet.org
X-WR-CALDESC:Events for Common Street Spiritual Center
REFRESH-INTERVAL;VALUE=DURATION:PT1H
X-Robots-Tag:noindex
X-PUBLISHED-TTL:PT1H
BEGIN:VTIMEZONE
TZID:America/New_York
BEGIN:DAYLIGHT
TZOFFSETFROM:-0500
TZOFFSETTO:-0400
TZNAME:EDT
DTSTART:20250309T070000
END:DAYLIGHT
BEGIN:STANDARD
TZOFFSETFROM:-0400
TZOFFSETTO:-0500
TZNAME:EST
DTSTART:20251102T060000
END:STANDARD
BEGIN:DAYLIGHT
TZOFFSETFROM:-0500
TZOFFSETTO:-0400
TZNAME:EDT
DTSTART:20260308T070000
END:DAYLIGHT
BEGIN:STANDARD
TZOFFSETFROM:-0400
TZOFFSETTO:-0500
TZNAME:EST
DTSTART:20261101T060000
END:STANDARD
BEGIN:DAYLIGHT
TZOFFSETFROM:-0500
TZOFFSETTO:-0400
TZNAME:EDT
DTSTART:20270314T070000
END:DAYLIGHT
BEGIN:STANDARD
TZOFFSETFROM:-0400
TZOFFSETTO:-0500
TZNAME:EST
DTSTART:20271107T060000
END:STANDARD
END:VTIMEZONE
BEGIN:VEVENT
DTSTART;TZID=America/New_York:20260209T110000
DTEND;TZID=America/New_York:20260209T120000
DTSTAMP:20260425T101237
CREATED:20260120T040623Z
LAST-MODIFIED:20260120T041040Z
UID:10026510-1770634800-1770638400@commonstreet.org
SUMMARY:Mindful Monday - Virtual
DESCRIPTION:Join us for an 8 week meditative journey of renewal featuring gentle breath-work and the healing resonance of Tibetan singing bowls. \nThere are two ways to join: \n\nVirtual (Zoom): 11:00 AM – 12:00 PM \nRegistration form: https://forms.gle/SbztvKW4texrewKeA \n  \n\n\nIn-Person: 6:00 PM – 7:00 PM at Common Street Spiritual Center\,  Studio \n\n\nRegistration form: https://forms.gle/gda5WN73Zuu9eUzy9 \n\n  \n\n\n\n  \nWhether you’re a seasoned meditator or just starting out\, all are welcome. \nemail whitefeatherhealing44@gmail.com for more information or to receive the Zoom link.
URL:https://commonstreet.org/event/mindful-monday-virtual/2026-02-09/
LOCATION:Virtual Meeting
CATEGORIES:Meditation
ATTACH;FMTTYPE=image/png:https://commonstreet.org/wp-content/uploads/2026/01/mindfulmonday.png
ORGANIZER;CN="Amber Joy Whitefeather":MAILTO:aisaac44@comcast.net
END:VEVENT
BEGIN:VEVENT
DTSTART;TZID=America/New_York:20260209T180000
DTEND;TZID=America/New_York:20260209T190000
DTSTAMP:20260425T101237
CREATED:20260120T040831Z
LAST-MODIFIED:20260120T041704Z
UID:10026526-1770660000-1770663600@commonstreet.org
SUMMARY:Mindful Monday - In-person
DESCRIPTION:Join us for an 8 week meditative journey of renewal featuring gentle breath-work and the healing resonance of Tibetan singing bowls. \nThere are two ways to join:\n \n\n\nIn-Person: 6:00 PM – 7:00 PM at Common Street Spiritual Center\,  Studio \n\n\nRegistration form: https://forms.gle/gda5WN73Zuu9eUzy9 \n  \n\n\nVirtual (Zoom): 11:00 AM – 12:00 PM \n\n\nRegistration form: https://forms.gle/SbztvKW4texrewKeA \n\n\nWhether you’re a seasoned meditator or just starting out\, all are welcome. \nemail whitefeatherhealing44@gmail.com for more information or to receive the Zoom link.
URL:https://commonstreet.org/event/mindful-monday-in-person/2026-02-09/
LOCATION:Studio @ Common Street\, 13 Common Street\, Natick\, MA\, 01760\, United States
CATEGORIES:Meditation
ATTACH;FMTTYPE=image/png:https://commonstreet.org/wp-content/uploads/2026/01/IMG_2985.png
ORGANIZER;CN="Amber Joy Whitefeather":MAILTO:aisaac44@comcast.net
END:VEVENT
BEGIN:VEVENT
DTSTART;TZID=America/New_York:20260210T190000
DTEND;TZID=America/New_York:20260210T203000
DTSTAMP:20260425T101237
CREATED:20250901T123654Z
LAST-MODIFIED:20250901T123846Z
UID:10023473-1770750000-1770755400@commonstreet.org
SUMMARY:Chanting and Meditation Group
DESCRIPTION:This chanting and meditation group is designed to tap into our inner freedom. We will have two 15 minute sessions of chanting and two 30 minute sessions of meditation. Through the actions of chanting and meditation\, the aim is to free all the thoughts and emotions stuck within our minds and bodies. And over time\, the goal is to free ourselves from our unconscious programming we have built over our lifetimes and deepen our connection with Spirit.\n\n\nThe event is free and open to the community. Donations are welcome but not required and can be sent via Venmo to @Emmanuel-Weinman or by cash.\n\n\nFor any questions or comments\, please contact Emmanuel Krishna by email: emanwman@gmail.com or phone: 978-578-9707
URL:https://commonstreet.org/event/chanting-and-meditation-group-2-2-4/2026-02-10/
LOCATION:Moon Room @ Common Street Spiritual Center\, 13 Common Street\, Natick\, 01760\, United States
CATEGORIES:Community,Healing,Meditation,Spiritual
ATTACH;FMTTYPE=image/jpeg:https://commonstreet.org/wp-content/uploads/2025/06/B139037B-783E-4ADD-A76D-11F2999685B31.jpg
ORGANIZER;CN="Emmanuel Krishna Weinman":MAILTO:emanwman@gmail.com
END:VEVENT
BEGIN:VEVENT
DTSTART;TZID=America/New_York:20260214T090000
DTEND;TZID=America/New_York:20260214T100000
DTSTAMP:20260425T101237
CREATED:20250908T234413Z
LAST-MODIFIED:20250909T161747Z
UID:10024080-1771059600-1771063200@commonstreet.org
SUMMARY:Mohanji Meditations
DESCRIPTION:The Mohanji Meditation is a powerful heart-opening guided meditation that offers release from binding patterns through love and gratitude. \nAll are welcome. No prior experience necessary.
URL:https://commonstreet.org/event/mohanji-meditations-12-2/2026-02-14/
LOCATION:Meeting Room of CSSC
CATEGORIES:Class,Healing,Meditation,Spiritual
ATTACH;FMTTYPE=image/png:https://commonstreet.org/wp-content/uploads/2025/09/Mohanji-Meditations.png
ORGANIZER;CN="Supriya Karan":MAILTO:supriyakaran@yahoo.com
END:VEVENT
BEGIN:VEVENT
DTSTART;TZID=America/New_York:20260215T080000
DTEND;TZID=America/New_York:20260215T090000
DTSTAMP:20260425T101237
CREATED:20260129T174003Z
LAST-MODIFIED:20260129T174005Z
UID:10024632-1771142400-1771146000@commonstreet.org
SUMMARY:Intro to Qi Gong
DESCRIPTION:Intro to Qi Gong \nHow to cultivate balance in body and mind and improve your life energy (Qi) \nTime: Sundays from 8am – 9am\n \nQi Gong is a centuries-old system of coordinated body-posture and movement\, breathing\, and meditation used for the purposes of health\, spirituality\, and martial-arts training. These practices help cultivate concentration\, peace of mind\, strengthen and tone your body all at once. \nAll are welcome. No prior experience required. \nSuggested donation: $5-10 \nMeets in the Fellowship Hall downstairs.  Enter through the school street door and come downstairs to find us. \nAbout the Instructor: \nWei Li grew up in Mainland\, China. She earned her Ph.D. in Biology at Tufts University in 2005. Since 2010\, she has been studying Qi Gong and Tai Chi with Master Ming Wu and Master Shi Zhao. She finished her Fengyang Qi Gong Associate Instructor training in 2020 and has been teaching Qi Gong since at Wu Healing Center and Morse Institute Library.
URL:https://commonstreet.org/event/intro-to-qi-gong-2-2-4/2026-02-15/
LOCATION:Moon Room @ Common Street Spiritual Center\, 13 Common Street\, Natick\, 01760\, United States
CATEGORIES:Class,Community,Cultural,Healing,Meditation,Spiritual
ATTACH;FMTTYPE=image/jpeg:https://commonstreet.org/wp-content/uploads/2025/10/Intro-to-Qi-Gong-May-2023.jpg
ORGANIZER;CN="Wei Li":MAILTO:weili2155@gmail.com
END:VEVENT
BEGIN:VEVENT
DTSTART;TZID=America/New_York:20260215T103000
DTEND;TZID=America/New_York:20260215T120000
DTSTAMP:20260425T101237
CREATED:20251021T183005Z
LAST-MODIFIED:20251021T183009Z
UID:10007392-1771151400-1771156800@commonstreet.org
SUMMARY:Open Circle Gathering
DESCRIPTION:The Open Circle is a weekly gathering of like-minded spiritual seekers who show up to connect authentically\, share our truths\, and be held in the space of a growth-oriented and loving community.\n\nIn the Open Circle\, everyone has a chance to contribute as we move around the circle. You’re welcome to bring poems\, songs\, prayers\, and insights to share.\n\nFree and open to the public–yes\, you can simply show up!\n\nIf you’re new to Open Circle\, you’re welcome to register here so you can be in the loop for future gatherings: https://forms.gle/Aa18ZuGfyy4Nv3gq7\\n\nThe Spiritual Center community is holding space for change in the lives of our members and in our world.\n*we embrace diverse forms of spiritual practice and artistic expression\n*we cultivate a hopeful societal vision built on principles of compassion and justice\n*we support the growth of a consciousness of interconnection across human differences and between people and the whole web of life around us\n*we build authentic community based on principles like love\, respect\, kindness\, and collaboration\n\nIf this resonates\, please join us!
URL:https://commonstreet.org/event/sunday-circle-in-person-3-2-2-2-2-10-3-2/2026-02-15/
CATEGORIES:Children and Family,Community,Meditation,Music and Arts,Peace and Justice,Spiritual,Youth
ATTACH;FMTTYPE=image/png:https://commonstreet.org/wp-content/uploads/2023/11/Open-Circle-5-18-25.png
ORGANIZER;CN="Anne Lafleur":MAILTO:anne@commonstreet.org
END:VEVENT
END:VCALENDAR