BEGIN:VCALENDAR
VERSION:2.0
PRODID:-//Common Street Spiritual Center - ECPv6.15.20//NONSGML v1.0//EN
CALSCALE:GREGORIAN
METHOD:PUBLISH
X-WR-CALNAME:Common Street Spiritual Center
X-ORIGINAL-URL:https://commonstreet.org
X-WR-CALDESC:Events for Common Street Spiritual Center
REFRESH-INTERVAL;VALUE=DURATION:PT1H
X-Robots-Tag:noindex
X-PUBLISHED-TTL:PT1H
BEGIN:VTIMEZONE
TZID:America/New_York
BEGIN:DAYLIGHT
TZOFFSETFROM:-0500
TZOFFSETTO:-0400
TZNAME:EDT
DTSTART:20240310T070000
END:DAYLIGHT
BEGIN:STANDARD
TZOFFSETFROM:-0400
TZOFFSETTO:-0500
TZNAME:EST
DTSTART:20241103T060000
END:STANDARD
BEGIN:DAYLIGHT
TZOFFSETFROM:-0500
TZOFFSETTO:-0400
TZNAME:EDT
DTSTART:20250309T070000
END:DAYLIGHT
BEGIN:STANDARD
TZOFFSETFROM:-0400
TZOFFSETTO:-0500
TZNAME:EST
DTSTART:20251102T060000
END:STANDARD
BEGIN:DAYLIGHT
TZOFFSETFROM:-0500
TZOFFSETTO:-0400
TZNAME:EDT
DTSTART:20260308T070000
END:DAYLIGHT
BEGIN:STANDARD
TZOFFSETFROM:-0400
TZOFFSETTO:-0500
TZNAME:EST
DTSTART:20261101T060000
END:STANDARD
END:VTIMEZONE
BEGIN:VEVENT
DTSTART;TZID=America/New_York:20250801T183000
DTEND;TZID=America/New_York:20250801T210000
DTSTAMP:20260425T145150
CREATED:20250528T164948Z
LAST-MODIFIED:20250528T164948Z
UID:10022967-1754073000-1754082000@commonstreet.org
SUMMARY:Sacred Gospel Reading
DESCRIPTION:Experience Jesus’ message of love holistically in an inclusive spiritual setting\, without any dogma or sectarianism blocking the way.\n\nFri\, August 1st\, Doors at 630pm to give people time to have tea and settle in. The reading begins at 7pm with a brief opening ceremony of prayer\, intentions\, and song.\n\nThe heart of this event is a spirited reading of the entire Gospel of Luke facilitated by Rev. Dr. Ian Mevorach\, director of the Common Street Spiritual Center; he has been a student of Jesus and other great prophets and spiritual teachers for over 20 years.\n\nThe.reading of the Gospel will be offered without explanation or interpretation\, in trust that it speaks for itself.\n\nAfter the reading\, we’ll have a time for integration\, sharing\, and a closing prayer.\n\nThe goal of this Sacred Gospel Reading is  is not to convert participants to any form or sect of Christianity\, but rather to create an inclusive and dynamic space where people of diverse belief systems and philosophical perspectives can share in an authentic experience of the teachings and story of Jesus\, which sends a message of love that transcends religious categories and forms.\n\nPeople of all beliefs\, spiritual paths\, and religious identities\, and those who do not identify as religious and/or spiritual\, are all equally welcome to participate\, and people of all ages are also welcome. There is no charge to attend\, though donations to the Spiritual Center are always welcome at www.commonstreet.org/give.\n\nWhat to bring:Water bottle\, yoga mat and/or meditation cushion to sit on (or you can borrow one\, or use a chair)\, a journal (optional)\, Bible (optional if you want to read along)\, blanket (optional)\, mug for coffee/tea (or we’ll have paper cups).\nFor questions\, or to volunteer\, please contact Ian at ian@commonstreet.org
URL:https://commonstreet.org/event/sacred-gospel-reading/
LOCATION:Common Street Spiritual Center\, 13 Common Street\, Natick\, 01760\, United States
CATEGORIES:Children and Family,Community,Meditation,Music and Arts,Spiritual
ATTACH;FMTTYPE=image/png:https://commonstreet.org/wp-content/uploads/2025/05/August-Sacred-Gospel-Reading.png
ORGANIZER;CN="Ian Mevorach":MAILTO:ian@commonstreet.org
END:VEVENT
END:VCALENDAR