BEGIN:VCALENDAR
VERSION:2.0
PRODID:-//Common Street Spiritual Center - ECPv6.15.20//NONSGML v1.0//EN
CALSCALE:GREGORIAN
METHOD:PUBLISH
X-WR-CALNAME:Common Street Spiritual Center
X-ORIGINAL-URL:https://commonstreet.org
X-WR-CALDESC:Events for Common Street Spiritual Center
REFRESH-INTERVAL;VALUE=DURATION:PT1H
X-Robots-Tag:noindex
X-PUBLISHED-TTL:PT1H
BEGIN:VTIMEZONE
TZID:America/New_York
BEGIN:DAYLIGHT
TZOFFSETFROM:-0500
TZOFFSETTO:-0400
TZNAME:EDT
DTSTART:20240310T070000
END:DAYLIGHT
BEGIN:STANDARD
TZOFFSETFROM:-0400
TZOFFSETTO:-0500
TZNAME:EST
DTSTART:20241103T060000
END:STANDARD
BEGIN:DAYLIGHT
TZOFFSETFROM:-0500
TZOFFSETTO:-0400
TZNAME:EDT
DTSTART:20250309T070000
END:DAYLIGHT
BEGIN:STANDARD
TZOFFSETFROM:-0400
TZOFFSETTO:-0500
TZNAME:EST
DTSTART:20251102T060000
END:STANDARD
BEGIN:DAYLIGHT
TZOFFSETFROM:-0500
TZOFFSETTO:-0400
TZNAME:EDT
DTSTART:20260308T070000
END:DAYLIGHT
BEGIN:STANDARD
TZOFFSETFROM:-0400
TZOFFSETTO:-0500
TZNAME:EST
DTSTART:20261101T060000
END:STANDARD
END:VTIMEZONE
BEGIN:VEVENT
DTSTART;TZID=America/New_York:20250610T190000
DTEND;TZID=America/New_York:20250610T204500
DTSTAMP:20260425T161620
CREATED:20250519T143954Z
LAST-MODIFIED:20250519T144720Z
UID:10022880-1749582000-1749588300@commonstreet.org
SUMMARY:Evening Yoga Class
DESCRIPTION:The class will incorporate Hatha Yoga asanas\, gentle joint warm up based in flowing circular movements and elements of breathing and concentration. For about an hour we will focus on spinal alignment and tension release through yoga asana practice followed by a short practice of breathing exercises and/or meditation techniques. \nThe class will meet on Tuesday evenings with some exceptions. Meets in the Moon Room upstairs. Enter through the school street door and take the stairs up. \nDonations are welcome. \nPlease email Olga with any questions: chereninaolga@gmail.com
URL:https://commonstreet.org/event/evening-yoga-class-2/2025-06-10/
LOCATION:Common Street Spiritual Center\, 13 Common Street\, Natick\, 01760\, United States
CATEGORIES:Class,Community,Meditation,Spiritual,Yoga
ATTACH;FMTTYPE=image/png:https://commonstreet.org/wp-content/uploads/2025/05/Evening_Yoga_generic.png
ORGANIZER;CN="Olga Cherenina":MAILTO:chereninaolga@gmail.com
END:VEVENT
END:VCALENDAR